BEGIN:VCALENDAR
VERSION:2.0
PRODID:-//EUDEL Noticias | Asociación de Municipios Vascos - ECPv6.5.1.3//NONSGML v1.0//EN
CALSCALE:GREGORIAN
METHOD:PUBLISH
X-WR-CALNAME:EUDEL Noticias | Asociación de Municipios Vascos
X-ORIGINAL-URL:https://noticias.eudel.eus
X-WR-CALDESC:Eventos para EUDEL Noticias | Asociación de Municipios Vascos
REFRESH-INTERVAL;VALUE=DURATION:PT1H
X-Robots-Tag:noindex
X-PUBLISHED-TTL:PT1H
BEGIN:VTIMEZONE
TZID:Europe/Madrid
BEGIN:DAYLIGHT
TZOFFSETFROM:+0100
TZOFFSETTO:+0200
TZNAME:CEST
DTSTART:20180325T010000
END:DAYLIGHT
BEGIN:STANDARD
TZOFFSETFROM:+0200
TZOFFSETTO:+0100
TZNAME:CET
DTSTART:20181028T010000
END:STANDARD
END:VTIMEZONE
BEGIN:VEVENT
DTSTART;TZID=Europe/Madrid:20181005T093000
DTEND;TZID=Europe/Madrid:20181005T133000
DTSTAMP:20260425T043617
CREATED:20180426T153539Z
LAST-MODIFIED:20180426T153539Z
UID:18090-1538731800-1538746200@noticias.eudel.eus
SUMMARY:09:30 h. Bilbao (Archivo Foral de Bizkaia). Seminario Vasco de Derecho Local. Cuarta sesión.09:30. Bilbao (Bizkaiko Foru Agiritegi Historikoa). Tokiko Zuzenbidearen Euskal Mintegia. Laugarren saioa.
DESCRIPTION:
URL:https://noticias.eudel.eus/evento/0930-h-bilbao-archivo-foral-de-bizkaia-seminario-vasco-de-derecho-local-cuarta-sesion/
LOCATION:ARABA
CATEGORIES:General
END:VEVENT
BEGIN:VEVENT
DTSTART;TZID=Europe/Madrid:20181016T153000
DTEND;TZID=Europe/Madrid:20181016T170000
DTSTAMP:20260425T043617
CREATED:20181205T171409Z
LAST-MODIFIED:20181205T171409Z
UID:19352-1539703800-1539709200@noticias.eudel.eus
SUMMARY:15:30 h. Vitoria-Gasteiz. Consejo Territorial de Administración Local y Finanzas de Álava.15:30. Vitoria-Gasteiz. Arabako Toki Administrazio eta Finantzen Lurralde Kontseilua.
DESCRIPTION:
URL:https://noticias.eudel.eus/evento/1530-h-vitoria-gasteiz-consejo-territorial-de-administracion-local-y-finanzas-de-alava/
LOCATION:ARABA
CATEGORIES:General
END:VEVENT
BEGIN:VEVENT
DTSTART;TZID=Europe/Madrid:20181019T123000
DTEND;TZID=Europe/Madrid:20181019T143000
DTSTAMP:20260425T043617
CREATED:20181205T171408Z
LAST-MODIFIED:20181205T171408Z
UID:19350-1539952200-1539959400@noticias.eudel.eus
SUMMARY:12:30 h. Vitoria-Gasteiz. Consejo de participación de las víctimas de terrorismo.12:30. Vitoria-Gasteiz. Terrorismoaren Biktimen Partaidetzarako Euskal Kontseilua.
DESCRIPTION:
URL:https://noticias.eudel.eus/evento/1230-h-vitoria-gasteiz-consejo-de-participacion-de-las-victimas-de-terrorismo/
LOCATION:ARABA
CATEGORIES:General
END:VEVENT
BEGIN:VEVENT
DTSTART;TZID=Europe/Madrid:20181024T090000
DTEND;TZID=Europe/Madrid:20181024T103000
DTSTAMP:20260425T043617
CREATED:20181205T171408Z
LAST-MODIFIED:20181205T171408Z
UID:19349-1540371600-1540377000@noticias.eudel.eus
SUMMARY:09:00 h. Vitoria-Gasteiz. Comisión Urbanismo de Álava.09:00. Vitoria-Gasteiz. Arabako Hirigintza Batzordea.
DESCRIPTION:
URL:https://noticias.eudel.eus/evento/0900-h-vitoria-gasteiz-comision-urbanismo-de-alava/
LOCATION:ARABA
CATEGORIES:General
END:VEVENT
BEGIN:VEVENT
DTSTART;TZID=Europe/Madrid:20181025T100000
DTEND;TZID=Europe/Madrid:20181025T113000
DTSTAMP:20260425T043617
CREATED:20181205T171408Z
LAST-MODIFIED:20181205T171408Z
UID:19348-1540461600-1540467000@noticias.eudel.eus
SUMMARY:10:00 h. Bilbao. Comisión de Garantías de Admisión de Alumnos de Bizkaia.10:00. Bilbao. Bizkaiko Ikasleen Onarpen Bermerako Batzordea.
DESCRIPTION:
URL:https://noticias.eudel.eus/evento/1000-h-bilbao-comision-de-garantias-de-admision-de-alumnos-de-bizkaia/
LOCATION:ARABA
CATEGORIES:General
END:VEVENT
BEGIN:VEVENT
DTSTART;TZID=Europe/Madrid:20181025T100000
DTEND;TZID=Europe/Madrid:20181025T120000
DTSTAMP:20260425T043617
CREATED:20181205T171408Z
LAST-MODIFIED:20181205T171408Z
UID:19346-1540461600-1540468800@noticias.eudel.eus
SUMMARY:10:00 h. Vitoria-Gasteiz. Comisión de Seguimiento sobre el Brexit10:00. Vitoria-Gasteiz. Brexit-ari buruzko Jarraipen Batzordea
DESCRIPTION:
URL:https://noticias.eudel.eus/evento/1000-h-vitoria-gasteiz-comision-de-seguimiento-sobre-el-brexit-2/
LOCATION:ARABA
CATEGORIES:General
END:VEVENT
BEGIN:VEVENT
DTSTART;TZID=Europe/Madrid:20181029T130000
DTEND;TZID=Europe/Madrid:20181029T150000
DTSTAMP:20260425T043617
CREATED:20181205T171409Z
LAST-MODIFIED:20181205T171409Z
UID:19351-1540818000-1540825200@noticias.eudel.eus
SUMMARY:13:00 h. Bilbao. Consejo de Dirección GOGORA.13:00. Bilbao. GOGORA Zuzendaritza Batzordea.
DESCRIPTION:
URL:https://noticias.eudel.eus/evento/1300-h-bilbao-consejo-de-direccion-gogora/
LOCATION:ARABA
CATEGORIES:General
END:VEVENT
BEGIN:VEVENT
DTSTART;TZID=Europe/Madrid:20181029T140000
DTEND;TZID=Europe/Madrid:20181029T180000
DTSTAMP:20260425T043617
CREATED:20181205T171408Z
LAST-MODIFIED:20181205T171408Z
UID:19344-1540821600-1540836000@noticias.eudel.eus
SUMMARY:14:00 h. Bruselas. Secretarios Generales del Consejo de Municipios y Regiones de Europa (CMRE).14:00. Bruselas. Europako Udal eta Eskualdeen Kontseiluaren Idazkari nagusiak.
DESCRIPTION:
URL:https://noticias.eudel.eus/evento/1400-h-bruselas-secretarios-generales-del-consejo-de-municipios-y-regiones-de-europa-cmre/
LOCATION:ARABA
CATEGORIES:General
END:VEVENT
BEGIN:VEVENT
DTSTART;TZID=Europe/Madrid:20181029T170000
DTEND;TZID=Europe/Madrid:20181029T180000
DTSTAMP:20260425T043617
CREATED:20181205T171408Z
LAST-MODIFIED:20181205T171408Z
UID:19342-1540832400-1540836000@noticias.eudel.eus
SUMMARY:17:00 h. Vitoria-Gasteiz. Jurado "Premios consumo 2018".17:00. Vitoria-Gasteiz. “Kontsumo Sariak 2018” delakoaren Epaimahaia.
DESCRIPTION:
URL:https://noticias.eudel.eus/evento/1700-h-vitoria-gasteiz-jurado-premios-consumo-2018/
LOCATION:ARABA
CATEGORIES:General
END:VEVENT
BEGIN:VEVENT
DTSTART;TZID=Europe/Madrid:20181030T093000
DTEND;TZID=Europe/Madrid:20181030T110000
DTSTAMP:20260425T043617
CREATED:20181205T171408Z
LAST-MODIFIED:20181205T171408Z
UID:19347-1540891800-1540897200@noticias.eudel.eus
SUMMARY:09:30 h. Bilbao. Bilbao Action Group.09:30. Bilbao. Bilbao Action Group.
DESCRIPTION:
URL:https://noticias.eudel.eus/evento/0930-h-bilbao-bilbao-action-group/
LOCATION:ARABA
CATEGORIES:General
END:VEVENT
BEGIN:VEVENT
DTSTART;TZID=Europe/Madrid:20181030T093000
DTEND;TZID=Europe/Madrid:20181030T133000
DTSTAMP:20260425T043617
CREATED:20181205T171408Z
LAST-MODIFIED:20181205T171408Z
UID:19343-1540891800-1540906200@noticias.eudel.eus
SUMMARY:09:30 h. Bruselas. Secretarios Generales del Consejo de Municipios y Regiones de Europa (CMRE).09:30. Bruselas. Europako Udal eta Eskualdeen Kontseiluaren Idazkari nagusiak.
DESCRIPTION:
URL:https://noticias.eudel.eus/evento/0930-h-bruselas-secretarios-generales-del-consejo-de-municipios-y-regiones-de-europa-cmre/
LOCATION:ARABA
CATEGORIES:General
END:VEVENT
END:VCALENDAR