BEGIN:VCALENDAR
VERSION:2.0
PRODID:-//EUDEL Noticias | Asociación de Municipios Vascos - ECPv6.5.1.3//NONSGML v1.0//EN
CALSCALE:GREGORIAN
METHOD:PUBLISH
X-ORIGINAL-URL:https://noticias.eudel.eus
X-WR-CALDESC:Eventos para EUDEL Noticias | Asociación de Municipios Vascos
REFRESH-INTERVAL;VALUE=DURATION:PT1H
X-Robots-Tag:noindex
X-PUBLISHED-TTL:PT1H
BEGIN:VTIMEZONE
TZID:Europe/Madrid
BEGIN:DAYLIGHT
TZOFFSETFROM:+0100
TZOFFSETTO:+0200
TZNAME:CEST
DTSTART:20180325T010000
END:DAYLIGHT
BEGIN:STANDARD
TZOFFSETFROM:+0200
TZOFFSETTO:+0100
TZNAME:CET
DTSTART:20181028T010000
END:STANDARD
END:VTIMEZONE
BEGIN:VEVENT
DTSTART;TZID=Europe/Madrid:20181105T100000
DTEND;TZID=Europe/Madrid:20181105T120000
DTSTAMP:20260425T031310
CREATED:20181205T171408Z
LAST-MODIFIED:20181205T171408Z
UID:19345-1541412000-1541419200@noticias.eudel.eus
SUMMARY:10:00 h. Vitoria-Gasteiz. Consejo Consultivo del Plan de Convivencia y Derechos Humanos 2017-202010:00. Vitoria-Gasteiz. 2017-2020rako Bizikidetzaren eta Giza Eskubideen Planaren Aholku Batzordearen bilera.
DESCRIPTION:
URL:https://noticias.eudel.eus/evento/1000-h-vitoria-gasteiz-consejo-consultivo-del-plan-de-convivencia-y-derechos-humanos-2017-2020/
LOCATION:ARABA
CATEGORIES:General
END:VEVENT
BEGIN:VEVENT
DTSTART;TZID=Europe/Madrid:20181106T090000
DTEND;TZID=Europe/Madrid:20181106T180000
DTSTAMP:20260425T031310
CREATED:20181205T171408Z
LAST-MODIFIED:20181205T171408Z
UID:19340-1541494800-1541527200@noticias.eudel.eus
SUMMARY:09:00 h. Estrasburgo. 35ª Sesión plenaria CPLRE (Consejo de Poderes Locales y Regionales de Europa)09:00. Estrasburgo. 35. Osoko bilkura ETEBK (Europako Toki eta Eskualde Botereen Kontseilua)
DESCRIPTION:
URL:https://noticias.eudel.eus/evento/0900-h-estrasburgo-35a-sesion-plenaria-cplre-consejo-de-poderes-locales-y-regionales-de-europa/
LOCATION:ARABA
CATEGORIES:General
END:VEVENT
BEGIN:VEVENT
DTSTART;TZID=Europe/Madrid:20181107T163000
DTEND;TZID=Europe/Madrid:20181107T180000
DTSTAMP:20260425T031310
CREATED:20181205T171407Z
LAST-MODIFIED:20181205T171407Z
UID:19337-1541608200-1541613600@noticias.eudel.eus
SUMMARY:16:30 h. Vitoria-Gasteiz. Consejo Vasco de Políticas Públicas Locales.16:30. Vitoria-Gasteiz. Tokiko Politika Publikoen Euskal Kontseilua.
DESCRIPTION:
URL:https://noticias.eudel.eus/evento/1630-h-vitoria-gasteiz-consejo-vasco-de-politicas-publicas-locales/
LOCATION:ARABA
CATEGORIES:General
END:VEVENT
BEGIN:VEVENT
DTSTART;TZID=Europe/Madrid:20181108T090000
DTEND;TZID=Europe/Madrid:20181108T120000
DTSTAMP:20260425T031310
CREATED:20181205T171408Z
LAST-MODIFIED:20181205T171408Z
UID:19341-1541667600-1541678400@noticias.eudel.eus
SUMMARY:09:00 h. EUDEL Vitoria-Gasteiz. Comisión Territorial de Álava de EUDEL.09:00. EUDEL Vitoria-Gasteiz. EUDELeko Arabako Lurralde Batzordea.
DESCRIPTION:
URL:https://noticias.eudel.eus/evento/0900-h-eudel-vitoria-gasteiz-comision-territorial-de-alava-de-eudel/
LOCATION:ARABA
CATEGORIES:General
END:VEVENT
BEGIN:VEVENT
DTSTART;TZID=Europe/Madrid:20181108T160000
DTEND;TZID=Europe/Madrid:20181108T173000
DTSTAMP:20260425T031310
CREATED:20181205T171408Z
LAST-MODIFIED:20181205T171408Z
UID:19339-1541692800-1541698200@noticias.eudel.eus
SUMMARY:16:00 h. Vitoria-Gasteiz. Comisión Interinstitucional para la Inclusión Social.16:00. Vitoria-Gasteiz. Gizarteratzeko Erakudendeen arteko Batzordea.
DESCRIPTION:
URL:https://noticias.eudel.eus/evento/1600-h-vitoria-gasteiz-comision-interinstitucional-para-la-inclusion-social/
LOCATION:ARABA
CATEGORIES:General
END:VEVENT
BEGIN:VEVENT
DTSTART;TZID=Europe/Madrid:20181109T093000
DTEND;TZID=Europe/Madrid:20181109T133000
DTSTAMP:20260425T031310
CREATED:20180426T153539Z
LAST-MODIFIED:20180426T153539Z
UID:18089-1541755800-1541770200@noticias.eudel.eus
SUMMARY:09:30 h. Bilbao (Archivo Foral de Bizkaia). Seminario Vasco de Derecho Local. Quinta sesión.09:30. Bilbao (Bizkaiko Foru Agiritegi Historikoa). Tokiko Zuzenbidearen Euskal Mintegia. Bosgarren saioa.
DESCRIPTION:
URL:https://noticias.eudel.eus/evento/0930-h-bilbao-archivo-foral-de-bizkaia-seminario-vasco-de-derecho-local-quinta-sesion/
LOCATION:ARABA
CATEGORIES:General
END:VEVENT
BEGIN:VEVENT
DTSTART;TZID=Europe/Madrid:20181109T100000
DTEND;TZID=Europe/Madrid:20181109T113000
DTSTAMP:20260425T031310
CREATED:20181205T171408Z
LAST-MODIFIED:20181205T171408Z
UID:19338-1541757600-1541763000@noticias.eudel.eus
SUMMARY:10:00 h. Vitoria-Gasteiz. Comisión Permanente Sectorial de Atención a la Infancia y Adolescencia10:00. Vitoria-Gasteiz. Haur eta Nerabeen Arretarako Batzorde Iraunkor Sektoriala
DESCRIPTION:
URL:https://noticias.eudel.eus/evento/1000-h-vitoria-gasteiz-comision-permanente-sectorial-de-atencion-a-la-infancia-y-adolescencia/
LOCATION:ARABA
CATEGORIES:General
END:VEVENT
BEGIN:VEVENT
DTSTART;TZID=Europe/Madrid:20181112T180000
DTEND;TZID=Europe/Madrid:20181112T190000
DTSTAMP:20260425T031310
CREATED:20181205T171407Z
LAST-MODIFIED:20181205T171407Z
UID:19336-1542045600-1542049200@noticias.eudel.eus
SUMMARY:18:00 h. Vitoria-Gasteiz. Consejo Territorial del Deporte Escolar de Álava.18:00. Vitoria-Gasteiz. Arabako Eskolako Kirolaren Lurralde Kontseilua.
DESCRIPTION:
URL:https://noticias.eudel.eus/evento/1800-h-vitoria-gasteiz-consejo-territorial-del-deporte-escolar-de-alava/
LOCATION:ARABA
CATEGORIES:General
END:VEVENT
BEGIN:VEVENT
DTSTART;TZID=Europe/Madrid:20181114T093000
DTEND;TZID=Europe/Madrid:20181114T110000
DTSTAMP:20260425T031310
CREATED:20181205T171407Z
LAST-MODIFIED:20181205T171407Z
UID:19334-1542187800-1542193200@noticias.eudel.eus
SUMMARY:09:30 h. Vitoria-Gasteiz. Consejo Vasco de Juego.09:30. Vitoria-Gasteiz. Jokoaren Euskal Kontseilua.
DESCRIPTION:
URL:https://noticias.eudel.eus/evento/0930-h-vitoria-gasteiz-consejo-vasco-de-juego/
LOCATION:ARABA
CATEGORIES:General
END:VEVENT
BEGIN:VEVENT
DTSTART;TZID=Europe/Madrid:20181114T093000
DTEND;TZID=Europe/Madrid:20181114T113000
DTSTAMP:20260425T031310
CREATED:20181205T171407Z
LAST-MODIFIED:20181205T171407Z
UID:19333-1542187800-1542195000@noticias.eudel.eus
SUMMARY:09:30 h. Vitoria-Gasteiz. Comisión de Ordenación del Territorio del País Vasco.09:30. Vitoria-Gasteiz. Euskal Autonomia Erkidegoko Lurraldearen Antolamendurako Batzordea.
DESCRIPTION:
URL:https://noticias.eudel.eus/evento/0930-h-vitoria-gasteiz-comision-de-ordenacion-del-territorio-del-pais-vasco-3/
LOCATION:ARABA
CATEGORIES:General
END:VEVENT
BEGIN:VEVENT
DTSTART;TZID=Europe/Madrid:20181114T093000
DTEND;TZID=Europe/Madrid:20181114T133000
DTSTAMP:20260425T031310
CREATED:20181205T171407Z
LAST-MODIFIED:20181205T171407Z
UID:19335-1542187800-1542202200@noticias.eudel.eus
SUMMARY:09:30 h. EUDEL Bilbao. Comisión Ejecutiva de EUDEL.09:30. Vitoria-Gasteiz. EUDELeko Batzorde Eragilea.
DESCRIPTION:
URL:https://noticias.eudel.eus/evento/0930-h-eudel-bilbao-comision-ejecutiva-de-eudel/
LOCATION:ARABA
CATEGORIES:General
END:VEVENT
BEGIN:VEVENT
DTSTART;TZID=Europe/Madrid:20181115T090000
DTEND;TZID=Europe/Madrid:20181115T103000
DTSTAMP:20260425T031310
CREATED:20181205T171407Z
LAST-MODIFIED:20181205T171407Z
UID:19331-1542272400-1542277800@noticias.eudel.eus
SUMMARY:09:00 h. Vitoria-Gasteiz. Grupo de trabajo de la Mesa de Trabajo del Jabalí: Medidas de prevención.09:00. Vitoria-Gasteiz. Basurdeen Lantaldeen Lantaldea: Arriskuak sahiesteko neurriak
DESCRIPTION:
URL:https://noticias.eudel.eus/evento/0900-h-vitoria-gasteiz-grupo-de-trabajo-de-la-mesa-de-trabajo-del-jabali-medidas-de-prevencion/
LOCATION:ARABA
CATEGORIES:General
END:VEVENT
BEGIN:VEVENT
DTSTART;TZID=Europe/Madrid:20181115T160000
DTEND;TZID=Europe/Madrid:20181115T170000
DTSTAMP:20260425T031310
CREATED:20181205T171407Z
LAST-MODIFIED:20181205T171407Z
UID:19332-1542297600-1542301200@noticias.eudel.eus
SUMMARY:16:00 h. Bilbao. Comisión Permanente del Consejo Escolar de Euskadi.16:00. Bilbao. Euskadiko Eskola Kontseiluaren Batzorde Iraunkorra.
DESCRIPTION:
URL:https://noticias.eudel.eus/evento/1600-h-bilbao-comision-permanente-del-consejo-escolar-de-euskadi-4/
LOCATION:ARABA
CATEGORIES:General
END:VEVENT
BEGIN:VEVENT
DTSTART;TZID=Europe/Madrid:20181116T090000
DTEND;TZID=Europe/Madrid:20181116T103000
DTSTAMP:20260425T031310
CREATED:20181205T171407Z
LAST-MODIFIED:20181205T171407Z
UID:19330-1542358800-1542364200@noticias.eudel.eus
SUMMARY:09:00 h. Vitoria-Gasteiz. Grupo de trabajo de la Mesa de Trabajo del Jabalí: Gestión administrativa.09:00. Vitoria-Gasteiz. Basurdeen Lantaldeen Lantaldea: Kudeaketa administratiboa.
DESCRIPTION:
URL:https://noticias.eudel.eus/evento/0900-h-vitoria-gasteiz-grupo-de-trabajo-de-la-mesa-de-trabajo-del-jabali-gestion-administrativa/
LOCATION:ARABA
CATEGORIES:General
END:VEVENT
BEGIN:VEVENT
DTSTART;TZID=Europe/Madrid:20181119T120000
DTEND;TZID=Europe/Madrid:20181119T133000
DTSTAMP:20260425T031310
CREATED:20181205T171407Z
LAST-MODIFIED:20181205T171407Z
UID:19329-1542628800-1542634200@noticias.eudel.eus
SUMMARY:12:00 h. Vitoria-Gasteiz. Consejo Vasco de Cooperación para el Desarrollo.12:00. Vitoria-Gasteiz. Garapenerako Lankidetzaren Euskal Kontseilua.
DESCRIPTION:
URL:https://noticias.eudel.eus/evento/1200-h-vitoria-gasteiz-consejo-vasco-de-cooperacion-para-el-desarrollo/
LOCATION:ARABA
CATEGORIES:General
END:VEVENT
BEGIN:VEVENT
DTSTART;TZID=Europe/Madrid:20181121T090000
DTEND;TZID=Europe/Madrid:20181121T110000
DTSTAMP:20260425T031310
CREATED:20181205T171407Z
LAST-MODIFIED:20181205T171407Z
UID:19328-1542790800-1542798000@noticias.eudel.eus
SUMMARY:09:00 h. Donostia/San Sebastián. Mesa Interinstitucional de Servicios Sociales de Gipuzkoa.09:00. Donostia. Gipuzkoako Gizarte Zerbitzuen Erakunde arteko Mahaia.
DESCRIPTION:
URL:https://noticias.eudel.eus/evento/0900-h-donostia-san-sebastian-mesa-interinstitucional-de-servicios-sociales-de-gipuzkoa/
LOCATION:ARABA
CATEGORIES:General
END:VEVENT
BEGIN:VEVENT
DTSTART;TZID=Europe/Madrid:20181122T130000
DTEND;TZID=Europe/Madrid:20181122T150000
DTSTAMP:20260425T031310
CREATED:20181205T171407Z
LAST-MODIFIED:20181205T171407Z
UID:19326-1542891600-1542898800@noticias.eudel.eus
SUMMARY:13:00 h. Vitoria-Gasteiz. Consejo Asesor de la Red de Itinerarios Verdes de Álava.13:00. Vitoria-Gasteiz. Arabako Ibilbide Berdeen Sarearen Aholku Kontseilua.
DESCRIPTION:
URL:https://noticias.eudel.eus/evento/1300-h-vitoria-gasteiz-consejo-asesor-de-la-red-de-itinerarios-verdes-de-alava/
LOCATION:ARABA
CATEGORIES:General
END:VEVENT
BEGIN:VEVENT
DTSTART;TZID=Europe/Madrid:20181126T120000
DTEND;TZID=Europe/Madrid:20181126T133000
DTSTAMP:20260425T031310
CREATED:20181205T171407Z
LAST-MODIFIED:20181205T171407Z
UID:19327-1543233600-1543239000@noticias.eudel.eus
SUMMARY:12:00 h. Vitoria-Gasteiz. Jurado "Premio Emakunde a la Igualdad 2018".12:00. Vitoria-Gasteiz. “Emakunderen Berdintasun Saria 2018” delakoaren Epaimahaia.
DESCRIPTION:
URL:https://noticias.eudel.eus/evento/1200-h-vitoria-gasteiz-jurado-premio-emakunde-a-la-igualdad-2018/
LOCATION:ARABA
CATEGORIES:General
END:VEVENT
BEGIN:VEVENT
DTSTART;TZID=Europe/Madrid:20181126T160000
DTEND;TZID=Europe/Madrid:20181126T180000
DTSTAMP:20260425T031310
CREATED:20181205T171406Z
LAST-MODIFIED:20181205T171406Z
UID:19325-1543248000-1543255200@noticias.eudel.eus
SUMMARY:16:00 h. Vitoria-Gasteiz. HAKOBA KULTURA: Comisión Interinstitucional de la Cultura.16:00. Vitoria-Gasteiz. HAKOBA KULTURA: Kulturaren Erakunde Arteko Batzordea.
DESCRIPTION:
URL:https://noticias.eudel.eus/evento/1600-h-vitoria-gasteiz-hakoba-kultura-comision-interinstitucional-de-la-cultura-2/
LOCATION:ARABA
CATEGORIES:General
END:VEVENT
BEGIN:VEVENT
DTSTART;TZID=Europe/Madrid:20181127T120000
DTEND;TZID=Europe/Madrid:20181127T140000
DTSTAMP:20260425T031310
CREATED:20181205T171406Z
LAST-MODIFIED:20181205T171406Z
UID:19322-1543320000-1543327200@noticias.eudel.eus
SUMMARY:12:00 h. Bilbao. Órgano Interinstitucional de Servicios Sociales.12:00. Bilbao. Gizarte Zerbitzuen Erakunde Arteko Organoa.
DESCRIPTION:
URL:https://noticias.eudel.eus/evento/1200-h-bilbao-organo-interinstitucional-de-servicios-sociales/
LOCATION:ARABA
CATEGORIES:General
END:VEVENT
BEGIN:VEVENT
DTSTART;TZID=Europe/Madrid:20181128T161500
DTEND;TZID=Europe/Madrid:20181128T183000
DTSTAMP:20260425T031310
CREATED:20181205T171406Z
LAST-MODIFIED:20181205T171406Z
UID:19324-1543421700-1543429800@noticias.eudel.eus
SUMMARY:16:15 h. Zamudio. Junta Directiva de Innobasque.16:15 Zamudio. Innobasqueren Zuzendaritza Batzordea.
DESCRIPTION:
URL:https://noticias.eudel.eus/evento/1615-h-zamudio-junta-directiva-de-innobasque/
LOCATION:ARABA
CATEGORIES:General
END:VEVENT
BEGIN:VEVENT
DTSTART;TZID=Europe/Madrid:20181129T183000
DTEND;TZID=Europe/Madrid:20181129T210000
DTSTAMP:20260425T031310
CREATED:20181205T171406Z
LAST-MODIFIED:20181205T171406Z
UID:19321-1543516200-1543525200@noticias.eudel.eus
SUMMARY:18.30 h.. Bilbao. Palacio Euskalduna. Gala X. Aniversario Biscaytik18.30. Bilbo. Euskalduna jauregia. Biscaytik X. Urteurreneko gala
DESCRIPTION:El Presidente de EUDEL y alcalde de Getxo\, Imanol Landa asistirá al acto
URL:https://noticias.eudel.eus/evento/18-30-h-bilbao-palacio-euskalduna-gala-x-aniversario-biscaytik/
LOCATION:ARABA
CATEGORIES:General
END:VEVENT
BEGIN:VEVENT
DTSTART;TZID=Europe/Madrid:20181130T093000
DTEND;TZID=Europe/Madrid:20181130T123000
DTSTAMP:20260425T031310
CREATED:20181205T171406Z
LAST-MODIFIED:20181205T171406Z
UID:19323-1543570200-1543581000@noticias.eudel.eus
SUMMARY:09:30 h. Vitoria-Gasteiz. Mesa de Turismo de Euskadi.09:30 h. Vitoria-Gasteiz. Euskadiko Turismoaren Mahaia.
DESCRIPTION:
URL:https://noticias.eudel.eus/evento/0930-h-vitoria-gasteiz-mesa-de-turismo-de-euskadi/
LOCATION:ARABA
CATEGORIES:General
END:VEVENT
END:VCALENDAR