BEGIN:VCALENDAR
VERSION:2.0
PRODID:-//EUDEL Noticias | Asociación de Municipios Vascos - ECPv6.5.1.3//NONSGML v1.0//EN
CALSCALE:GREGORIAN
METHOD:PUBLISH
X-ORIGINAL-URL:https://noticias.eudel.eus
X-WR-CALDESC:Eventos para EUDEL Noticias | Asociación de Municipios Vascos
REFRESH-INTERVAL;VALUE=DURATION:PT1H
X-Robots-Tag:noindex
X-PUBLISHED-TTL:PT1H
BEGIN:VTIMEZONE
TZID:Europe/Madrid
BEGIN:DAYLIGHT
TZOFFSETFROM:+0100
TZOFFSETTO:+0200
TZNAME:CEST
DTSTART:20180325T010000
END:DAYLIGHT
BEGIN:STANDARD
TZOFFSETFROM:+0200
TZOFFSETTO:+0100
TZNAME:CET
DTSTART:20181028T010000
END:STANDARD
END:VTIMEZONE
BEGIN:VEVENT
DTSTART;TZID=Europe/Madrid:20181203T190000
DTEND;TZID=Europe/Madrid:20181203T210000
DTSTAMP:20260425T014642
CREATED:20181205T171405Z
LAST-MODIFIED:20181205T171405Z
UID:19320-1543863600-1543870800@noticias.eudel.eus
SUMMARY:19:00 h. Palacio Kursaal de Donostia. ‘DIA INTERNACIONAL DEL EUSKERA’ acto de conmemoración19.00etan. Donostiako Kursaal jauregian. ‘NAZIOARTEKO EUSKARAREN EGUNA’ ospatzeko ekitaldia
DESCRIPTION:
URL:https://noticias.eudel.eus/evento/1900-h-palacio-kursaal-de-donostia-dia-internacional-del-euskera-acto-de-conmemoracion/
LOCATION:ARABA
CATEGORIES:General
END:VEVENT
BEGIN:VEVENT
DTSTART;TZID=Europe/Madrid:20181204T120000
DTEND;TZID=Europe/Madrid:20181204T140000
DTSTAMP:20260425T014642
CREATED:20181205T171405Z
LAST-MODIFIED:20181205T171405Z
UID:19319-1543924800-1543932000@noticias.eudel.eus
SUMMARY:12:00 h. Vitoria-Gasteiz. Consejo Vasco de Servicios Sociales.12:00. Vitoria-Gasteiz. Gizarte Zerbitzuen Euskal Kontseilua.
DESCRIPTION:
URL:https://noticias.eudel.eus/evento/1200-h-vitoria-gasteiz-consejo-vasco-de-servicios-sociales/
LOCATION:ARABA
CATEGORIES:General
END:VEVENT
BEGIN:VEVENT
DTSTART;TZID=Europe/Madrid:20181205T090000
DTEND;TZID=Europe/Madrid:20181205T120000
DTSTAMP:20260425T014642
CREATED:20181205T171405Z
LAST-MODIFIED:20181205T171405Z
UID:19318-1544000400-1544011200@noticias.eudel.eus
SUMMARY:9:00 h. EUDEL Donostia/San Sebastián. Comisión Territorial de Gipuzkoa de EUDEL.9:00. EUDEL Donostia. EUDELeko Gipuzkoako Lurralde Batzordea.
DESCRIPTION:
URL:https://noticias.eudel.eus/evento/900-h-eudel-donostia-san-sebastian-comision-territorial-de-gipuzkoa-de-eudel/
LOCATION:ARABA
CATEGORIES:General
END:VEVENT
BEGIN:VEVENT
DTSTART;TZID=Europe/Madrid:20181210T100000
DTEND;TZID=Europe/Madrid:20181210T130000
DTSTAMP:20260425T014642
CREATED:20181205T171405Z
LAST-MODIFIED:20181205T171405Z
UID:19317-1544436000-1544446800@noticias.eudel.eus
SUMMARY:10:00 h. Bilbao. Berdinlan: Comisión Técnica sobre Violencia de Berdinsarea:  Proceso de trabajo para incorporar la reparación en la respuesta municipal a la violencia machista\,10:00. Bilbo. Berdinlan: Berdinsareako Indarkeria batzorde Teknikoa\, Indarkeria matxistaren aurrean udal erantzuna erreparazioa txertatzeko lan prozesua.
DESCRIPTION:
URL:https://noticias.eudel.eus/evento/1000-h-bilbao-berdinlan-comision-tecnica-sobre-violencia-de-berdinsarea-proceso-de-trabajo-para-incorporar-la-reparacion-en-la-respuesta-municipal-a-la-violencia-machista/
LOCATION:ARABA
CATEGORIES:General
END:VEVENT
BEGIN:VEVENT
DTSTART;TZID=Europe/Madrid:20181211T120000
DTEND;TZID=Europe/Madrid:20181211T150000
DTSTAMP:20260425T014642
CREATED:20181205T171405Z
LAST-MODIFIED:20181205T171405Z
UID:19316-1544529600-1544540400@noticias.eudel.eus
SUMMARY:12:00 h. EUDEL Bilbao. “Políticas de Igualdad Locales: Claves de mejora y colaboración entre el ámbito político y técnico” 12:00. EUDEL Bilbao. “Tokiko berdintasun-politikak: horiek hobetzeko eta eremu politikoaren eta teknikoaren arteko lankidetza indartzeko gakoak”
DESCRIPTION:
URL:https://noticias.eudel.eus/evento/1200-h-eudel-bilbao-politicas-de-igualdad-locales-claves-de-mejora-y-colaboracion-entre-el-ambito-politico-y-tecnico/
LOCATION:ARABA
CATEGORIES:General
END:VEVENT
END:VCALENDAR