BEGIN:VCALENDAR
VERSION:2.0
PRODID:-//EUDEL Noticias | Asociación de Municipios Vascos - ECPv6.5.1.3//NONSGML v1.0//EN
CALSCALE:GREGORIAN
METHOD:PUBLISH
X-WR-CALNAME:EUDEL Noticias | Asociación de Municipios Vascos
X-ORIGINAL-URL:https://noticias.eudel.eus
X-WR-CALDESC:Eventos para EUDEL Noticias | Asociación de Municipios Vascos
REFRESH-INTERVAL;VALUE=DURATION:PT1H
X-Robots-Tag:noindex
X-PUBLISHED-TTL:PT1H
BEGIN:VTIMEZONE
TZID:Europe/Madrid
BEGIN:DAYLIGHT
TZOFFSETFROM:+0100
TZOFFSETTO:+0200
TZNAME:CEST
DTSTART:20200329T010000
END:DAYLIGHT
BEGIN:STANDARD
TZOFFSETFROM:+0200
TZOFFSETTO:+0100
TZNAME:CET
DTSTART:20201025T010000
END:STANDARD
END:VTIMEZONE
BEGIN:VEVENT
DTSTART;TZID=Europe/Madrid:20200302T090000
DTEND;TZID=Europe/Madrid:20200302T103000
DTSTAMP:20260424T021143
CREATED:20200221T105943Z
LAST-MODIFIED:20200221T105943Z
UID:19640-1583139600-1583145000@noticias.eudel.eus
SUMMARY:[:es]Vitoria-Gasteiz. Órgano Interinstitucional de Servicios Sociales.[:eu]Vitoria-Gasteiz. Gizarte Zerbitzuen Erakunde Arteko Organoa.[:]
DESCRIPTION:
URL:https://noticias.eudel.eus/evento/vitoria-gasteiz-organo-interinstitucional-de-servicios-sociales/
END:VEVENT
BEGIN:VEVENT
DTSTART;TZID=Europe/Madrid:20200302T123000
DTEND;TZID=Europe/Madrid:20200302T140000
DTSTAMP:20260424T021143
CREATED:20200228T131041Z
LAST-MODIFIED:20200228T131041Z
UID:19708-1583152200-1583157600@noticias.eudel.eus
SUMMARY:[:es]Vitoria-Gasteiz. Consejo Vasco de Atención Sociosanitaria.[:eu]Vitoria-Gasteiz. Arreta Soziosanitarioko Euskal Kontseilua.[:]
DESCRIPTION:
URL:https://noticias.eudel.eus/evento/vitoria-gasteiz-consejo-vasco-de-atencion-sociosanitaria/
END:VEVENT
BEGIN:VEVENT
DTSTART;TZID=Europe/Madrid:20200303T100000
DTEND;TZID=Europe/Madrid:20200303T110000
DTSTAMP:20260424T021143
CREATED:20200221T115045Z
LAST-MODIFIED:20200221T115045Z
UID:19646-1583229600-1583233200@noticias.eudel.eus
SUMMARY:[:es]Vitoria-Gasteiz. Órgano de Coordinación Tributaria de Euskadi (OCTE)[:eu]Vitoria-Gasteiz. Zerga Koordinaziorako Organoa.[:]
DESCRIPTION:
URL:https://noticias.eudel.eus/evento/vitoria-gasteiz-organo-de-coordinacion-tributaria-de-euskadi-octe/
END:VEVENT
BEGIN:VEVENT
DTSTART;TZID=Europe/Madrid:20200303T100000
DTEND;TZID=Europe/Madrid:20200303T110000
DTSTAMP:20260424T021143
CREATED:20200228T130819Z
LAST-MODIFIED:20200228T130819Z
UID:19703-1583229600-1583233200@noticias.eudel.eus
SUMMARY:[:es] Vitoria-Gastieiz. Órgano de Coordinación Tributaria de Euskadi[:eu]Vitoria-Gasteiz. Euskadiko Zerga- Koordinaziorako Organoa[:]
DESCRIPTION:
URL:https://noticias.eudel.eus/evento/vitoria-gastieiz-organo-de-coordinacion-tributaria-de-euskadi/
LOCATION:Vitoria-Gasteiz\, ARABA
END:VEVENT
BEGIN:VEVENT
DTSTART;TZID=Europe/Madrid:20200305T100000
DTEND;TZID=Europe/Madrid:20200305T120000
DTSTAMP:20260424T021143
CREATED:20200228T130930Z
LAST-MODIFIED:20200228T131616Z
UID:19706-1583402400-1583409600@noticias.eudel.eus
SUMMARY:[:es]EUDEL Bilbao. Comisión Territorial de Bizkaia de EUDEL[:eu]EUDEL Bilbao. EUDELeko Bizkaiko Lurralde Batzordea[:]
DESCRIPTION:
URL:https://noticias.eudel.eus/evento/eudel-bilbao-comision-territorial-de-bizkaia/
LOCATION:Sede EUDEL. Bilbao\, Ertzilla kalea 13 / c/ Ercilla\, nº 13\, BILBAO\, 48009
END:VEVENT
BEGIN:VEVENT
DTSTART;TZID=Europe/Madrid:20200305T110000
DTEND;TZID=Europe/Madrid:20200305T130000
DTSTAMP:20260424T021143
CREATED:20200228T131158Z
LAST-MODIFIED:20200228T131158Z
UID:19710-1583406000-1583413200@noticias.eudel.eus
SUMMARY:[:es]Bilbao. Comisión de Seguridad Vial de la Comunidad Autónoma del País Vasco.[:eu]Bilbao. Euskal Autonomia Erkidegoko Bide Segurtasunaren Batzordea.[:]
DESCRIPTION:
URL:https://noticias.eudel.eus/evento/bilbao-comision-de-seguridad-vial-de-la-comunidad-autonoma-del-pais-vasco/
END:VEVENT
BEGIN:VEVENT
DTSTART;TZID=Europe/Madrid:20200305T120000
DTEND;TZID=Europe/Madrid:20200305T140000
DTSTAMP:20260424T021143
CREATED:20200221T131303Z
LAST-MODIFIED:20200221T131303Z
UID:19648-1583409600-1583416800@noticias.eudel.eus
SUMMARY:[:es]Bilbao. Mesa de trabajo Interinstitucional de Servicios Sociales de Bizkaia.[:eu]Bilbao. Gizarte Zerbitzuen Bizkaiko Lurralde Erakunde Arteko Lan-mahaia[:]
DESCRIPTION:
URL:https://noticias.eudel.eus/evento/bilbao-mesa-de-trabajo-interinstitucional-de-servicios-sociales-de-bizkaia/
END:VEVENT
BEGIN:VEVENT
DTSTART;TZID=Europe/Madrid:20200305T150000
DTEND;TZID=Europe/Madrid:20200305T170000
DTSTAMP:20260424T021143
CREATED:20200226T081555Z
LAST-MODIFIED:20200226T085559Z
UID:19665-1583420400-1583427600@noticias.eudel.eus
SUMMARY:[:es]EUDEL Bilbao. Asamblea Política de BERDINSAREA.[:eu]EUDEL Bilbao. BERDINSAREAREN Asanblada Politikoa.[:]
DESCRIPTION:Convocatoria para representante político del Ayuntamiento.
URL:https://noticias.eudel.eus/evento/eudel-bilbao-asamblea-politica-de-berdinsarea/
LOCATION:Sede EUDEL. Bilbao\, Ertzilla kalea 13 / c/ Ercilla\, nº 13\, BILBAO\, 48009
END:VEVENT
BEGIN:VEVENT
DTSTART;TZID=Europe/Madrid:20200310T120000
DTEND;TZID=Europe/Madrid:20200310T133000
DTSTAMP:20260424T021143
CREATED:20200310T083111Z
LAST-MODIFIED:20200310T083111Z
UID:19763-1583841600-1583847000@noticias.eudel.eus
SUMMARY:[:es]Vitoria-Gasteiz. Consejo Vasco de Servicios Sociales[:eu]Vitoria-Gasteiz. Gizarte Zerbitzuen Euskal Kontseilua.[:]
DESCRIPTION:
URL:https://noticias.eudel.eus/evento/vitoria-gasteiz-consejo-vasco-de-servicios-sociales/
LOCATION:Vitoria-Gasteiz\, ARABA
END:VEVENT
BEGIN:VEVENT
DTSTART;TZID=Europe/Madrid:20200311T123000
DTEND;TZID=Europe/Madrid:20200311T133000
DTSTAMP:20260424T021143
CREATED:20200311T084449Z
LAST-MODIFIED:20200311T084810Z
UID:19773-1583929800-1583933400@noticias.eudel.eus
SUMMARY:[:es]Parque de la Florida Vitoria-Gasteiz. Concentración Dia Europeo Victimas del Terrorismo[:eu]Gasteizko Florida parkean. Terrorismoaren Biktimen Europako Eguna dela eta Elkarretaratzea[:]
DESCRIPTION:El Presidente de EUDEL Gorka Urtaran asiste a la concentración convocada por el Gobierno Vasco con motivo del Dia Europeo de las Victimas del Terrorismo. \nEl Lehendakari Iñigo Urkullu participa en dicho acto\, organizado bajo el lema “Fue injusto. Gizartea eta biktimak elkarrekin oraina eta etorkizuna eraikiz”.
URL:https://noticias.eudel.eus/evento/parque-de-la-florida-vitoria-gasteiz-concentracion-dia-europeo-victimas-del-terrorismo/
END:VEVENT
BEGIN:VEVENT
DTSTART;TZID=Europe/Madrid:20200312T100000
DTEND;TZID=Europe/Madrid:20200312T120000
DTSTAMP:20260424T021143
CREATED:20200312T081441Z
LAST-MODIFIED:20200312T081447Z
UID:19815-1584007200-1584014400@noticias.eudel.eus
SUMMARY:[:es]Vitoria-Gasteiz. Mesa de Turismo de Euskadi.[:eu]Vitoria-Gasteiz. Euskadiko Turismoaren Mahaia.[:]
DESCRIPTION:
URL:https://noticias.eudel.eus/evento/vitoria-gasteiz-mesa-de-turismo-de-euskadi/
LOCATION:Vitoria-Gasteiz\, ARABA
END:VEVENT
END:VCALENDAR