BEGIN:VCALENDAR
VERSION:2.0
PRODID:-//EUDEL Noticias | Asociación de Municipios Vascos - ECPv6.5.1.3//NONSGML v1.0//EN
CALSCALE:GREGORIAN
METHOD:PUBLISH
X-WR-CALNAME:EUDEL Noticias | Asociación de Municipios Vascos
X-ORIGINAL-URL:https://noticias.eudel.eus
X-WR-CALDESC:Eventos para EUDEL Noticias | Asociación de Municipios Vascos
REFRESH-INTERVAL;VALUE=DURATION:PT1H
X-Robots-Tag:noindex
X-PUBLISHED-TTL:PT1H
BEGIN:VTIMEZONE
TZID:Europe/Madrid
BEGIN:DAYLIGHT
TZOFFSETFROM:+0100
TZOFFSETTO:+0200
TZNAME:CEST
DTSTART:20200329T010000
END:DAYLIGHT
BEGIN:STANDARD
TZOFFSETFROM:+0200
TZOFFSETTO:+0100
TZNAME:CET
DTSTART:20201025T010000
END:STANDARD
END:VTIMEZONE
BEGIN:VEVENT
DTSTART;TZID=Europe/Madrid:20200601T130000
DTEND;TZID=Europe/Madrid:20200601T150000
DTSTAMP:20260423T191120
CREATED:20200529T071801Z
LAST-MODIFIED:20200529T072314Z
UID:20294-1591016400-1591023600@noticias.eudel.eus
SUMMARY:[:es]Comisión Territorial de Bizkaia de EUDEL.[:eu]EUDELeko Bizkaiko Lurralde Batzordea.[:]
DESCRIPTION:
URL:https://noticias.eudel.eus/evento/comision-territorial-de-bizkaia-de-eudel-2/
LOCATION:Reunión por viodeoconferencia
END:VEVENT
BEGIN:VEVENT
DTSTART;TZID=Europe/Madrid:20200609T160000
DTEND;TZID=Europe/Madrid:20200609T170000
DTSTAMP:20260423T191120
CREATED:20200604T124614Z
LAST-MODIFIED:20200604T124719Z
UID:20309-1591718400-1591722000@noticias.eudel.eus
SUMMARY:[:es]Reunión Igualdad[:eu]Berdintasun Batzordea[:]
DESCRIPTION:
URL:https://noticias.eudel.eus/evento/reunion-igualdad/
LOCATION:Reunión por viodeoconferencia
END:VEVENT
BEGIN:VEVENT
DTSTART;TZID=Europe/Madrid:20200610T100000
DTEND;TZID=Europe/Madrid:20200610T113000
DTSTAMP:20260423T191120
CREATED:20200605T085856Z
LAST-MODIFIED:20200605T085856Z
UID:20317-1591783200-1591788600@noticias.eudel.eus
SUMMARY:[:es]Junta Directiva Innobasque 2020[:eu]2020ko Innobasqueko Zuzendaritza Batzordea[:]
DESCRIPTION:
URL:https://noticias.eudel.eus/evento/junta-directiva-innobasque-2020/
LOCATION:Reunión por viodeoconferencia
END:VEVENT
BEGIN:VEVENT
DTSTART;TZID=Europe/Madrid:20200610T103000
DTEND;TZID=Europe/Madrid:20200610T120000
DTSTAMP:20260423T191120
CREATED:20200608T100220Z
LAST-MODIFIED:20200608T101641Z
UID:20324-1591785000-1591790400@noticias.eudel.eus
SUMMARY:[:es]Comisión Territorial de Gipuzkoa de EUDEL y Diputación Foral de Gipuzkoa[:eu]EUDELen Gipuzkoako Lurralde Batzordea eta Gipuzkoako Foru Aldundia[:]
DESCRIPTION:
URL:https://noticias.eudel.eus/evento/comision-territorial-de-gipuzkoa-de-eudel-y-diputacion-foral-de-gipuzkoa/
LOCATION:Reunión por viodeoconferencia
END:VEVENT
BEGIN:VEVENT
DTSTART;TZID=Europe/Madrid:20200610T120000
DTEND;TZID=Europe/Madrid:20200610T133000
DTSTAMP:20260423T191120
CREATED:20200605T085748Z
LAST-MODIFIED:20200605T085915Z
UID:20315-1591790400-1591795800@noticias.eudel.eus
SUMMARY:[:es]Asamblea General Innobasque 2020[:eu]2020ko Innobasqueko Batzar Nagusia[:]
DESCRIPTION:
URL:https://noticias.eudel.eus/evento/asamblea-general-innobasque-2020/
LOCATION:Reunión por viodeoconferencia
END:VEVENT
BEGIN:VEVENT
DTSTART;TZID=Europe/Madrid:20200610T153000
DTEND;TZID=Europe/Madrid:20200610T170000
DTSTAMP:20260423T191120
CREATED:20200608T100037Z
LAST-MODIFIED:20200608T100301Z
UID:20322-1591803000-1591808400@noticias.eudel.eus
SUMMARY:[:es]Grupo Gestor del LABI[:eu]LABI Talde Kudeatzailea[:]
DESCRIPTION:
URL:https://noticias.eudel.eus/evento/grupo-gestor-del-labi/
LOCATION:Vitoria-Gasteiz\, ARABA
END:VEVENT
BEGIN:VEVENT
DTSTART;TZID=Europe/Madrid:20200610T163000
DTEND;TZID=Europe/Madrid:20200610T173000
DTSTAMP:20260423T191120
CREATED:20200603T130222Z
LAST-MODIFIED:20200603T130222Z
UID:20307-1591806600-1591810200@noticias.eudel.eus
SUMMARY:[:es]Basqueskola: Reunión Redes y Alianzas[:eu]Basqueskola: Sareak eta aliantzak Batzordea[:]
DESCRIPTION:
URL:https://noticias.eudel.eus/evento/basqueskola-reunion-redes-y-alianzas/
LOCATION:Reunión por viodeoconferencia
END:VEVENT
BEGIN:VEVENT
DTSTART;TZID=Europe/Madrid:20200611T100000
DTEND;TZID=Europe/Madrid:20200611T120000
DTSTAMP:20260423T191120
CREATED:20200605T065228Z
LAST-MODIFIED:20200605T065228Z
UID:20313-1591869600-1591876800@noticias.eudel.eus
SUMMARY:[:es]Comisión Ejecutiva de EUDEL[:eu]EUDELeko Batzorde Eragilea[:]
DESCRIPTION:
URL:https://noticias.eudel.eus/evento/comision-ejecutiva-de-eudel-3/
LOCATION:Reunión por viodeoconferencia
END:VEVENT
BEGIN:VEVENT
DTSTART;TZID=Europe/Madrid:20200611T163000
DTEND;TZID=Europe/Madrid:20200611T183000
DTSTAMP:20260423T191120
CREATED:20200520T094019Z
LAST-MODIFIED:20200520T094019Z
UID:20228-1591893000-1591900200@noticias.eudel.eus
SUMMARY:[:es]GM Red Basqueskola.[:eu]GM Basqueskola Sarea.[:]
DESCRIPTION:
URL:https://noticias.eudel.eus/evento/gm-red-basqueskola/
LOCATION:Reunión por viodeoconferencia
END:VEVENT
BEGIN:VEVENT
DTSTART;TZID=Europe/Madrid:20200615T180000
DTEND;TZID=Europe/Madrid:20200615T190000
DTSTAMP:20260423T191120
CREATED:20200612T121807Z
LAST-MODIFIED:20200612T121807Z
UID:20348-1592244000-1592247600@noticias.eudel.eus
SUMMARY:[:es]Consejo Territorial del Deporte Escolar.[:eu]Arabako Eskola Kirolaren Lurralde Kontseilua.[:]
DESCRIPTION:
URL:https://noticias.eudel.eus/evento/consejo-territorial-del-deporte-escolar/
LOCATION:Vitoria-Gasteiz\, ARABA
END:VEVENT
BEGIN:VEVENT
DTSTART;TZID=Europe/Madrid:20200616T110000
DTEND;TZID=Europe/Madrid:20200616T120000
DTSTAMP:20260423T191120
CREATED:20200612T122757Z
LAST-MODIFIED:20200612T122757Z
UID:20358-1592305200-1592308800@noticias.eudel.eus
SUMMARY:[:es]Tribunal calificador ayudas económicas destinadas a entidades locales y entidades promovidas por ellas para la promoción y defensa de los derechos e intereses de las personas consumidoras y usuarias.[:eu]Diru-laguntzak emateko\, toki-erakundeei eta haiek sustatutako erakundeei zuzenduta\, kontsumitzaile eta erabiltzaileen eskubide eta interesak susta eta babes ditzaten Epaimahaia[:]
DESCRIPTION:
URL:https://noticias.eudel.eus/evento/tribunal-calificador-ayudas-economicas-destinadas-a-entidades-locales-y-entidades-promovidas-por-ellas-para-la-promocion-y-defensa-de-los-derechos-e-intereses-de-las-personas-consumidoras-y-usuarias/
LOCATION:Reunión por viodeoconferencia
END:VEVENT
BEGIN:VEVENT
DTSTART;TZID=Europe/Madrid:20200617T163000
DTEND;TZID=Europe/Madrid:20200617T180000
DTSTAMP:20260423T191120
CREATED:20200612T121911Z
LAST-MODIFIED:20200612T121911Z
UID:20350-1592411400-1592416800@noticias.eudel.eus
SUMMARY:[:es]Consejo Territorial de Finanzas de Bizkaia.[:eu]Bizkaiko Finantzen Lurralde Kontseilua.[:]
DESCRIPTION:
URL:https://noticias.eudel.eus/evento/consejo-territorial-de-finanzas-de-bizkaia-2/
LOCATION:Reunión por viodeoconferencia
END:VEVENT
BEGIN:VEVENT
DTSTART;TZID=Europe/Madrid:20200618T090000
DTEND;TZID=Europe/Madrid:20200618T110000
DTSTAMP:20260423T191120
CREATED:20200612T122025Z
LAST-MODIFIED:20200612T122025Z
UID:20352-1592470800-1592478000@noticias.eudel.eus
SUMMARY:[:es]Comisión Territorial de Bizkaia de EUDEL[:eu]EUDELeko Bizkaiko Lurralde Batzordea[:]
DESCRIPTION:
URL:https://noticias.eudel.eus/evento/comision-territorial-de-bizkaia-de-eudel-3/
LOCATION:Reunión por viodeoconferencia
END:VEVENT
BEGIN:VEVENT
DTSTART;TZID=Europe/Madrid:20200618T100000
DTEND;TZID=Europe/Madrid:20200618T130000
DTSTAMP:20260423T191120
CREATED:20200617T100329Z
LAST-MODIFIED:20200617T100329Z
UID:20376-1592474400-1592485200@noticias.eudel.eus
SUMMARY:[:es]Consejo Vasco del Voluntariado[:eu]Boluntariotzaren Euskal Kontseilua[:]
DESCRIPTION:
URL:https://noticias.eudel.eus/evento/consejo-vasco-del-voluntariado/
END:VEVENT
BEGIN:VEVENT
DTSTART;TZID=Europe/Madrid:20200618T103000
DTEND;TZID=Europe/Madrid:20200618T113000
DTSTAMP:20260423T191120
CREATED:20200617T101716Z
LAST-MODIFIED:20200617T101716Z
UID:20384-1592476200-1592479800@noticias.eudel.eus
SUMMARY:[:es]Ponencia para la accesibilidad\, de la Autoridad del Transporte de Euskadi[:eu]Euskadiko Garraio Agintaritzako Irisgarritasunari buruzko batzorde txostengilea[:]
DESCRIPTION:
URL:https://noticias.eudel.eus/evento/ponencia-para-la-accesibilidad-de-la-autoridad-del-transporte-de-euskadi/
LOCATION:Reunión por viodeoconferencia
END:VEVENT
BEGIN:VEVENT
DTSTART;TZID=Europe/Madrid:20200618T130000
DTEND;TZID=Europe/Madrid:20200618T143000
DTSTAMP:20260423T191120
CREATED:20200612T122127Z
LAST-MODIFIED:20200612T122127Z
UID:20354-1592485200-1592490600@noticias.eudel.eus
SUMMARY:[:es]Comisión Territorial de Araba de EUDEL[:eu]EUDELeko Arabako Lurralde Batzordea[:]
DESCRIPTION:
URL:https://noticias.eudel.eus/evento/comision-territorial-de-araba-de-eudel/
LOCATION:Reunión por viodeoconferencia
END:VEVENT
BEGIN:VEVENT
DTSTART;TZID=Europe/Madrid:20200619T100000
DTEND;TZID=Europe/Madrid:20200619T110000
DTSTAMP:20260423T191120
CREATED:20200617T101438Z
LAST-MODIFIED:20200617T101438Z
UID:20381-1592560800-1592564400@noticias.eudel.eus
SUMMARY:[:es]Ponencia para el Análisis actual del sector del taxi\, claves y oportunidades\, de la Autoridad del Transporte de Euskadi[:eu]Euskadiko Garraio Agintaritzako Taxi-arloaren gaurko analisia\, gakoak eta aukerak batzorde txostengilea[:]
DESCRIPTION:
URL:https://noticias.eudel.eus/evento/ponencia-para-el-analisis-actual-del-sector-del-taxi-claves-y-oportunidades-de-la-autoridad-del-transporte-de-euskadi/
LOCATION:Reunión por viodeoconferencia
END:VEVENT
BEGIN:VEVENT
DTSTART;TZID=Europe/Madrid:20200619T120000
DTEND;TZID=Europe/Madrid:20200619T133000
DTSTAMP:20260423T191120
CREATED:20200612T122228Z
LAST-MODIFIED:20200612T122228Z
UID:20356-1592568000-1592573400@noticias.eudel.eus
SUMMARY:[:es]Comisión Territorial de Gipuzkoa de EUDEL[:eu]EUDELeko Gipuzkoako Lurralde Batzordea[:]
DESCRIPTION:
URL:https://noticias.eudel.eus/evento/comision-territorial-de-gipuzkoa-de-eudel-2/
LOCATION:Reunión por viodeoconferencia
END:VEVENT
BEGIN:VEVENT
DTSTART;TZID=Europe/Madrid:20200622T110000
DTEND;TZID=Europe/Madrid:20200622T130000
DTSTAMP:20260423T191120
CREATED:20200618T121542Z
LAST-MODIFIED:20200618T121705Z
UID:20389-1592823600-1592830800@noticias.eudel.eus
SUMMARY:[:es]Berdinsarea\, Grupo de trabajo de municipios pequeños[:eu]Berdinsarea Herri txikien Lantaldea [:]
DESCRIPTION:
URL:https://noticias.eudel.eus/evento/grupo-de-trabajo-berdinsarea-municipios-pequenos/
LOCATION:Reunión por viodeoconferencia
END:VEVENT
BEGIN:VEVENT
DTSTART;TZID=Europe/Madrid:20200624T120000
DTEND;TZID=Europe/Madrid:20200624T133000
DTSTAMP:20260423T191120
CREATED:20200617T100643Z
LAST-MODIFIED:20200617T100643Z
UID:20378-1593000000-1593005400@noticias.eudel.eus
SUMMARY:[:es]Pleno de la Autoridad del Transporte de Euskadi[:eu]Euskadiko Garraio Agintaritzako Osoko Bilkura[:]
DESCRIPTION:
URL:https://noticias.eudel.eus/evento/pleno-de-la-autoridad-del-transporte-de-euskadi/
LOCATION:Vitoria-Gasteiz\, ARABA
END:VEVENT
BEGIN:VEVENT
DTSTART;TZID=Europe/Madrid:20200624T120000
DTEND;TZID=Europe/Madrid:20200624T133000
DTSTAMP:20260423T191120
CREATED:20200623T105428Z
LAST-MODIFIED:20200623T105428Z
UID:20405-1593000000-1593005400@noticias.eudel.eus
SUMMARY:[:es]Pleno de la Autoridad del Transporte de Euskadi.[:eu]Euskadiko Garraio Agintaritzaren Osoko Bilkura[:]
DESCRIPTION:
URL:https://noticias.eudel.eus/evento/pleno-de-la-autoridad-del-transporte-de-euskadi-2/
LOCATION:Vitoria-Gasteiz\, ARABA
END:VEVENT
BEGIN:VEVENT
DTSTART;TZID=Europe/Madrid:20200624T123000
DTEND;TZID=Europe/Madrid:20200624T143000
DTSTAMP:20260423T191120
CREATED:20200622T080516Z
LAST-MODIFIED:20200622T080516Z
UID:20403-1593001800-1593009000@noticias.eudel.eus
SUMMARY:[:es]Comisión Territorial de Bizkaia de EUDEL[:eu]EUDELeko Bizkaiko Lurralde Batzordea[:]
DESCRIPTION:
URL:https://noticias.eudel.eus/evento/comision-territorial-de-bizkaia-de-eudel-4/
LOCATION:Reunión por viodeoconferencia
END:VEVENT
BEGIN:VEVENT
DTSTART;TZID=Europe/Madrid:20200624T160000
DTEND;TZID=Europe/Madrid:20200624T180000
DTSTAMP:20260423T191120
CREATED:20200617T100227Z
LAST-MODIFIED:20200617T100227Z
UID:20374-1593014400-1593021600@noticias.eudel.eus
SUMMARY:[:es]Órgano Interinstitucional de Servicios Sociales[:eu]Gizarte Zerbitzuen Erakunde Arteko Organoa[:]
DESCRIPTION:
URL:https://noticias.eudel.eus/evento/organo-interinstitucional-de-servicios-sociales/
END:VEVENT
BEGIN:VEVENT
DTSTART;TZID=Europe/Madrid:20200625T110000
DTEND;TZID=Europe/Madrid:20200625T130000
DTSTAMP:20260423T191120
CREATED:20200622T071115Z
LAST-MODIFIED:20200622T071115Z
UID:20401-1593082800-1593090000@noticias.eudel.eus
SUMMARY:[:es]Berdinlan Mainstreaming: PG en la nueva Normalidad[:eu]Berdinlan Mainstreaming: PG en la nueva Normalidad[:]
DESCRIPTION:
URL:https://noticias.eudel.eus/evento/berdinlan-mainstreaming-pg-en-la-nueva-normalidad/
END:VEVENT
BEGIN:VEVENT
DTSTART;TZID=Europe/Madrid:20200626T100000
DTEND;TZID=Europe/Madrid:20200626T120000
DTSTAMP:20260423T191120
CREATED:20200619T101420Z
LAST-MODIFIED:20200619T101535Z
UID:20399-1593165600-1593172800@noticias.eudel.eus
SUMMARY:[:es]Junta de Gobierno de Elkarkidetza[:eu]Elkarkidetzako Gobernu Batzordea[:]
DESCRIPTION:
URL:https://noticias.eudel.eus/evento/junta-de-gobierno-de-elkarkidetza/
LOCATION:Vitoria-Gasteiz\, ARABA
END:VEVENT
BEGIN:VEVENT
DTSTART;TZID=Europe/Madrid:20200629T093000
DTEND;TZID=Europe/Madrid:20200629T113000
DTSTAMP:20260423T191120
CREATED:20200626T090458Z
LAST-MODIFIED:20200626T090458Z
UID:20433-1593423000-1593430200@noticias.eudel.eus
SUMMARY:[:es]Consejo Territorial de Finanzas de Bizkaia[:eu]Bizkaiko Finantzen Lurralde Kontseilua[:]
DESCRIPTION:
URL:https://noticias.eudel.eus/evento/consejo-territorial-de-finanzas-de-bizkaia-3/
LOCATION:Reunión por viodeoconferencia
END:VEVENT
BEGIN:VEVENT
DTSTART;TZID=Europe/Madrid:20200629T110000
DTEND;TZID=Europe/Madrid:20200629T130000
DTSTAMP:20260423T191120
CREATED:20200625T090808Z
LAST-MODIFIED:20200625T090808Z
UID:20413-1593428400-1593435600@noticias.eudel.eus
SUMMARY:[:es]Comisión de Seguimiento sobre el Brexit[:eu]Brexit-ari buruzko Jarraipen Batzordea.[:]
DESCRIPTION:
URL:https://noticias.eudel.eus/evento/comision-de-seguimiento-sobre-el-brexit/
END:VEVENT
BEGIN:VEVENT
DTSTART;TZID=Europe/Madrid:20200630T110000
DTEND;TZID=Europe/Madrid:20200630T130000
DTSTAMP:20260423T191120
CREATED:20200624T113217Z
LAST-MODIFIED:20200624T113217Z
UID:20411-1593514800-1593522000@noticias.eudel.eus
SUMMARY:[:es]Berdinlan: Comisión Técnica de Violencia Berdinsarea [:eu]Berdinlan: Berdinsarea-Indarkeriaren buruzko Batzorde Teknikoa[:]
DESCRIPTION:
URL:https://noticias.eudel.eus/evento/berdinlan-comision-tecnica-de-violencia-berdinsarea/
LOCATION:Reunión por viodeoconferencia
END:VEVENT
BEGIN:VEVENT
DTSTART;TZID=Europe/Madrid:20200630T120000
DTEND;TZID=Europe/Madrid:20200630T133000
DTSTAMP:20260423T191120
CREATED:20200626T090628Z
LAST-MODIFIED:20200626T090628Z
UID:20435-1593518400-1593523800@noticias.eudel.eus
SUMMARY:[:es]Comisión Territorial de Bizkaia de EUDEL[:eu]EUDELeko Bizkaiko Lurralde Batzordea[:]
DESCRIPTION:
URL:https://noticias.eudel.eus/evento/comision-territorial-de-bizkaia-de-eudel-5/
LOCATION:Reunión por viodeoconferencia
END:VEVENT
END:VCALENDAR