BEGIN:VCALENDAR
VERSION:2.0
PRODID:-//EUDEL Noticias | Asociación de Municipios Vascos - ECPv6.5.1.3//NONSGML v1.0//EN
CALSCALE:GREGORIAN
METHOD:PUBLISH
X-WR-CALNAME:EUDEL Noticias | Asociación de Municipios Vascos
X-ORIGINAL-URL:https://noticias.eudel.eus
X-WR-CALDESC:Eventos para EUDEL Noticias | Asociación de Municipios Vascos
REFRESH-INTERVAL;VALUE=DURATION:PT1H
X-Robots-Tag:noindex
X-PUBLISHED-TTL:PT1H
BEGIN:VTIMEZONE
TZID:Europe/Madrid
BEGIN:DAYLIGHT
TZOFFSETFROM:+0100
TZOFFSETTO:+0200
TZNAME:CEST
DTSTART:20200329T010000
END:DAYLIGHT
BEGIN:STANDARD
TZOFFSETFROM:+0200
TZOFFSETTO:+0100
TZNAME:CET
DTSTART:20201025T010000
END:STANDARD
END:VTIMEZONE
BEGIN:VEVENT
DTSTART;TZID=Europe/Madrid:20200910T100000
DTEND;TZID=Europe/Madrid:20200910T123000
DTSTAMP:20260423T113202
CREATED:20200910T105922Z
LAST-MODIFIED:20200910T105922Z
UID:20584-1599732000-1599741000@noticias.eudel.eus
SUMMARY:[:es]Comisión Ejecutiva de EUDEL[:eu]EUDELeko Batzorde Eragilea[:]
DESCRIPTION:
URL:https://noticias.eudel.eus/evento/comision-ejecutiva-de-eudel-6/
LOCATION:Reunión por viodeoconferencia
END:VEVENT
BEGIN:VEVENT
DTSTART;TZID=Europe/Madrid:20200910T100000
DTEND;TZID=Europe/Madrid:20200910T130000
DTSTAMP:20260423T113202
CREATED:20200903T111610Z
LAST-MODIFIED:20200903T111610Z
UID:20545-1599732000-1599742800@noticias.eudel.eus
SUMMARY:[:es]Comisión Ejecutiva de EUDEL.[:eu]EUDELeko Batzorde Eragilea.[:]
DESCRIPTION:
URL:https://noticias.eudel.eus/evento/comision-ejecutiva-de-eudel-5/
LOCATION:Reunión por viodeoconferencia
END:VEVENT
BEGIN:VEVENT
DTSTART;TZID=Europe/Madrid:20200910T163000
DTEND;TZID=Europe/Madrid:20200910T193000
DTSTAMP:20260423T113202
CREATED:20200903T111939Z
LAST-MODIFIED:20200903T111939Z
UID:20548-1599755400-1599766200@noticias.eudel.eus
SUMMARY:[:es]Curso Basqueskola: Coachig y Liderazgo[:eu]Basqueskola ikastaroa: Coaching eta Lidergoa[:]
DESCRIPTION:
URL:https://noticias.eudel.eus/evento/curso-basqueskola-coachig-y-liderazgo/
LOCATION:Sede EUDEL. Bilbao\, Ertzilla kalea 13 / c/ Ercilla\, nº 13\, BILBAO\, 48009
END:VEVENT
BEGIN:VEVENT
DTSTART;TZID=Europe/Madrid:20200911T153000
DTEND;TZID=Europe/Madrid:20200911T170000
DTSTAMP:20260423T113202
CREATED:20200911T063526Z
LAST-MODIFIED:20200911T063526Z
UID:20588-1599838200-1599843600@noticias.eudel.eus
SUMMARY:[:es]Reunión con Consejero de Educación[:eu]Hezkuntza sailburuarekin bilera[:]
DESCRIPTION:
URL:https://noticias.eudel.eus/evento/reunion-con-consejero-de-educacion/
LOCATION:Vitoria-Gasteiz\, ARABA
END:VEVENT
BEGIN:VEVENT
DTSTART;TZID=Europe/Madrid:20200915T160000
DTEND;TZID=Europe/Madrid:20200915T173000
DTSTAMP:20260423T113202
CREATED:20200715T083434Z
LAST-MODIFIED:20200715T083434Z
UID:20487-1600185600-1600191000@noticias.eudel.eus
SUMMARY:[:es]Basqueskola Sarea: Comisión Redes y Alianzas[:eu]Basqueskola Sarea: Sareak eta Aliantzak Batzordea[:]
DESCRIPTION:
URL:https://noticias.eudel.eus/evento/basqueskola-sarea-comision-redes-y-alianzas/
LOCATION:Reunión por viodeoconferencia
END:VEVENT
BEGIN:VEVENT
DTSTART;TZID=Europe/Madrid:20200916T160000
DTEND;TZID=Europe/Madrid:20200916T173000
DTSTAMP:20260423T113202
CREATED:20200721T094414Z
LAST-MODIFIED:20200721T094414Z
UID:20534-1600272000-1600277400@noticias.eudel.eus
SUMMARY:[:es]Red Basqueskola. Grupo motor.[:eu]Basqueskola Sarea.  Talde Eragilea.[:]
DESCRIPTION:
URL:https://noticias.eudel.eus/evento/red-basqueskola-grupo-motor/
LOCATION:Reunión por viodeoconferencia
END:VEVENT
BEGIN:VEVENT
DTSTART;TZID=Europe/Madrid:20200917T090000
DTEND;TZID=Europe/Madrid:20200917T103000
DTSTAMP:20260423T113202
CREATED:20200911T063702Z
LAST-MODIFIED:20200911T064110Z
UID:20590-1600333200-1600338600@noticias.eudel.eus
SUMMARY:[:es]Comisión Territorial de Bizkaia[:eu]Bizkaiko Lurralde Batzordea[:]
DESCRIPTION:
URL:https://noticias.eudel.eus/evento/comision-territorial-de-bizkaia/
LOCATION:Reunión por viodeoconferencia
END:VEVENT
BEGIN:VEVENT
DTSTART;TZID=Europe/Madrid:20200917T133000
DTEND;TZID=Europe/Madrid:20200917T143000
DTSTAMP:20260423T113202
CREATED:20200911T063810Z
LAST-MODIFIED:20200911T063810Z
UID:20592-1600349400-1600353000@noticias.eudel.eus
SUMMARY:[:es]Comisión Territorial de Álava[:eu]Arabako Lurralde Batzordea[:]
DESCRIPTION:
URL:https://noticias.eudel.eus/evento/comision-territorial-de-alava/
LOCATION:Reunión por viodeoconferencia
END:VEVENT
BEGIN:VEVENT
DTSTART;TZID=Europe/Madrid:20200918T103000
DTEND;TZID=Europe/Madrid:20200918T130000
DTSTAMP:20260423T113202
CREATED:20200914T104040Z
LAST-MODIFIED:20200914T104040Z
UID:20613-1600425000-1600434000@noticias.eudel.eus
SUMMARY:[:es]Comisión Territorial de Gipuzkoa de EUDEL[:eu]EUDELeko Gipuzkoako Lurralde Batzordea[:]
DESCRIPTION:
URL:https://noticias.eudel.eus/evento/comision-territorial-de-gipuzkoa-de-eudel-4/
LOCATION:Reunión por viodeoconferencia
END:VEVENT
BEGIN:VEVENT
DTSTART;TZID=Europe/Madrid:20200924T133000
DTEND;TZID=Europe/Madrid:20200924T150000
DTSTAMP:20260423T113202
CREATED:20200918T090956Z
LAST-MODIFIED:20200918T090956Z
UID:20626-1600954200-1600959600@noticias.eudel.eus
SUMMARY:[:es]Comisión Territorial de Bizkaia de EUDEL[:eu]EUDELeko Bizkaiako Lurralde Batzordea[:]
DESCRIPTION:
URL:https://noticias.eudel.eus/evento/comision-territorial-de-bizkaia-de-eudel-8/
LOCATION:Reunión por viodeoconferencia
END:VEVENT
BEGIN:VEVENT
DTSTART;TZID=Europe/Madrid:20200924T163000
DTEND;TZID=Europe/Madrid:20200924T180000
DTSTAMP:20260423T113202
CREATED:20200918T090826Z
LAST-MODIFIED:20200918T090826Z
UID:20624-1600965000-1600970400@noticias.eudel.eus
SUMMARY:[:es]Reunión “Bizkaiko euskara bizia” [:eu]“Bizkaiko euskara bizia” batzordea[:]
DESCRIPTION:
URL:https://noticias.eudel.eus/evento/reunion-bizkaiko-euskara-bizia/
LOCATION:Bilbao
END:VEVENT
BEGIN:VEVENT
DTSTART;TZID=Europe/Madrid:20200924T163000
DTEND;TZID=Europe/Madrid:20200924T183000
DTSTAMP:20260423T113202
CREATED:20200922T073200Z
LAST-MODIFIED:20200922T073200Z
UID:20633-1600965000-1600972200@noticias.eudel.eus
SUMMARY:[:es]Consejo Escolar de Euskadi[:eu]Euskadiko Eskola Kontseilua[:]
DESCRIPTION:
URL:https://noticias.eudel.eus/evento/consejo-escolar-de-euskadi/
LOCATION:Bilbao
END:VEVENT
BEGIN:VEVENT
DTSTART;TZID=Europe/Madrid:20200929T093000
DTEND;TZID=Europe/Madrid:20200929T120000
DTSTAMP:20260423T113202
CREATED:20200918T090619Z
LAST-MODIFIED:20200918T090619Z
UID:20622-1601371800-1601380800@noticias.eudel.eus
SUMMARY:[:es]Comité Director del Consejo de Municipios y Regiones de Europa (CMRE)[:eu]Europako Udal eta Eskualdeen Kontseiluaren Batzorde Gidatzailea.[:]
DESCRIPTION:
URL:https://noticias.eudel.eus/evento/comite-director-del-consejo-de-municipios-y-regiones-de-europa-cmre/
LOCATION:Reunión por viodeoconferencia
END:VEVENT
BEGIN:VEVENT
DTSTART;TZID=Europe/Madrid:20200929T163000
DTEND;TZID=Europe/Madrid:20200929T193000
DTSTAMP:20260423T113202
CREATED:20200903T123140Z
LAST-MODIFIED:20200903T123140Z
UID:20550-1601397000-1601407800@noticias.eudel.eus
SUMMARY:[:es]Curso Basqueskola: Coachig y Liderazgo[:eu]Basqueskola ikastaroa: Coaching eta Lidergoa[:]
DESCRIPTION:
URL:https://noticias.eudel.eus/evento/curso-basqueskola-coachig-y-liderazgo-2/
LOCATION:Sede EUDEL. Bilbao\, Ertzilla kalea 13 / c/ Ercilla\, nº 13\, BILBAO\, 48009
END:VEVENT
BEGIN:VEVENT
DTSTART;TZID=Europe/Madrid:20200930T093000
DTEND;TZID=Europe/Madrid:20200930T100000
DTSTAMP:20260423T113202
CREATED:20200925T095332Z
LAST-MODIFIED:20200925T095332Z
UID:20647-1601458200-1601460000@noticias.eudel.eus
SUMMARY:[:es]Comisión de Ordenación del Territorio del País Vasco. Álava.[:eu]Euskal Autonomia Erkidegoko Lurraldearen Antolamendurako Batzordea. Araba.[:]
DESCRIPTION:
URL:https://noticias.eudel.eus/evento/comision-de-ordenacion-del-territorio-del-pais-vasco-alava/
LOCATION:Vitoria-Gasteiz\, ARABA
END:VEVENT
BEGIN:VEVENT
DTSTART;TZID=Europe/Madrid:20200930T100000
DTEND;TZID=Europe/Madrid:20200930T101500
DTSTAMP:20260423T113202
CREATED:20200925T095012Z
LAST-MODIFIED:20200925T095012Z
UID:20643-1601460000-1601460900@noticias.eudel.eus
SUMMARY:[:es]Comisión de Ordenación del Territorio del País Vasco. Bizkaia.[:eu]Euskal Autonomia Erkidegoko Lurraldearen Antolamendurako Batzordea. Bizkaia.[:]
DESCRIPTION:
URL:https://noticias.eudel.eus/evento/comision-de-ordenacion-del-territorio-del-pais-vasco-bizkaia-2/
LOCATION:Vitoria-Gasteiz\, ARABA
END:VEVENT
BEGIN:VEVENT
DTSTART;TZID=Europe/Madrid:20200930T101500
DTEND;TZID=Europe/Madrid:20200930T104500
DTSTAMP:20260423T113202
CREATED:20200925T095200Z
LAST-MODIFIED:20200925T095528Z
UID:20645-1601460900-1601462700@noticias.eudel.eus
SUMMARY:[:es]Comisión de Ordenación del Territorio del País Vasco. Gipuzkoa.[:eu]Euskal Autonomia Erkidegoko Lurraldearen Antolamendurako Batzordea. Gipuzkoa.[:]
DESCRIPTION:
URL:https://noticias.eudel.eus/evento/comision-de-ordenacion-del-territorio-del-pais-vasco-bizkaia-3/
LOCATION:Vitoria-Gasteiz\, ARABA
END:VEVENT
END:VCALENDAR