BEGIN:VCALENDAR
VERSION:2.0
PRODID:-//EUDEL Noticias | Asociación de Municipios Vascos - ECPv6.5.1.3//NONSGML v1.0//EN
CALSCALE:GREGORIAN
METHOD:PUBLISH
X-WR-CALNAME:EUDEL Noticias | Asociación de Municipios Vascos
X-ORIGINAL-URL:https://noticias.eudel.eus/eu
X-WR-CALDESC:Events for EUDEL Noticias | Asociación de Municipios Vascos
REFRESH-INTERVAL;VALUE=DURATION:PT1H
X-Robots-Tag:noindex
X-PUBLISHED-TTL:PT1H
BEGIN:VTIMEZONE
TZID:Europe/Madrid
BEGIN:DAYLIGHT
TZOFFSETFROM:+0100
TZOFFSETTO:+0200
TZNAME:CEST
DTSTART:20200329T010000
END:DAYLIGHT
BEGIN:STANDARD
TZOFFSETFROM:+0200
TZOFFSETTO:+0100
TZNAME:CET
DTSTART:20201025T010000
END:STANDARD
END:VTIMEZONE
BEGIN:VEVENT
DTSTART;TZID=Europe/Madrid:20201002T093000
DTEND;TZID=Europe/Madrid:20201002T133000
DTSTAMP:20260423T082546
CREATED:20200909T113024Z
LAST-MODIFIED:20200910T111855Z
UID:20559-1601631000-1601645400@noticias.eudel.eus
SUMMARY:[:es]XIV edición Seminario Vasco de Derecho Local. Sesión primera: Interoperabilidad y protección de datos: Cambio de paradigma.[:eu]XIV edizioa Tokiko Zuzenbidearen Euskal Mintegia. Lehenengo saioa: Interoperabilidad y protección de datos: Cambio de paradigma.[:]
DESCRIPTION:
URL:https://noticias.eudel.eus/eu/evento/xiv-edicion-seminario-vasco-de-derecho-local-sesion-primera-interoperabilidad-y-proteccion-de-datos-cambio-de-paradigma/
LOCATION:Zoom plataformaren bitartez
END:VEVENT
BEGIN:VEVENT
DTSTART;TZID=Europe/Madrid:20201002T110000
DTEND;TZID=Europe/Madrid:20201002T130000
DTSTAMP:20260423T082546
CREATED:20200928T070639Z
LAST-MODIFIED:20200928T070639Z
UID:20650-1601636400-1601643600@noticias.eudel.eus
SUMMARY:[:es]Berdinlan: Berdinsarea reunión técnica Mainstreaming en la Nueva Normalidad[:eu]Berdinlan:  Berdinsarea Batzorde Teknikoa Mainstreaming-a Normaltasun Berrian[:]
DESCRIPTION:
URL:https://noticias.eudel.eus/eu/evento/berdinlan-berdinsarea-reunion-tecnica-mainstreaming-en-la-nueva-normalidad/
LOCATION:Bideokonferentziaren bitartez bilera
END:VEVENT
BEGIN:VEVENT
DTSTART;TZID=Europe/Madrid:20201008T100000
DTEND;TZID=Europe/Madrid:20201008T130000
DTSTAMP:20260423T082546
CREATED:20201002T105140Z
LAST-MODIFIED:20201002T105140Z
UID:20673-1602151200-1602162000@noticias.eudel.eus
SUMMARY:[:es]Comisión Ejecutiva de EUDEL.[:eu]EUDELeko Batzorde Eragilea.[:]
DESCRIPTION:
URL:https://noticias.eudel.eus/eu/evento/comision-ejecutiva-de-eudel-7/
LOCATION:Bideokonferentziaren bitartez bilera
END:VEVENT
BEGIN:VEVENT
DTSTART;TZID=Europe/Madrid:20201008T163000
DTEND;TZID=Europe/Madrid:20201008T193000
DTSTAMP:20260423T082546
CREATED:20200903T123235Z
LAST-MODIFIED:20200903T123235Z
UID:20552-1602174600-1602185400@noticias.eudel.eus
SUMMARY:[:es]Curso Basqueskola: Coachig y Liderazgo[:eu]Basqueskola ikastaroa: Coaching eta Lidergoa[:]
DESCRIPTION:
URL:https://noticias.eudel.eus/eu/evento/curso-basqueskola-coachig-y-liderazgo-3/
LOCATION:EUDELen egoitza. Bilbao\, Ertzilla kalea 13 / c/ Ercilla\, nº 13\, BILBAO\, 48009
END:VEVENT
BEGIN:VEVENT
DTSTART;TZID=Europe/Madrid:20201009T090000
DTEND;TZID=Europe/Madrid:20201009T110000
DTSTAMP:20260423T082546
CREATED:20201007T070936Z
LAST-MODIFIED:20201007T070936Z
UID:20690-1602234000-1602241200@noticias.eudel.eus
SUMMARY:[:es]Mesa Interinstitucional Servicios Sociales de Bizkaia.[:eu]Gizarte Zerbitzuen Bizkaiko Lurralde Erakunde Arteko Lan-mahaia.[:]
DESCRIPTION:
URL:https://noticias.eudel.eus/eu/evento/mesa-interinstitucional-servicios-sociales-de-bizkaia/
LOCATION:Bideokonferentziaren bitartez bilera
END:VEVENT
BEGIN:VEVENT
DTSTART;TZID=Europe/Madrid:20201013T093000
DTEND;TZID=Europe/Madrid:20201013T110000
DTSTAMP:20260423T082546
CREATED:20201007T070536Z
LAST-MODIFIED:20201007T070536Z
UID:20688-1602581400-1602586800@noticias.eudel.eus
SUMMARY:[:es]Comisión Territorial de Bizkaia de EUDEL.[:eu]EUDELeko Bizkaiko Lurraldeko Batzordea[:]
DESCRIPTION:
URL:https://noticias.eudel.eus/eu/evento/comision-territorial-de-bizkaia-de-eudel-9/
LOCATION:Bideokonferentziaren bitartez bilera
END:VEVENT
BEGIN:VEVENT
DTSTART;TZID=Europe/Madrid:20201013T160000
DTEND;TZID=Europe/Madrid:20201013T173000
DTSTAMP:20260423T082546
CREATED:20201001T063810Z
LAST-MODIFIED:20201005T130034Z
UID:20664-1602604800-1602610200@noticias.eudel.eus
SUMMARY:[:es]Basqueskola Sarea: Comisión de Redes y Alianzas[:eu]Basqueskola Sarea: Sareetako eta Aliantzetako Batzordea[:]
DESCRIPTION:
URL:https://noticias.eudel.eus/eu/evento/basqueskolasarea-comision-de-redes-y-alianzas/
LOCATION:Bideokonferentziaren bitartez bilera
END:VEVENT
BEGIN:VEVENT
DTSTART;TZID=Europe/Madrid:20201015T110000
DTEND;TZID=Europe/Madrid:20201015T130000
DTSTAMP:20260423T082546
CREATED:20201014T070832Z
LAST-MODIFIED:20201014T070832Z
UID:20712-1602759600-1602766800@noticias.eudel.eus
SUMMARY:[:es]11:00 h. Vitoria-Gasteiz. Consejo Vasco de Finanzas Públicas.[:eu]11:00. Vitoria-Gasteiz. Herri-Dirubideen Euskal Kontseilua.[:]
DESCRIPTION:
URL:https://noticias.eudel.eus/eu/evento/1100-h-vitoria-gasteiz-consejo-vasco-de-finanzas-publicas/
LOCATION:Vitoria-Gasteiz\, ARABA
END:VEVENT
BEGIN:VEVENT
DTSTART;TZID=Europe/Madrid:20201016T093000
DTEND;TZID=Europe/Madrid:20201016T133000
DTSTAMP:20260423T082546
CREATED:20200909T113255Z
LAST-MODIFIED:20200910T111837Z
UID:20561-1602840600-1602855000@noticias.eudel.eus
SUMMARY:[:es]XIV edición Seminario Vasco de Derecho Local. Sesión segunda: Actualidad jurisprudencial y normativa en materia de procedimiento administrativo y administración electrónica.[:eu]XIV edizioa Tokiko Zuzenbidearen Euskal Mintegia. Bigarren saioa: Actualidad jurisprudencial y normativa en materia de procedimiento administrativo y administración electrónica.[:]
DESCRIPTION:
URL:https://noticias.eudel.eus/eu/evento/xiv-edicion-seminario-vasco-de-derecho-local-sesion-segunda-actualidad-jurisprudencial-y-normativa-en-materia-de-procedimiento-administrativo-y-administracion-electronica/
LOCATION:Zoom plataformaren bitartez
END:VEVENT
BEGIN:VEVENT
DTSTART;TZID=Europe/Madrid:20201019T113000
DTEND;TZID=Europe/Madrid:20201019T130000
DTSTAMP:20260423T082546
CREATED:20201016T084935Z
LAST-MODIFIED:20201016T084935Z
UID:20741-1603107000-1603112400@noticias.eudel.eus
SUMMARY:[:es]Comisión Urbanismo de Álava[:eu]Arabako Hirigintza Batzordea[:]
DESCRIPTION:
URL:https://noticias.eudel.eus/eu/evento/comision-urbanismo-de-alava/
LOCATION:Vitoria-Gasteiz\, ARABA
END:VEVENT
BEGIN:VEVENT
DTSTART;TZID=Europe/Madrid:20201019T120000
DTEND;TZID=Europe/Madrid:20201019T130000
DTSTAMP:20260423T082546
CREATED:20201016T111414Z
LAST-MODIFIED:20201016T111414Z
UID:20753-1603108800-1603112400@noticias.eudel.eus
SUMMARY:[:es]Consejo Territorial de Finanzas de Gipuzkoa[:eu]Gipuzkoako Finantzen Lurralde Kontseilua[:]
DESCRIPTION:
URL:https://noticias.eudel.eus/eu/evento/consejo-territorial-de-finanzas-de-gipuzkoa-2/
LOCATION:Bideokonferentziaren bitartez bilera
END:VEVENT
BEGIN:VEVENT
DTSTART;TZID=Europe/Madrid:20201019T133000
DTEND;TZID=Europe/Madrid:20201019T150000
DTSTAMP:20260423T082546
CREATED:20201016T084213Z
LAST-MODIFIED:20201016T084213Z
UID:20734-1603114200-1603119600@noticias.eudel.eus
SUMMARY:[:es]Comisión Territorial de Gipuzkoa de EUDEL.[:eu]EUDELen Gipuzkoako Lurralde Batzordea.[:en]Comisión Territorial de Gipuzkoa de[:]
DESCRIPTION:
URL:https://noticias.eudel.eus/eu/evento/comision-territorial-de-gipuzkoa-de-eudel-5/
LOCATION:Bideokonferentziaren bitartez bilera
END:VEVENT
BEGIN:VEVENT
DTSTART;TZID=Europe/Madrid:20201019T163000
DTEND;TZID=Europe/Madrid:20201019T183000
DTSTAMP:20260423T082546
CREATED:20201016T084745Z
LAST-MODIFIED:20201016T084745Z
UID:20739-1603125000-1603132200@noticias.eudel.eus
SUMMARY:[:es]Consejo Territorial de Administración Local y Finanzas de Álava[:eu]Arabako Toki Administrazio eta Finantzen Lurralde Kontseilua[:]
DESCRIPTION:
URL:https://noticias.eudel.eus/eu/evento/consejo-territorial-de-administracion-local-y-finanzas-de-alava-2/
LOCATION:Bideokonferentziaren bitartez bilera
END:VEVENT
BEGIN:VEVENT
DTSTART;TZID=Europe/Madrid:20201019T183000
DTEND;TZID=Europe/Madrid:20201019T200000
DTSTAMP:20260423T082546
CREATED:20201016T085104Z
LAST-MODIFIED:20201016T085104Z
UID:20743-1603132200-1603137600@noticias.eudel.eus
SUMMARY:[:es]Comisión Territorial de Álava de EUDEL[:eu]Arabako Lurralde Batzordea[:]
DESCRIPTION:
URL:https://noticias.eudel.eus/eu/evento/comision-territorial-de-alava-de-eudel-4/
LOCATION:Bideokonferentziaren bitartez bilera
END:VEVENT
BEGIN:VEVENT
DTSTART;TZID=Europe/Madrid:20201020T130000
DTEND;TZID=Europe/Madrid:20201020T143000
DTSTAMP:20260423T082546
CREATED:20201019T142903Z
LAST-MODIFIED:20201019T142903Z
UID:20759-1603198800-1603204200@noticias.eudel.eus
SUMMARY:[:es]Consejo Territorial de Finanzas de Bizkaia[:eu]Bizkaiko Finantzen Lurralde Kontseilua[:]
DESCRIPTION:
URL:https://noticias.eudel.eus/eu/evento/consejo-territorial-de-finanzas-de-bizkaia-5/
LOCATION:Bideokonferentziaren bitartez bilera
END:VEVENT
BEGIN:VEVENT
DTSTART;TZID=Europe/Madrid:20201020T153000
DTEND;TZID=Europe/Madrid:20201020T173000
DTSTAMP:20260423T082546
CREATED:20201015T112244Z
LAST-MODIFIED:20201016T084323Z
UID:20725-1603207800-1603215000@noticias.eudel.eus
SUMMARY:[:es]Comisión Territorial de Bizkaia de EUDEL[:eu]EUDELeko Bizkaiko Lurraldeko Batzordea[:]
DESCRIPTION:
URL:https://noticias.eudel.eus/eu/evento/comision-territorial-de-bizkaia-de-eudel-10/
LOCATION:Bideokonferentziaren bitartez bilera
END:VEVENT
BEGIN:VEVENT
DTSTART;TZID=Europe/Madrid:20201020T160000
DTEND;TZID=Europe/Madrid:20201020T173000
DTSTAMP:20260423T082546
CREATED:20201016T091251Z
LAST-MODIFIED:20201016T091251Z
UID:20751-1603209600-1603215000@noticias.eudel.eus
SUMMARY:[:es]Red Basqueskola: Comisión Redes y Alianzas[:eu]Basqueskola Sarea: Sareetako eta Aliantzetako Batzordea[:]
DESCRIPTION:
URL:https://noticias.eudel.eus/eu/evento/red-basqueskola-comision-redes-y-alianzas/
LOCATION:Bideokonferentziaren bitartez bilera
END:VEVENT
BEGIN:VEVENT
DTSTART;TZID=Europe/Madrid:20201020T160000
DTEND;TZID=Europe/Madrid:20201020T173000
DTSTAMP:20260423T082546
CREATED:20201020T092600Z
LAST-MODIFIED:20201020T092600Z
UID:20766-1603209600-1603215000@noticias.eudel.eus
SUMMARY:[:es]Red Basqueskola:  Comisión VCMP[:eu]Basqueskola Sarea: VCMP Batzordea[:]
DESCRIPTION:
URL:https://noticias.eudel.eus/eu/evento/red-basqueskola-comision-vcmp/
LOCATION:Bideokonferentziaren bitartez bilera
END:VEVENT
BEGIN:VEVENT
DTSTART;TZID=Europe/Madrid:20201022T093000
DTEND;TZID=Europe/Madrid:20201022T113000
DTSTAMP:20260423T082546
CREATED:20201016T085250Z
LAST-MODIFIED:20201016T085250Z
UID:20745-1603359000-1603366200@noticias.eudel.eus
SUMMARY:[:es]Comisión de Garantías de Admisión de Alumnos de Bizkaia[:eu]Bizkaiko Ikasleen Onarpen Bermerako Batzordea.[:]
DESCRIPTION:
URL:https://noticias.eudel.eus/eu/evento/comision-de-garantias-de-admision-de-alumnos-de-bizkaia/
LOCATION:Bilbao
END:VEVENT
BEGIN:VEVENT
DTSTART;TZID=Europe/Madrid:20201022T100000
DTEND;TZID=Europe/Madrid:20201022T120000
DTSTAMP:20260423T082546
CREATED:20201016T085402Z
LAST-MODIFIED:20201016T085402Z
UID:20747-1603360800-1603368000@noticias.eudel.eus
SUMMARY:[:es]Consejo Interinstitucional de Atención Temprana[:eu]Arreta goiztiarrerako Erakunde Arteko Kontseilua[:]
DESCRIPTION:
URL:https://noticias.eudel.eus/eu/evento/consejo-interinstitucional-de-atencion-temprana/
LOCATION:Vitoria-Gasteiz\, ARABA
END:VEVENT
BEGIN:VEVENT
DTSTART;TZID=Europe/Madrid:20201022T133000
DTEND;TZID=Europe/Madrid:20201022T143000
DTSTAMP:20260423T082546
CREATED:20201016T084437Z
LAST-MODIFIED:20201016T084437Z
UID:20737-1603373400-1603377000@noticias.eudel.eus
SUMMARY:[:es]Comisión Ejecutiva de EUDEL[:eu]EUDELeko Batzorde Eragilea[:]
DESCRIPTION:
URL:https://noticias.eudel.eus/eu/evento/comision-ejecutiva-de-eudel-8/
LOCATION:Bideokonferentziaren bitartez bilera
END:VEVENT
BEGIN:VEVENT
DTSTART;TZID=Europe/Madrid:20201022T143000
DTEND;TZID=Europe/Madrid:20201022T153000
DTSTAMP:20260423T082546
CREATED:20201020T092427Z
LAST-MODIFIED:20201022T063617Z
UID:20764-1603377000-1603380600@noticias.eudel.eus
SUMMARY:[:es]Comisión Territorial de Álava[:eu]Arabako Lurralde Batzordea[:]
DESCRIPTION:
URL:https://noticias.eudel.eus/eu/evento/comision-territorial-de-alava-2/
LOCATION:Bideokonferentziaren bitartez bilera
END:VEVENT
BEGIN:VEVENT
DTSTART;TZID=Europe/Madrid:20201022T160000
DTEND;TZID=Europe/Madrid:20201022T173000
DTSTAMP:20260423T082546
CREATED:20201020T092800Z
LAST-MODIFIED:20201020T092800Z
UID:20768-1603382400-1603387800@noticias.eudel.eus
SUMMARY:[:es]Basquekola Comisión Acompañamiento: Programa Basqueadituak [:eu]Basquekola  Akonpainamendua Batzordea: Basqueadituak egitaraua[:]
DESCRIPTION:
URL:https://noticias.eudel.eus/eu/evento/basquekola-comision-acompanamiento-programa-basqueadituak/
LOCATION:Bideokonferentziaren bitartez bilera
END:VEVENT
BEGIN:VEVENT
DTSTART;TZID=Europe/Madrid:20201023T100000
DTEND;TZID=Europe/Madrid:20201023T113000
DTSTAMP:20260423T082546
CREATED:20201023T080741Z
LAST-MODIFIED:20201023T080741Z
UID:20785-1603447200-1603452600@noticias.eudel.eus
SUMMARY:[:es]Junta de Gobierno de Elkarkidetza[:eu]Elkarkidetza. Gobernu Batzordea[:]
DESCRIPTION:
URL:https://noticias.eudel.eus/eu/evento/junta-de-gobierno-de-elkarkidetza-2/
LOCATION:Vitoria-Gasteiz\, ARABA
END:VEVENT
BEGIN:VEVENT
DTSTART;TZID=Europe/Madrid:20201027T093000
DTEND;TZID=Europe/Madrid:20201027T110000
DTSTAMP:20260423T082546
CREATED:20201016T085509Z
LAST-MODIFIED:20201016T085509Z
UID:20749-1603791000-1603796400@noticias.eudel.eus
SUMMARY:[:es]Comisión de Seguimiento sobre el Brexit[:eu]Brexit-ari buruzko Jarraipen Batzordea.[:]
DESCRIPTION:
URL:https://noticias.eudel.eus/eu/evento/comision-de-seguimiento-sobre-el-brexit-2/
LOCATION:Vitoria-Gasteiz\, ARABA
END:VEVENT
BEGIN:VEVENT
DTSTART;TZID=Europe/Madrid:20201028T090000
DTEND;TZID=Europe/Madrid:20201028T110000
DTSTAMP:20260423T082546
CREATED:20201026T101634Z
LAST-MODIFIED:20201026T101634Z
UID:20795-1603875600-1603882800@noticias.eudel.eus
SUMMARY:[:es]Comité Director del Consorcio Haurreskolak[:eu]Haurreskolak Partzuergoko Zuzendaritza-Batzordea[:]
DESCRIPTION:
URL:https://noticias.eudel.eus/eu/evento/comite-director-del-consorcio-haurreskolak/
LOCATION:Vitoria-Gasteiz\, ARABA
END:VEVENT
BEGIN:VEVENT
DTSTART;TZID=Europe/Madrid:20201029T090000
DTEND;TZID=Europe/Madrid:20201029T110000
DTSTAMP:20260423T082546
CREATED:20201023T081432Z
LAST-MODIFIED:20201023T081432Z
UID:20787-1603962000-1603969200@noticias.eudel.eus
SUMMARY:[:es]Comisión de Garantías de Admisión de Alumnos de Gipuzkoa[:eu]Gipuzkoako Ikasleen Onarpen Bermerako Batzordea[:]
DESCRIPTION:
URL:https://noticias.eudel.eus/eu/evento/comision-de-garantias-de-admision-de-alumnos-de-gipuzkoa/
LOCATION:Bideokonferentziaren bitartez bilera
END:VEVENT
BEGIN:VEVENT
DTSTART;TZID=Europe/Madrid:20201029T130000
DTEND;TZID=Europe/Madrid:20201029T143000
DTSTAMP:20260423T082546
CREATED:20201023T080544Z
LAST-MODIFIED:20201023T080544Z
UID:20783-1603976400-1603981800@noticias.eudel.eus
SUMMARY:[:es]Comisión Territorial de Álava[:eu]Arabako Lurralde Batzordea[:]
DESCRIPTION:
URL:https://noticias.eudel.eus/eu/evento/comision-territorial-de-alava-3/
LOCATION:Bideokonferentziaren bitartez bilera
END:VEVENT
BEGIN:VEVENT
DTSTART;TZID=Europe/Madrid:20201030T093000
DTEND;TZID=Europe/Madrid:20201030T133000
DTSTAMP:20260423T082546
CREATED:20200909T113510Z
LAST-MODIFIED:20200910T111817Z
UID:20563-1604050200-1604064600@noticias.eudel.eus
SUMMARY:[:es]XIV edición Seminario Vasco de Derecho Local. Sesión Tercera: La consolidación del empleo temporal y los procesos de funcionarización del personal laboral en las entidades locales: estado de la cuestión en el 2020.[:eu]XIV edizioa Tokiko Zuzenbidearen Euskal Mintegia. Hirugarren saioa: La consolidación del empleo temporal y los procesos de funcionarización del personal laboral en las entidades locales: estado de la cuestión en el 2020.[:]
DESCRIPTION:
URL:https://noticias.eudel.eus/eu/evento/xiv-edicion-seminario-vasco-de-derecho-local-sesion-tercera-la-consolidacion-del-empleo-temporal-y-los-procesos-de-funcionarizacion-del-personal-laboral-en-las-entidades-locales-estado-de-la-cuesti/
LOCATION:Zoom plataformaren bitartez
END:VEVENT
END:VCALENDAR