BEGIN:VCALENDAR
VERSION:2.0
PRODID:-//EUDEL Noticias | Asociación de Municipios Vascos - ECPv6.5.1.3//NONSGML v1.0//EN
CALSCALE:GREGORIAN
METHOD:PUBLISH
X-ORIGINAL-URL:https://noticias.eudel.eus
X-WR-CALDESC:Eventos para EUDEL Noticias | Asociación de Municipios Vascos
REFRESH-INTERVAL;VALUE=DURATION:PT1H
X-Robots-Tag:noindex
X-PUBLISHED-TTL:PT1H
BEGIN:VTIMEZONE
TZID:Europe/Madrid
BEGIN:DAYLIGHT
TZOFFSETFROM:+0100
TZOFFSETTO:+0200
TZNAME:CEST
DTSTART:20200329T010000
END:DAYLIGHT
BEGIN:STANDARD
TZOFFSETFROM:+0200
TZOFFSETTO:+0100
TZNAME:CET
DTSTART:20201025T010000
END:STANDARD
END:VTIMEZONE
BEGIN:VEVENT
DTSTART;TZID=Europe/Madrid:20201202T123000
DTEND;TZID=Europe/Madrid:20201202T133000
DTSTAMP:20260423T031232
CREATED:20201130T115539Z
LAST-MODIFIED:20201130T115607Z
UID:20982-1606912200-1606915800@noticias.eudel.eus
SUMMARY:[:es]Consejo Asesor del Euskera.[:eu]Euskararen Aholku Batzordea[:]
DESCRIPTION:
URL:https://noticias.eudel.eus/evento/consejo-asesor-del-euskera/
LOCATION:Reunión por viodeoconferencia
END:VEVENT
BEGIN:VEVENT
DTSTART;TZID=Europe/Madrid:20201204T090000
DTEND;TZID=Europe/Madrid:20201204T110000
DTSTAMP:20260423T031232
CREATED:20201202T083515Z
LAST-MODIFIED:20201202T083515Z
UID:20998-1607072400-1607079600@noticias.eudel.eus
SUMMARY:[:es]Consejo Territorial y Administración Local de Finanzas de Álava[:eu]Arabako Toki Administrazio eta Finantzen Lurralde Kontseilua[:]
DESCRIPTION:
URL:https://noticias.eudel.eus/evento/consejo-territorial-y-administracion-local-de-finanzas-de-alava/
LOCATION:Reunión por viodeoconferencia
END:VEVENT
BEGIN:VEVENT
DTSTART;TZID=Europe/Madrid:20201204T133000
DTEND;TZID=Europe/Madrid:20201204T153000
DTSTAMP:20260423T031232
CREATED:20201125T124741Z
LAST-MODIFIED:20201125T124741Z
UID:20974-1607088600-1607095800@noticias.eudel.eus
SUMMARY:[:es]Comisión Territorial de Álava de EUDEL[:eu]EUDELeko Arabako Lurralde Batzordea[:]
DESCRIPTION:
URL:https://noticias.eudel.eus/evento/comision-territorial-de-alava-de-eudel-5/
LOCATION:Reunión por viodeoconferencia
END:VEVENT
BEGIN:VEVENT
DTSTART;TZID=Europe/Madrid:20201204T133000
DTEND;TZID=Europe/Madrid:20201204T153000
DTSTAMP:20260423T031232
CREATED:20201127T132209Z
LAST-MODIFIED:20201127T132209Z
UID:20980-1607088600-1607095800@noticias.eudel.eus
SUMMARY:[:es]Órgano Interinstitucional de Servicios Sociales (OISS)[:eu]Gizarte Zerbitzuen Erakunde arteko Organoaren bilera[:]
DESCRIPTION:
URL:https://noticias.eudel.eus/evento/organo-interinstitucional-de-servicios-sociales-oiss/
LOCATION:Reunión por viodeoconferencia
END:VEVENT
BEGIN:VEVENT
DTSTART;TZID=Europe/Madrid:20201209T100000
DTEND;TZID=Europe/Madrid:20201209T120000
DTSTAMP:20260423T031232
CREATED:20201209T101353Z
LAST-MODIFIED:20201209T101353Z
UID:21013-1607508000-1607515200@noticias.eudel.eus
SUMMARY:[:es]Consejo para la promoción integral y participación social del pueblo gitano en el País Vasco.[:eu]Ijito herriaren erabateko sustapenerako eta partaidetza sozialerako kontseilua.[:]
DESCRIPTION:
URL:https://noticias.eudel.eus/evento/consejo-para-la-promocion-integral-y-participacion-social-del-pueblo-gitano-en-el-pais-vasco/
LOCATION:Reunión por viodeoconferencia
END:VEVENT
BEGIN:VEVENT
DTSTART;TZID=Europe/Madrid:20201209T150000
DTEND;TZID=Europe/Madrid:20201209T170000
DTSTAMP:20260423T031232
CREATED:20201127T120847Z
LAST-MODIFIED:20201127T120847Z
UID:20978-1607526000-1607533200@noticias.eudel.eus
SUMMARY:[:es]Comisión de Protección Civil de Euskadi.[:eu]Euskadiko Babes Zibileko Batzordea.[:]
DESCRIPTION:
URL:https://noticias.eudel.eus/evento/comision-de-proteccion-civil-de-euskadi/
LOCATION:Reunión por viodeoconferencia
END:VEVENT
BEGIN:VEVENT
DTSTART;TZID=Europe/Madrid:20201209T160000
DTEND;TZID=Europe/Madrid:20201209T173000
DTSTAMP:20260423T031232
CREATED:20201202T083731Z
LAST-MODIFIED:20201209T095140Z
UID:21000-1607529600-1607535000@noticias.eudel.eus
SUMMARY:[:es]Basqueaditu Formación "Usos del tiempo y participación politica local"[:eu]Basqueaditu Prestakuntza Pilula "Denboraren erabiliera eta udal politikagintza"[:]
DESCRIPTION:
URL:https://noticias.eudel.eus/evento/basqueaditu-formacion-usos-del-tiempo-y-participacion-politica-local/
LOCATION:Reunión por viodeoconferencia
END:VEVENT
BEGIN:VEVENT
DTSTART;TZID=Europe/Madrid:20201209T160000
DTEND;TZID=Europe/Madrid:20201209T180000
DTSTAMP:20260423T031232
CREATED:20201209T101600Z
LAST-MODIFIED:20201209T101600Z
UID:21015-1607529600-1607536800@noticias.eudel.eus
SUMMARY:[:es]Reunión del Consejo de Dirección de Gogora[:eu]Gogora Zuzendaritza kontseiluaren bilera[:]
DESCRIPTION:
URL:https://noticias.eudel.eus/evento/reunion-del-consejo-de-direccion-de-gogora/
LOCATION:Reunión por viodeoconferencia
END:VEVENT
BEGIN:VEVENT
DTSTART;TZID=Europe/Madrid:20201210T090000
DTEND;TZID=Europe/Madrid:20201210T113000
DTSTAMP:20260423T031232
CREATED:20201209T101801Z
LAST-MODIFIED:20201209T101801Z
UID:21017-1607590800-1607599800@noticias.eudel.eus
SUMMARY:[:es]Comisión Ejecutiva de EUDEL[:eu]EUDELeko Batzorde Eragilea[:]
DESCRIPTION:
URL:https://noticias.eudel.eus/evento/comision-ejecutiva-de-eudel-10/
LOCATION:Reunión por viodeoconferencia
END:VEVENT
BEGIN:VEVENT
DTSTART;TZID=Europe/Madrid:20201210T093000
DTEND;TZID=Europe/Madrid:20201210T113000
DTSTAMP:20260423T031232
CREATED:20201209T102237Z
LAST-MODIFIED:20201209T102237Z
UID:21019-1607592600-1607599800@noticias.eudel.eus
SUMMARY:[:es]Comisión de Garantías de Admisión de Alumnos de Bizkaia[:eu]Bizkaiko Ikasleen Onarpen Bermerako Batzordea.[:]
DESCRIPTION:
URL:https://noticias.eudel.eus/evento/comision-de-garantias-de-admision-de-alumnos-de-bizkaia-2/
LOCATION:Bilbao
END:VEVENT
BEGIN:VEVENT
DTSTART;TZID=Europe/Madrid:20201210T120000
DTEND;TZID=Europe/Madrid:20201210T140000
DTSTAMP:20260423T031232
CREATED:20201209T102442Z
LAST-MODIFIED:20201209T102442Z
UID:21021-1607601600-1607608800@noticias.eudel.eus
SUMMARY:[:es]Convocatoria Mesa Interinstitucional de Emprendimiento[:eu]Erakundearteko Ekintzailetza Mahaiaren Deialdia[:]
DESCRIPTION:
URL:https://noticias.eudel.eus/evento/convocatoria-mesa-interinstitucional-de-emprendimiento/
LOCATION:Reunión por viodeoconferencia
END:VEVENT
BEGIN:VEVENT
DTSTART;TZID=Europe/Madrid:20201210T123000
DTEND;TZID=Europe/Madrid:20201210T140000
DTSTAMP:20260423T031232
CREATED:20201202T112235Z
LAST-MODIFIED:20201202T112235Z
UID:21002-1607603400-1607608800@noticias.eudel.eus
SUMMARY:[:es]Consejo Vasco del Voluntariado[:eu]Boluntariotzaren Euskal Kontseilua[:]
DESCRIPTION:
URL:https://noticias.eudel.eus/evento/consejo-vasco-del-voluntariado-3/
LOCATION:Reunión por viodeoconferencia
END:VEVENT
BEGIN:VEVENT
DTSTART;TZID=Europe/Madrid:20201210T180000
DTEND;TZID=Europe/Madrid:20201210T190000
DTSTAMP:20260423T031232
CREATED:20201209T102723Z
LAST-MODIFIED:20201209T102723Z
UID:21023-1607623200-1607626800@noticias.eudel.eus
SUMMARY:[:es]Consejo Territorial de Deporte Escolar de Álava[:eu]Arabako Eskola Kirolaren Lurraldeko Kontseilua[:]
DESCRIPTION:
URL:https://noticias.eudel.eus/evento/consejo-territorial-de-deporte-escolar-de-alava/
LOCATION:Vitoria-Gasteiz\, ARABA
END:VEVENT
BEGIN:VEVENT
DTSTART;TZID=Europe/Madrid:20201211T150000
DTEND;TZID=Europe/Madrid:20201211T170000
DTSTAMP:20260423T031232
CREATED:20201209T095416Z
LAST-MODIFIED:20201210T093232Z
UID:21011-1607698800-1607706000@noticias.eudel.eus
SUMMARY:[:es]Reunión Grupo Motor Red Basqueskola [:eu]Basqueskola Sarea. Talde Eragilearen bilera.[:]
DESCRIPTION:
URL:https://noticias.eudel.eus/evento/reunion-grupo-motor-red-basqueskola/
LOCATION:EUDEL Bilbao (Plaza del Ensanche\, 5)\, Zabalgune plaza 5 / Plaza del Ensanche 5\, BILBAO\, 48009
END:VEVENT
BEGIN:VEVENT
DTSTART;TZID=Europe/Madrid:20201214T120000
DTEND;TZID=Europe/Madrid:20201214T140000
DTSTAMP:20260423T031232
CREATED:20201210T121413Z
LAST-MODIFIED:20201210T121413Z
UID:21038-1607947200-1607954400@noticias.eudel.eus
SUMMARY:[:es]Consejo Vasco para la Promoción de la Accesibilidad[:eu]Irisgarritasuna Sustatzeko Euskal Kontseilua[:]
DESCRIPTION:
URL:https://noticias.eudel.eus/evento/consejo-vasco-para-la-promocion-de-la-accesibilidad/
LOCATION:Reunión por viodeoconferencia
END:VEVENT
BEGIN:VEVENT
DTSTART;TZID=Europe/Madrid:20201215T120000
DTEND;TZID=Europe/Madrid:20201215T140000
DTSTAMP:20260423T031232
CREATED:20201211T073816Z
LAST-MODIFIED:20201211T073816Z
UID:21047-1608033600-1608040800@noticias.eudel.eus
SUMMARY:[:es]Consejo de Sanidad de Euskadi[:eu]Euskadiko Osasun Kontseilua.[:]
DESCRIPTION:
URL:https://noticias.eudel.eus/evento/consejo-de-sanidad-de-euskadi/
LOCATION:Vitoria-Gasteiz\, ARABA
END:VEVENT
BEGIN:VEVENT
DTSTART;TZID=Europe/Madrid:20201215T160000
DTEND;TZID=Europe/Madrid:20201215T173000
DTSTAMP:20260423T031232
CREATED:20201001T063944Z
LAST-MODIFIED:20201001T064116Z
UID:20668-1608048000-1608053400@noticias.eudel.eus
SUMMARY:[:es]Basqueskola Sarea: Comisión de Redes y Alianzas[:eu]Basqueskola Sarea: Sareetako eta Aliantzetako Batzordea[:]
DESCRIPTION:
URL:https://noticias.eudel.eus/evento/basqueskolasarea-comision-de-redes-y-alianzas-3/
LOCATION:Reunión por viodeoconferencia
END:VEVENT
BEGIN:VEVENT
DTSTART;TZID=Europe/Madrid:20201215T163000
DTEND;TZID=Europe/Madrid:20201215T180000
DTSTAMP:20260423T031232
CREATED:20201210T120958Z
LAST-MODIFIED:20201210T120958Z
UID:21036-1608049800-1608055200@noticias.eudel.eus
SUMMARY:[:es]Consejo Rector de BIKAIN\, Certificado de Calidad en la Gestión Lingüística[:eu]BIKAIN-Euskararen Kalitate Ziurtagiriaren Artezkaritza Kontseilua[:]
DESCRIPTION:
URL:https://noticias.eudel.eus/evento/consejo-rector-de-bikain-certificado-de-calidad-en-la-gestion-linguistica/
LOCATION:Bilbao
END:VEVENT
BEGIN:VEVENT
DTSTART;TZID=Europe/Madrid:20201216T090000
DTEND;TZID=Europe/Madrid:20201216T110000
DTSTAMP:20260423T031232
CREATED:20201214T095812Z
LAST-MODIFIED:20201214T095812Z
UID:21060-1608109200-1608116400@noticias.eudel.eus
SUMMARY:[:es]Consejo Vasco de Atención Sociosanitario[:eu]Arreta Soziosanitarioko Euskal Kontseilua.[:]
DESCRIPTION:
URL:https://noticias.eudel.eus/evento/consejo-vasco-de-atencion-sociosanitario/
LOCATION:Vitoria-Gasteiz\, ARABA
END:VEVENT
BEGIN:VEVENT
DTSTART;TZID=Europe/Madrid:20201216T093000
DTEND;TZID=Europe/Madrid:20201216T113000
DTSTAMP:20260423T031232
CREATED:20201214T100013Z
LAST-MODIFIED:20201214T100013Z
UID:21062-1608111000-1608118200@noticias.eudel.eus
SUMMARY:[:es]Comisión de Ordenación del Territorio del País Vasco.[:eu]Euskal Autonomia Erkidegoko Lurraldearen Antolamendurako Batzordea. [:]
DESCRIPTION:
URL:https://noticias.eudel.eus/evento/comision-de-ordenacion-del-territorio-del-pais-vasco-2/
LOCATION:Vitoria-Gasteiz\, ARABA
END:VEVENT
BEGIN:VEVENT
DTSTART;TZID=Europe/Madrid:20201216T100000
DTEND;TZID=Europe/Madrid:20201216T120000
DTSTAMP:20260423T031232
CREATED:20201210T120528Z
LAST-MODIFIED:20201210T120528Z
UID:21032-1608112800-1608120000@noticias.eudel.eus
SUMMARY:[:es]Comité de Seguimiento PDR Euskadi 2015-2020[:eu]2015-2020 Euskadiko LGPren Jarraipen Batzordea[:]
DESCRIPTION:
URL:https://noticias.eudel.eus/evento/comite-de-seguimiento-pdr-euskadi-2015-2020/
LOCATION:Reunión por viodeoconferencia
END:VEVENT
BEGIN:VEVENT
DTSTART;TZID=Europe/Madrid:20201216T103000
DTEND;TZID=Europe/Madrid:20201216T130000
DTSTAMP:20260423T031232
CREATED:20201210T120630Z
LAST-MODIFIED:20201210T120630Z
UID:21034-1608114600-1608123600@noticias.eudel.eus
SUMMARY:[:es]Asamblea General Ordinaria de EuroBasque [:eu]EuroBasque-n Ohiko Batzar Nagusia[:]
DESCRIPTION:
URL:https://noticias.eudel.eus/evento/asamblea-general-ordinaria-de-eurobasque/
LOCATION:Reunión por viodeoconferencia
END:VEVENT
BEGIN:VEVENT
DTSTART;TZID=Europe/Madrid:20201216T110000
DTEND;TZID=Europe/Madrid:20201216T113000
DTSTAMP:20260423T031232
CREATED:20201214T100129Z
LAST-MODIFIED:20201214T100129Z
UID:21064-1608116400-1608118200@noticias.eudel.eus
SUMMARY:[:es]Comisión de Ordenación del Territorio del País Vasco. Bizkaia[:eu]Euskal Autonomia Erkidegoko Lurraldearen Antolamendurako Batzordea. Bizkaia.[:]
DESCRIPTION:
URL:https://noticias.eudel.eus/evento/comision-de-ordenacion-del-territorio-del-pais-vasco-bizkaia-4/
LOCATION:Vitoria-Gasteiz\, ARABA
END:VEVENT
BEGIN:VEVENT
DTSTART;TZID=Europe/Madrid:20201216T110000
DTEND;TZID=Europe/Madrid:20201216T113000
DTSTAMP:20260423T031232
CREATED:20201214T100344Z
LAST-MODIFIED:20201214T100344Z
UID:21066-1608116400-1608118200@noticias.eudel.eus
SUMMARY:[:es]Comisión de Ordenación del Territorio del País Vasco. Gipuzkoa.[:eu]Euskal Autonomia Erkidegoko Lurraldearen Antolamendurako Batzordea. Gipuzkoa.[:]
DESCRIPTION:
URL:https://noticias.eudel.eus/evento/comision-de-ordenacion-del-territorio-del-pais-vasco-gipuzkoa/
LOCATION:Vitoria-Gasteiz\, ARABA
END:VEVENT
BEGIN:VEVENT
DTSTART;TZID=Europe/Madrid:20201216T110000
DTEND;TZID=Europe/Madrid:20201216T113000
DTSTAMP:20260423T031232
CREATED:20201214T100652Z
LAST-MODIFIED:20201214T100652Z
UID:21068-1608116400-1608118200@noticias.eudel.eus
SUMMARY:[:es]Comisión de Ordenación del Territorio del País Vasco. Araba[:eu]Euskal Autonomia Erkidegoko Lurraldearen Antolamendurako Batzordea. Araba.[:]
DESCRIPTION:
URL:https://noticias.eudel.eus/evento/comision-de-ordenacion-del-territorio-del-pais-vasco-araba-2/
LOCATION:Vitoria-Gasteiz\, ARABA
END:VEVENT
BEGIN:VEVENT
DTSTART;TZID=Europe/Madrid:20201216T110000
DTEND;TZID=Europe/Madrid:20201216T130000
DTSTAMP:20260423T031232
CREATED:20201210T122315Z
LAST-MODIFIED:20201210T122315Z
UID:21040-1608116400-1608123600@noticias.eudel.eus
SUMMARY:[:es]Foro para la Integración y Participación Social de las Ciudadanas y los Ciudadanos Inmigrantes en el País Vasco.[:eu]Euskal Autonomia Erkidegoko Herritar Etorkinen Integrazio eta Partaidetza Sozialerako Foroaren Osoko Bilkura[:]
DESCRIPTION:
URL:https://noticias.eudel.eus/evento/foro-para-la-integracion-y-participacion-social-de-las-ciudadanas-y-los-ciudadanos-inmigrantes-en-el-pais-vasco/
LOCATION:Vitoria-Gasteiz\, ARABA
END:VEVENT
BEGIN:VEVENT
DTSTART;TZID=Europe/Madrid:20201216T120000
DTEND;TZID=Europe/Madrid:20201216T130000
DTSTAMP:20260423T031232
CREATED:20201210T122653Z
LAST-MODIFIED:20201210T122653Z
UID:21044-1608120000-1608123600@noticias.eudel.eus
SUMMARY:[:es]Consejo Vasco de Participación de las Víctimas del Terrorismo[:eu]Terrorismoaren Biktimen Partaidetzarako Euskal Kontseilua[:]
DESCRIPTION:
URL:https://noticias.eudel.eus/evento/consejo-vasco-de-participacion-de-las-victimas-del-terrorismo/
LOCATION:Reunión por viodeoconferencia
END:VEVENT
BEGIN:VEVENT
DTSTART;TZID=Europe/Madrid:20201216T123000
DTEND;TZID=Europe/Madrid:20201216T140000
DTSTAMP:20260423T031232
CREATED:20201210T122526Z
LAST-MODIFIED:20201210T122526Z
UID:21042-1608121800-1608127200@noticias.eudel.eus
SUMMARY:[:es]Consejo Vasco de Espectáculos Públicos y Actividades Recreativas[:eu]Jendaurreko Ikuskizunen eta Jolas Jardueren Euskal Kontseilua[:]
DESCRIPTION:
URL:https://noticias.eudel.eus/evento/consejo-vasco-de-espectaculos-publicos-y-actividades-recreativas/
LOCATION:Reunión por viodeoconferencia
END:VEVENT
BEGIN:VEVENT
DTSTART;TZID=Europe/Madrid:20201218T100000
DTEND;TZID=Europe/Madrid:20201218T113000
DTSTAMP:20260423T031232
CREATED:20201214T100914Z
LAST-MODIFIED:20201214T100914Z
UID:21071-1608285600-1608291000@noticias.eudel.eus
SUMMARY:[:es]Junta de Gobierno Elkarkidetza[:eu]Elkarkidetza. Gobernu Batzordea[:]
DESCRIPTION:
URL:https://noticias.eudel.eus/evento/junta-de-gobierno-elkarkidetza/
LOCATION:Reunión por viodeoconferencia
END:VEVENT
BEGIN:VEVENT
DTSTART;TZID=Europe/Madrid:20201218T100000
DTEND;TZID=Europe/Madrid:20201218T113000
DTSTAMP:20260423T031232
CREATED:20201214T101725Z
LAST-MODIFIED:20201214T101725Z
UID:21076-1608285600-1608291000@noticias.eudel.eus
SUMMARY:[:es]HABE. Junta Directiva.[:eu]HABE. Zuzendaritza Batzordea.[:]
DESCRIPTION:
URL:https://noticias.eudel.eus/evento/habe-junta-directiva/
LOCATION:Vitoria-Gasteiz\, ARABA
END:VEVENT
END:VCALENDAR