BEGIN:VCALENDAR
VERSION:2.0
PRODID:-//EUDEL Noticias | Asociación de Municipios Vascos - ECPv6.5.1.3//NONSGML v1.0//EN
CALSCALE:GREGORIAN
METHOD:PUBLISH
X-WR-CALNAME:EUDEL Noticias | Asociación de Municipios Vascos
X-ORIGINAL-URL:https://noticias.eudel.eus
X-WR-CALDESC:Eventos para EUDEL Noticias | Asociación de Municipios Vascos
REFRESH-INTERVAL;VALUE=DURATION:PT1H
X-Robots-Tag:noindex
X-PUBLISHED-TTL:PT1H
BEGIN:VTIMEZONE
TZID:Europe/Madrid
BEGIN:DAYLIGHT
TZOFFSETFROM:+0100
TZOFFSETTO:+0200
TZNAME:CEST
DTSTART:20210328T010000
END:DAYLIGHT
BEGIN:STANDARD
TZOFFSETFROM:+0200
TZOFFSETTO:+0100
TZNAME:CET
DTSTART:20211031T010000
END:STANDARD
END:VTIMEZONE
BEGIN:VEVENT
DTSTART;TZID=Europe/Madrid:20210114T100000
DTEND;TZID=Europe/Madrid:20210114T113000
DTSTAMP:20260422T234527
CREATED:20210108T114103Z
LAST-MODIFIED:20210108T114103Z
UID:21130-1610618400-1610623800@noticias.eudel.eus
SUMMARY:[:es]Comisión de Seguimiento del Brexit[:eu]Brexit-ari buruzko Jarraipen Batzordea.[:]
DESCRIPTION:
URL:https://noticias.eudel.eus/evento/comision-de-seguimiento-del-brexit/
LOCATION:Reunión por viodeoconferencia
END:VEVENT
BEGIN:VEVENT
DTSTART;TZID=Europe/Madrid:20210128T093000
DTEND;TZID=Europe/Madrid:20210128T120000
DTSTAMP:20260422T234527
CREATED:20210119T091137Z
LAST-MODIFIED:20210119T091143Z
UID:21142-1611826200-1611835200@noticias.eudel.eus
SUMMARY:[:es]Comité Director del Consejo de Municipios y Regiones de Europa (CMRE)[:eu]Europako Udal eta Eskualdeen Kontseiluaren Batzorde Gidatzailea.[:]
DESCRIPTION:
URL:https://noticias.eudel.eus/evento/comite-director-del-consejo-de-municipios-y-regiones-de-europa-cmre-2/
LOCATION:Reunión por viodeoconferencia
END:VEVENT
BEGIN:VEVENT
DTSTART;TZID=Europe/Madrid:20210128T100000
DTEND;TZID=Europe/Madrid:20210128T110000
DTSTAMP:20260422T234527
CREATED:20210119T091302Z
LAST-MODIFIED:20210119T091302Z
UID:21144-1611828000-1611831600@noticias.eudel.eus
SUMMARY:[:es]Órgano de Coordinación Tributaria de Euskadi (OCTE)[:eu]Zerga Koordinaziorako Organoa.[:]
DESCRIPTION:
URL:https://noticias.eudel.eus/evento/organo-de-coordinacion-tributaria-de-euskadi-octe/
LOCATION:Reunión por viodeoconferencia
END:VEVENT
BEGIN:VEVENT
DTSTART;TZID=Europe/Madrid:20210128T143000
DTEND;TZID=Europe/Madrid:20210128T170000
DTSTAMP:20260422T234527
CREATED:20210119T091523Z
LAST-MODIFIED:20210119T091523Z
UID:21146-1611844200-1611853200@noticias.eudel.eus
SUMMARY:[:es]70º Aniversario CMRE[:eu] CMREren 70. urteurrena[:]
DESCRIPTION:
URL:https://noticias.eudel.eus/evento/70o-aniversario-cmre/
LOCATION:Reunión por viodeoconferencia
END:VEVENT
BEGIN:VEVENT
DTSTART;TZID=Europe/Madrid:20210129T093000
DTEND;TZID=Europe/Madrid:20210129T113000
DTSTAMP:20260422T234527
CREATED:20210125T074619Z
LAST-MODIFIED:20210125T074619Z
UID:21148-1611912600-1611919800@noticias.eudel.eus
SUMMARY:[:es]Comisión Ordenación del Territorio del País Vasco[:eu]Euskal Autonomia Erkidegoko Lurraldearen Antolamendurako Batzordea. [:]
DESCRIPTION:
URL:https://noticias.eudel.eus/evento/comision-ordenacion-del-territorio-del-pais-vasco/
LOCATION:Reunión por viodeoconferencia
END:VEVENT
BEGIN:VEVENT
DTSTART;TZID=Europe/Madrid:20210129T113000
DTEND;TZID=Europe/Madrid:20210129T120000
DTSTAMP:20260422T234527
CREATED:20210125T074757Z
LAST-MODIFIED:20210125T074757Z
UID:21150-1611919800-1611921600@noticias.eudel.eus
SUMMARY:[:es]Comisión Ordenación Territorio del Pais Vasco. Álava.[:eu]Euskal Autonomia Erkidegoko Lurraldearen Antolamendurako Batzordea. Araba.[:]
DESCRIPTION:
URL:https://noticias.eudel.eus/evento/comision-ordenacion-territorio-del-pais-vasco-alava/
LOCATION:Reunión por viodeoconferencia
END:VEVENT
BEGIN:VEVENT
DTSTART;TZID=Europe/Madrid:20210129T113000
DTEND;TZID=Europe/Madrid:20210129T120000
DTSTAMP:20260422T234527
CREATED:20210125T074927Z
LAST-MODIFIED:20210125T074927Z
UID:21152-1611919800-1611921600@noticias.eudel.eus
SUMMARY:[:es]Comisión Ordenación del Territorio del País Vasco. Gipuzkoa.[:eu]Euskal Autonomia Erkidegoko Lurraldearen Antolamendurako Batzordea. Gipuzkoa.[:]
DESCRIPTION:
URL:https://noticias.eudel.eus/evento/comision-ordenacion-del-territorio-del-pais-vasco-gipuzkoa/
LOCATION:Reunión por viodeoconferencia
END:VEVENT
END:VCALENDAR