BEGIN:VCALENDAR
VERSION:2.0
PRODID:-//EUDEL Noticias | Asociación de Municipios Vascos - ECPv6.5.1.3//NONSGML v1.0//EN
CALSCALE:GREGORIAN
METHOD:PUBLISH
X-WR-CALNAME:EUDEL Noticias | Asociación de Municipios Vascos
X-ORIGINAL-URL:https://noticias.eudel.eus
X-WR-CALDESC:Eventos para EUDEL Noticias | Asociación de Municipios Vascos
REFRESH-INTERVAL;VALUE=DURATION:PT1H
X-Robots-Tag:noindex
X-PUBLISHED-TTL:PT1H
BEGIN:VTIMEZONE
TZID:Europe/Madrid
BEGIN:DAYLIGHT
TZOFFSETFROM:+0100
TZOFFSETTO:+0200
TZNAME:CEST
DTSTART:20210328T010000
END:DAYLIGHT
BEGIN:STANDARD
TZOFFSETFROM:+0200
TZOFFSETTO:+0100
TZNAME:CET
DTSTART:20211031T010000
END:STANDARD
END:VTIMEZONE
BEGIN:VEVENT
DTSTART;TZID=Europe/Madrid:20210301T110000
DTEND;TZID=Europe/Madrid:20210301T130000
DTSTAMP:20260422T185259
CREATED:20210226T133148Z
LAST-MODIFIED:20210226T133148Z
UID:21293-1614596400-1614603600@noticias.eudel.eus
SUMMARY:[:es]Reunión con Departamento de Desarrollo Económico\, Sostenibilidad y Medio Ambiente  del Gobierno Vasco[:eu]Bilera Eusko Jaurlaritzako Ekonomiaren Garapen\, Iraunkortasun eta Ingurumen Sailarekin[:]
DESCRIPTION:
URL:https://noticias.eudel.eus/evento/reunion-con-departamento-de-desarrollo-economico-sostenibilidad-y-medio-ambiente-del-gobierno-vasco/
LOCATION:Vitoria-Gasteiz\, ARABA
END:VEVENT
BEGIN:VEVENT
DTSTART;TZID=Europe/Madrid:20210302T153000
DTEND;TZID=Europe/Madrid:20210302T173000
DTSTAMP:20260422T185259
CREATED:20210223T133553Z
LAST-MODIFIED:20210223T133553Z
UID:21282-1614699000-1614706200@noticias.eudel.eus
SUMMARY:[:es]Comisión VCMP Red Basqueskola[:eu]VCMP Basqueskola Sarea Batzordea[:]
DESCRIPTION:
URL:https://noticias.eudel.eus/evento/comision-vcmp-red-basqueskola/
LOCATION:Reunión por viodeoconferencia
END:VEVENT
BEGIN:VEVENT
DTSTART;TZID=Europe/Madrid:20210303T110000
DTEND;TZID=Europe/Madrid:20210303T130000
DTSTAMP:20260422T185259
CREATED:20210226T122632Z
LAST-MODIFIED:20210226T122632Z
UID:21290-1614769200-1614776400@noticias.eudel.eus
SUMMARY:[:es]Comisión de Seguridad Vial[:eu]Bide Segurtasunaren Batzordea[:]
DESCRIPTION:
URL:https://noticias.eudel.eus/evento/comision-de-seguridad-vial/
LOCATION:Reunión por viodeoconferencia
END:VEVENT
BEGIN:VEVENT
DTSTART;TZID=Europe/Madrid:20210309T120000
DTEND;TZID=Europe/Madrid:20210309T133000
DTSTAMP:20260422T185259
CREATED:20210305T114807Z
LAST-MODIFIED:20210305T114807Z
UID:21321-1615291200-1615296600@noticias.eudel.eus
SUMMARY:[:es]Consejo Vasco de Cooperación para el Desarrollo.[:eu]Garapenerako Lankidetzaren Euskal Kontseilua.[:]
DESCRIPTION:
URL:https://noticias.eudel.eus/evento/consejo-vasco-de-cooperacion-para-el-desarrollo/
LOCATION:Reunión por viodeoconferencia
END:VEVENT
BEGIN:VEVENT
DTSTART;TZID=Europe/Madrid:20210310T110000
DTEND;TZID=Europe/Madrid:20210310T120000
DTSTAMP:20260422T185259
CREATED:20210305T114708Z
LAST-MODIFIED:20210305T114708Z
UID:21319-1615374000-1615377600@noticias.eudel.eus
SUMMARY:[:es]Consejo Vasco de Participación de las Víctimas del Terrorismo[:eu]Terrorismoaren Biktimen Partaidetzarako Euskal Kontseilua[:]
DESCRIPTION:
URL:https://noticias.eudel.eus/evento/consejo-vasco-de-participacion-de-las-victimas-del-terrorismo-2/
LOCATION:Vitoria-Gasteiz\, ARABA
END:VEVENT
BEGIN:VEVENT
DTSTART;TZID=Europe/Madrid:20210311T100000
DTEND;TZID=Europe/Madrid:20210311T130000
DTSTAMP:20260422T185259
CREATED:20210305T114619Z
LAST-MODIFIED:20210305T114619Z
UID:21317-1615456800-1615467600@noticias.eudel.eus
SUMMARY:[:es]Comisión Ejecutiva de EUDEL[:eu]EUDELeko Batzorde Eragilea[:]
DESCRIPTION:
URL:https://noticias.eudel.eus/evento/comision-ejecutiva-de-eudel-12/
LOCATION:Reunión por viodeoconferencia
END:VEVENT
BEGIN:VEVENT
DTSTART;TZID=Europe/Madrid:20210316T160000
DTEND;TZID=Europe/Madrid:20210316T173000
DTSTAMP:20260422T185259
CREATED:20210310T073023Z
LAST-MODIFIED:20210310T073023Z
UID:21340-1615910400-1615915800@noticias.eudel.eus
SUMMARY:[:es]VW BASQUESKOLA Redes y Alianzas Batzordea[:eu]VW BASQUESKOLA Sareak eta Aliantzak [:]
DESCRIPTION:
URL:https://noticias.eudel.eus/evento/vw-basqueskola-redes-y-alianzas-batzordea/
LOCATION:Reunión por viodeoconferencia
END:VEVENT
BEGIN:VEVENT
DTSTART;TZID=Europe/Madrid:20210317T093000
DTEND;TZID=Europe/Madrid:20210317T100000
DTSTAMP:20260422T185259
CREATED:20210312T112937Z
LAST-MODIFIED:20210312T112937Z
UID:21355-1615973400-1615975200@noticias.eudel.eus
SUMMARY:[:es]Comisión Ordenación del Territorio del País Vasco. Gipuzkoa.[:eu]Euskal Autonomia Erkidegoko Lurraldearen Antolamendurako Batzordea. Gipuzkoa.[:]
DESCRIPTION:
URL:https://noticias.eudel.eus/evento/comision-ordenacion-del-territorio-del-pais-vasco-gipuzkoa-2/
LOCATION:Vitoria-Gasteiz\, ARABA
END:VEVENT
BEGIN:VEVENT
DTSTART;TZID=Europe/Madrid:20210317T100000
DTEND;TZID=Europe/Madrid:20210317T103000
DTSTAMP:20260422T185259
CREATED:20210312T113039Z
LAST-MODIFIED:20210312T113039Z
UID:21357-1615975200-1615977000@noticias.eudel.eus
SUMMARY:[:es]Comisión Ordenación del Territorio del País Vasco. Araba.[:eu]Euskal Autonomia Erkidegoko Lurraldearen Antolamendurako Batzordea. Araba.[:]
DESCRIPTION:
URL:https://noticias.eudel.eus/evento/comision-ordenacion-del-territorio-del-pais-vasco-araba/
LOCATION:Vitoria-Gasteiz\, ARABA
END:VEVENT
BEGIN:VEVENT
DTSTART;TZID=Europe/Madrid:20210318T090000
DTEND;TZID=Europe/Madrid:20210318T110000
DTSTAMP:20260422T185259
CREATED:20210312T113133Z
LAST-MODIFIED:20210312T113133Z
UID:21359-1616058000-1616065200@noticias.eudel.eus
SUMMARY:[:es]Comisión Territorial de Bizkaia de EUDEL[:eu]EUDELeko Bizkaiko Lurralde Batzordea[:]
DESCRIPTION:
URL:https://noticias.eudel.eus/evento/comision-territorial-de-bizkaia-de-eudel-12/
LOCATION:Reunión por viodeoconferencia
END:VEVENT
BEGIN:VEVENT
DTSTART;TZID=Europe/Madrid:20210318T130000
DTEND;TZID=Europe/Madrid:20210318T143000
DTSTAMP:20260422T185259
CREATED:20210312T113237Z
LAST-MODIFIED:20210312T113237Z
UID:21361-1616072400-1616077800@noticias.eudel.eus
SUMMARY:[:es]Comisión Territorial de Álava de EUDEL[:eu]EUDELeko Arabako Lurralde Batzordea[:]
DESCRIPTION:
URL:https://noticias.eudel.eus/evento/comision-territorial-de-alava-de-eudel-6/
LOCATION:Reunión por viodeoconferencia
END:VEVENT
BEGIN:VEVENT
DTSTART;TZID=Europe/Madrid:20210318T160000
DTEND;TZID=Europe/Madrid:20210318T173000
DTSTAMP:20260422T185259
CREATED:20210312T124620Z
LAST-MODIFIED:20210312T124620Z
UID:21379-1616083200-1616088600@noticias.eudel.eus
SUMMARY:[:es]Consejo Agrario y Alimentario de Euskadi[:eu]Euskadiko Nekazaritza eta Elikagaigintzako Kontseilua[:]
DESCRIPTION:
URL:https://noticias.eudel.eus/evento/consejo-agrario-y-alimentario-de-euskadi/
LOCATION:Reunión por viodeoconferencia
END:VEVENT
BEGIN:VEVENT
DTSTART;TZID=Europe/Madrid:20210322T130000
DTEND;TZID=Europe/Madrid:20210322T150000
DTSTAMP:20260422T185259
CREATED:20210318T134943Z
LAST-MODIFIED:20210318T134943Z
UID:21387-1616418000-1616425200@noticias.eudel.eus
SUMMARY:[:es]Comisión Territorial de Gipuzkoa de EUDEL[:eu]EUDELeko Gipuzkoako Lurralde Batzordea[:]
DESCRIPTION:
URL:https://noticias.eudel.eus/evento/comision-territorial-de-gipuzkoa-de-eudel-7/
LOCATION:Reunión por viodeoconferencia
END:VEVENT
BEGIN:VEVENT
DTSTART;TZID=Europe/Madrid:20210323T093000
DTEND;TZID=Europe/Madrid:20210323T103000
DTSTAMP:20260422T185259
CREATED:20210318T135418Z
LAST-MODIFIED:20210318T135418Z
UID:21392-1616491800-1616495400@noticias.eudel.eus
SUMMARY:[:es]Comisión Ordenación del Territorio del País Vasco[:eu]Euskal Autonomia Erkidegoko Lurraldearen Antolamendurako Batzordea. [:]
DESCRIPTION:
URL:https://noticias.eudel.eus/evento/comision-ordenacion-del-territorio-del-pais-vasco-2/
LOCATION:Reunión por viodeoconferencia
END:VEVENT
BEGIN:VEVENT
DTSTART;TZID=Europe/Madrid:20210323T093000
DTEND;TZID=Europe/Madrid:20210323T163000
DTSTAMP:20260422T185259
CREATED:20210318T135144Z
LAST-MODIFIED:20210318T135225Z
UID:21389-1616491800-1616517000@noticias.eudel.eus
SUMMARY:[:es]Sesión Plenaria Congreso de Poderes Locales y Regionales del Consejo de Europa (CPLRE)[:eu]Europako Kontseiluaren Tokiko eta Eskualdeko Botereen Biltzarraren osoko bilkura (CPLRE)[:]
DESCRIPTION:
URL:https://noticias.eudel.eus/evento/sesion-plenaria-congreso-de-poderes-locales-y-regionales-del-consejo-de-europa-cplre/
LOCATION:Reunión por viodeoconferencia
END:VEVENT
BEGIN:VEVENT
DTSTART;TZID=Europe/Madrid:20210324T100000
DTEND;TZID=Europe/Madrid:20210324T113000
DTSTAMP:20260422T185259
CREATED:20210318T140153Z
LAST-MODIFIED:20210318T140153Z
UID:21397-1616580000-1616585400@noticias.eudel.eus
SUMMARY:[:es] Comisión Interinstitucional para los Servicios de Prevención\, Extinción de Incendios y Salvamento[:eu] Suteen Prebentzio eta Itzalketako eta salbamenduko zerbitzuetarako erakundeen arteko batzordea[:]
DESCRIPTION:
URL:https://noticias.eudel.eus/evento/comision-interinstitucional-para-los-servicios-de-prevencion-extincion-de-incendios-y-salvamento-2/
LOCATION:Reunión por viodeoconferencia
END:VEVENT
BEGIN:VEVENT
DTSTART;TZID=Europe/Madrid:20210324T100000
DTEND;TZID=Europe/Madrid:20210324T113000
DTSTAMP:20260422T185259
CREATED:20210318T140435Z
LAST-MODIFIED:20210318T140435Z
UID:21400-1616580000-1616585400@noticias.eudel.eus
SUMMARY:[:es] Comisión de Garantías de Admisión de Alumnos de Bizkaia[:eu]Bizkaiko Ikasleen Onarpen Bermerako Batzordea.[:]
DESCRIPTION:
URL:https://noticias.eudel.eus/evento/comision-de-garantias-de-admision-de-alumnos-de-bizkaia-3/
LOCATION:Reunión por viodeoconferencia
END:VEVENT
BEGIN:VEVENT
DTSTART;TZID=Europe/Madrid:20210324T103000
DTEND;TZID=Europe/Madrid:20210324T150000
DTSTAMP:20260422T185259
CREATED:20210318T135707Z
LAST-MODIFIED:20210318T135707Z
UID:21395-1616581800-1616598000@noticias.eudel.eus
SUMMARY:[:es]Sesión Plenaria Congreso de Poderes Locales y Regionales del Consejo de Europa (CPLRE)[:eu]Europako Kontseiluaren Tokiko eta Eskualdeko Botereen Biltzarraren osoko bilkura (CPLRE)[:]
DESCRIPTION:
URL:https://noticias.eudel.eus/evento/sesion-plenaria-congreso-de-poderes-locales-y-regionales-del-consejo-de-europa-cplre-2/
END:VEVENT
BEGIN:VEVENT
DTSTART;TZID=Europe/Madrid:20210326T090000
DTEND;TZID=Europe/Madrid:20210326T110000
DTSTAMP:20260422T185259
CREATED:20210322T074311Z
LAST-MODIFIED:20210322T074311Z
UID:21406-1616749200-1616756400@noticias.eudel.eus
SUMMARY:[:es]Órgano Interinstitucional de Servicios Sociales[:eu]Gizarte Zerbitzuen Erakunde arteko Organoa[:]
DESCRIPTION:
URL:https://noticias.eudel.eus/evento/organo-interinstitucional-de-servicios-sociales-2/
LOCATION:Reunión por viodeoconferencia
END:VEVENT
BEGIN:VEVENT
DTSTART;TZID=Europe/Madrid:20210326T093000
DTEND;TZID=Europe/Madrid:20210326T133000
DTSTAMP:20260422T185259
CREATED:20210311T113613Z
LAST-MODIFIED:20210415T113844Z
UID:21342-1616751000-1616765400@noticias.eudel.eus
SUMMARY:[:es]XIV edición Seminario Vasco de Derecho Local. Sesión primera: “La regulación del teletrabajo en las entidades locales: aspectos generales” -- ...[:eu]XIV edizioa Tokiko Zuzenbidearen Euskal Mintegia. Lehenengo saioa: “La regulación del teletrabajo en las entidades locales: aspectos generales” -- ...[:]
DESCRIPTION:Sesión primera: “La regulación del teletrabajo en las entidades locales: aspectos generales” — Teletrabajo: Prevención de riesgos laborales y cuestiones de seguridad social — Observatorio Vasco de Derecho Local.
URL:https://noticias.eudel.eus/evento/xiv-edicion-seminario-vasco-de-derecho-local-sesion-primera-la-regulacion-del-teletrabajo-en-las-entidades-locales-aspectos-generales/
LOCATION:A través de la Plataforma Zoom
END:VEVENT
BEGIN:VEVENT
DTSTART;TZID=Europe/Madrid:20210326T100000
DTEND;TZID=Europe/Madrid:20210326T120000
DTSTAMP:20260422T185259
CREATED:20210318T140938Z
LAST-MODIFIED:20210318T140938Z
UID:21404-1616752800-1616760000@noticias.eudel.eus
SUMMARY:[:es]Junta de Gobierno Elkarkidetza[:eu]Elkarkidetza. Gobernu Batzordea[:]
DESCRIPTION:
URL:https://noticias.eudel.eus/evento/junta-de-gobierno-elkarkidetza-2/
LOCATION:Reunión por viodeoconferencia
END:VEVENT
BEGIN:VEVENT
DTSTART;TZID=Europe/Madrid:20210329T133000
DTEND;TZID=Europe/Madrid:20210329T150000
DTSTAMP:20260422T185259
CREATED:20210324T073428Z
LAST-MODIFIED:20210324T073428Z
UID:21412-1617024600-1617030000@noticias.eudel.eus
SUMMARY:[:es]Comisión Territorial de Gipuzkoa de EUDEL[:eu]EUDELeko Gipuzkoako Lurralde Batzordea[:]
DESCRIPTION:
URL:https://noticias.eudel.eus/evento/comision-territorial-de-gipuzkoa-de-eudel-8/
LOCATION:Reunión por viodeoconferencia
END:VEVENT
BEGIN:VEVENT
DTSTART;TZID=Europe/Madrid:20210330T100000
DTEND;TZID=Europe/Madrid:20210330T120000
DTSTAMP:20260422T185259
CREATED:20210326T104546Z
LAST-MODIFIED:20210326T104546Z
UID:21424-1617098400-1617105600@noticias.eudel.eus
SUMMARY:[:es]Comisión de seguimiento Estatuto de las mujeres agricultoras.[:eu]Emakume Nekazarien Estatutuko Segimendu Batzordea.[:]
DESCRIPTION:
URL:https://noticias.eudel.eus/evento/comision-de-seguimiento-estatuto-de-las-mujeres-agricultoras/
LOCATION:Reunión por viodeoconferencia
END:VEVENT
BEGIN:VEVENT
DTSTART;TZID=Europe/Madrid:20210331T143000
DTEND;TZID=Europe/Madrid:20210331T170000
DTSTAMP:20260422T185259
CREATED:20210326T104444Z
LAST-MODIFIED:20210326T104444Z
UID:21422-1617201000-1617210000@noticias.eudel.eus
SUMMARY:[:es]Secretarios Generales del Consejo de Municipios y Regiones de Europa (CMRE)[:eu]Europako Udal eta Eskualdeen Kontseiluaren Idazkari nagusiak.[:]
DESCRIPTION:
URL:https://noticias.eudel.eus/evento/secretarios-generales-del-consejo-de-municipios-y-regiones-de-europa-cmre-5/
LOCATION:Reunión por viodeoconferencia
END:VEVENT
END:VCALENDAR