BEGIN:VCALENDAR
VERSION:2.0
PRODID:-//EUDEL Noticias | Asociación de Municipios Vascos - ECPv6.5.1.3//NONSGML v1.0//EN
CALSCALE:GREGORIAN
METHOD:PUBLISH
X-ORIGINAL-URL:https://noticias.eudel.eus/en
X-WR-CALDESC:Events for EUDEL Noticias | Asociación de Municipios Vascos
REFRESH-INTERVAL;VALUE=DURATION:PT1H
X-Robots-Tag:noindex
X-PUBLISHED-TTL:PT1H
BEGIN:VTIMEZONE
TZID:Europe/Madrid
BEGIN:DAYLIGHT
TZOFFSETFROM:+0100
TZOFFSETTO:+0200
TZNAME:CEST
DTSTART:20210328T010000
END:DAYLIGHT
BEGIN:STANDARD
TZOFFSETFROM:+0200
TZOFFSETTO:+0100
TZNAME:CET
DTSTART:20211031T010000
END:STANDARD
END:VTIMEZONE
BEGIN:VEVENT
DTSTART;TZID=Europe/Madrid:20210401T103000
DTEND;TZID=Europe/Madrid:20210401T123000
DTSTAMP:20260422T153706
CREATED:20210326T104401Z
LAST-MODIFIED:20210326T104401Z
UID:21420-1617273000-1617280200@noticias.eudel.eus
SUMMARY:[:es]Secretarios Generales del Consejo de Municipios y Regiones de Europa (CMRE)[:eu]Europako Udal eta Eskualdeen Kontseiluaren Idazkari nagusiak.[:]
DESCRIPTION:
URL:https://noticias.eudel.eus/en/evento/secretarios-generales-del-consejo-de-municipios-y-regiones-de-europa-cmre-4/
LOCATION:Bideokonferentzia bitartez egiten da / Se celebra a través de viodeoconferencia
END:VEVENT
BEGIN:VEVENT
DTSTART;TZID=Europe/Madrid:20210408T180000
DTEND;TZID=Europe/Madrid:20210408T193000
DTSTAMP:20260422T153706
CREATED:20210326T104301Z
LAST-MODIFIED:20210326T104301Z
UID:21418-1617904800-1617910200@noticias.eudel.eus
SUMMARY:[:es]Consejo de Participación Juvenil de Álava[:eu]Arabako Gazteriaren Kontseilua[:]
DESCRIPTION:
URL:https://noticias.eudel.eus/en/evento/consejo-de-participacion-juvenil-de-alava/
LOCATION:Bideokonferentzia bitartez egiten da / Se celebra a través de viodeoconferencia
END:VEVENT
BEGIN:VEVENT
DTSTART;TZID=Europe/Madrid:20210419T110000
DTEND;TZID=Europe/Madrid:20210419T120000
DTSTAMP:20260422T153706
CREATED:20210416T085654Z
LAST-MODIFIED:20210416T085654Z
UID:21447-1618830000-1618833600@noticias.eudel.eus
SUMMARY:[:es]Premio de Igualdad Emakunde. Asiste al acto el presidente de EUDEL\, Gorka Urtaran.[:eu]Berdintasunaren aldeko Emakundeko Saria. Gorka Urtaran\, EUDELen elkarteburua joango da ekitaldira.[:]
DESCRIPTION:
URL:https://noticias.eudel.eus/en/evento/premio-de-igualdad-emakunde-asiste-al-acto-el-presidente-de-eudel-gorka-urtaran/
LOCATION:Vitoria-Gasteiz\, ARABA
END:VEVENT
BEGIN:VEVENT
DTSTART;TZID=Europe/Madrid:20210420T100000
DTEND;TZID=Europe/Madrid:20210420T120000
DTSTAMP:20260422T153706
CREATED:20210416T085908Z
LAST-MODIFIED:20210416T085908Z
UID:21449-1618912800-1618920000@noticias.eudel.eus
SUMMARY:[:es]Asamblea General Elkarkidetza[:eu]Elkarkidetza Batzar Nagusia[:]
DESCRIPTION:
URL:https://noticias.eudel.eus/en/evento/asamblea-general-elkarkidetza/
LOCATION:Vitoria-Gasteiz\, ARABA
END:VEVENT
BEGIN:VEVENT
DTSTART;TZID=Europe/Madrid:20210421T100000
DTEND;TZID=Europe/Madrid:20210421T110000
DTSTAMP:20260422T153706
CREATED:20210416T090043Z
LAST-MODIFIED:20210416T090043Z
UID:21451-1618999200-1619002800@noticias.eudel.eus
SUMMARY:[:es]Comisión Vasca de Estadística[:eu]Euskal Estatistika Batzordea[:]
DESCRIPTION:
URL:https://noticias.eudel.eus/en/evento/comision-vasca-de-estadistica/
LOCATION:Bideokonferentzia bitartez egiten da / Se celebra a través de viodeoconferencia
END:VEVENT
BEGIN:VEVENT
DTSTART;TZID=Europe/Madrid:20210421T110000
DTEND;TZID=Europe/Madrid:20210421T120000
DTSTAMP:20260422T153706
CREATED:20210416T090302Z
LAST-MODIFIED:20210416T090323Z
UID:21453-1619002800-1619006400@noticias.eudel.eus
SUMMARY:[:es]Consejo Vasco de Estadística[:eu]Euskal Estatistika Kontseilua[:]
DESCRIPTION:
URL:https://noticias.eudel.eus/en/evento/consejo-vasco-de-estadistica/
LOCATION:Bideokonferentzia bitartez egiten da / Se celebra a través de viodeoconferencia
END:VEVENT
BEGIN:VEVENT
DTSTART;TZID=Europe/Madrid:20210422T120000
DTEND;TZID=Europe/Madrid:20210422T130000
DTSTAMP:20260422T153706
CREATED:20210416T090653Z
LAST-MODIFIED:20210416T090653Z
UID:21455-1619092800-1619096400@noticias.eudel.eus
SUMMARY:[:es]Bilbao Metrópoli - 30: Junta Directiva[:eu]Bilbao Metrópoli - 30: - Zuzendaritza Batzordea[:]
DESCRIPTION:
URL:https://noticias.eudel.eus/en/evento/bilbao-metropoli-30-junta-directiva/
LOCATION:Bideokonferentzia bitartez egiten da / Se celebra a través de viodeoconferencia
END:VEVENT
BEGIN:VEVENT
DTSTART;TZID=Europe/Madrid:20210422T120000
DTEND;TZID=Europe/Madrid:20210422T130000
DTSTAMP:20260422T153706
CREATED:20210419T084441Z
LAST-MODIFIED:20210419T084441Z
UID:21457-1619092800-1619096400@noticias.eudel.eus
SUMMARY:[:es]Junta Directiva BM-30[:eu]Zuzendaritza batzordea BM-30[:]
DESCRIPTION:
URL:https://noticias.eudel.eus/en/evento/junta-directiva-bm-30/
LOCATION:Bideokonferentzia bitartez egiten da / Se celebra a través de viodeoconferencia
END:VEVENT
BEGIN:VEVENT
DTSTART;TZID=Europe/Madrid:20210423T093000
DTEND;TZID=Europe/Madrid:20210423T133000
DTSTAMP:20260422T153706
CREATED:20210311T121214Z
LAST-MODIFIED:20210415T113645Z
UID:21344-1619170200-1619184600@noticias.eudel.eus
SUMMARY:[:es]XIV edición Seminario Vasco de Derecho Local. Segunda sesión: Análisis práctico del Real Decreto-ley 36/2020\, de 30 de diciembre\, por el que se aprueban medidas urgentes para la modernización de la Administración Pública y para la ejecución del Plan de Recuperación\, Transformación y Resiliencia -- ...[:eu]XIV edizioa Tokiko Zuzenbidearen Euskal Mintegia. Bigarren saioa: Análisis práctico del Real Decreto-ley 36/2020\, de 30 de diciembre\, por el que se aprueban medidas urgentes para la modernización de la Administración Pública y para la ejecución del Plan de Recuperación\, Transformación y Resiliencia -- ...[:]
DESCRIPTION:Sorry\, this entry is only available in ES and EU.
URL:https://noticias.eudel.eus/en/evento/xiv-edicion-seminario-vasco-de-derecho-local-segunda-sesion-analisis-practico-del-real-decreto-ley-36-2020-de-30-de-diciembre-por-el-que-se-aprueban-medidas-urgentes-para-la-modernizacion-de-la-ad/
LOCATION:A través de la Plataforma Zoom
END:VEVENT
BEGIN:VEVENT
DTSTART;TZID=Europe/Madrid:20210426T110000
DTEND;TZID=Europe/Madrid:20210426T120000
DTSTAMP:20260422T153706
CREATED:20210408T065031Z
LAST-MODIFIED:20210412T065830Z
UID:21427-1619434800-1619438400@noticias.eudel.eus
SUMMARY:[:es]Claves Ejecución Fondos Europeos en los Ayuntamientos[:eu]Udaletan Europako Funtsak gauzatzeko gakoak[:]
DESCRIPTION:Sorry\, this entry is only available in ES and EU.
URL:https://noticias.eudel.eus/en/evento/claves-ejecucion-fondos-europeos-en-los-ayuntamientos/
LOCATION:A través de la Plataforma Zoom
END:VEVENT
BEGIN:VEVENT
DTSTART;TZID=Europe/Madrid:20210427T093000
DTEND;TZID=Europe/Madrid:20210427T103000
DTSTAMP:20260422T153706
CREATED:20210423T080559Z
LAST-MODIFIED:20210423T080559Z
UID:21459-1619515800-1619519400@noticias.eudel.eus
SUMMARY:[:es]Comisión Ordenación Territorio País Vasco. Sección Gipuzkoa.[:eu]Euskal Autonomia Erkidegoko Lurraldearen Antolamendurako Batzordea. Gipuzkoa.[:]
DESCRIPTION:
URL:https://noticias.eudel.eus/en/evento/comision-ordenacion-territorio-pais-vasco-seccion-gipuzkoa/
LOCATION:Bideokonferentzia bitartez egiten da / Se celebra a través de viodeoconferencia
END:VEVENT
END:VCALENDAR