BEGIN:VCALENDAR
VERSION:2.0
PRODID:-//EUDEL Noticias | Asociación de Municipios Vascos - ECPv6.5.1.3//NONSGML v1.0//EN
CALSCALE:GREGORIAN
METHOD:PUBLISH
X-WR-CALNAME:EUDEL Noticias | Asociación de Municipios Vascos
X-ORIGINAL-URL:https://noticias.eudel.eus
X-WR-CALDESC:Eventos para EUDEL Noticias | Asociación de Municipios Vascos
REFRESH-INTERVAL;VALUE=DURATION:PT1H
X-Robots-Tag:noindex
X-PUBLISHED-TTL:PT1H
BEGIN:VTIMEZONE
TZID:Europe/Madrid
BEGIN:DAYLIGHT
TZOFFSETFROM:+0100
TZOFFSETTO:+0200
TZNAME:CEST
DTSTART:20210328T010000
END:DAYLIGHT
BEGIN:STANDARD
TZOFFSETFROM:+0200
TZOFFSETTO:+0100
TZNAME:CET
DTSTART:20211031T010000
END:STANDARD
END:VTIMEZONE
BEGIN:VEVENT
DTSTART;TZID=Europe/Madrid:20210603T100000
DTEND;TZID=Europe/Madrid:20210603T120000
DTSTAMP:20260422T104004
CREATED:20210528T110005Z
LAST-MODIFIED:20210528T110005Z
UID:21596-1622714400-1622721600@noticias.eudel.eus
SUMMARY:[:es]Junta Directiva Innobasque[:eu]Innobasqueko Zuzendaritza Batzordea[:]
DESCRIPTION:
URL:https://noticias.eudel.eus/evento/junta-directiva-innobasque/
LOCATION:Bilbao
END:VEVENT
BEGIN:VEVENT
DTSTART;TZID=Europe/Madrid:20210607T100000
DTEND;TZID=Europe/Madrid:20210607T110000
DTSTAMP:20260422T104004
CREATED:20210604T123210Z
LAST-MODIFIED:20210604T124737Z
UID:21615-1623060000-1623063600@noticias.eudel.eus
SUMMARY:[:es]Presentacion Convenio DFG-EUDEL servicio informático a los municipios[:eu]Aukezpena: GFA-EUDEL hitzarmena\, lurraldeko udalei informatika zerbitzua emateko[:]
DESCRIPTION:INTERVIENEN: \n\nEider Mendoza\, diputada de Gobernanza de la Diputación Foral de Gipuzkoa.\nGorka Urtaran\, presidente de EUDEL.\nMaria Ubarretxena\, alcaldesa de Arrasate.
URL:https://noticias.eudel.eus/evento/presentacion-convenio-dfg-eudel-servicio-informatico-a-los-municipios/
LOCATION:Kulturate. Plaza Zebero Altube ARRASATE/MONDRAGÓN
END:VEVENT
BEGIN:VEVENT
DTSTART;TZID=Europe/Madrid:20210608T160000
DTEND;TZID=Europe/Madrid:20210608T173000
DTSTAMP:20260422T104004
CREATED:20210601T115646Z
LAST-MODIFIED:20210601T115832Z
UID:21605-1623168000-1623173400@noticias.eudel.eus
SUMMARY:[:es]Red Basqueskola: Grupo motor[:eu]Basqueskola sarea: Talde eragilea[:]
DESCRIPTION:
URL:https://noticias.eudel.eus/evento/basqueskola-sarea-grupo-motor/
LOCATION:A través de la Plataforma Zoom
END:VEVENT
BEGIN:VEVENT
DTSTART;TZID=Europe/Madrid:20210610T100000
DTEND;TZID=Europe/Madrid:20210610T110000
DTSTAMP:20260422T104004
CREATED:20210609T111130Z
LAST-MODIFIED:20210609T112215Z
UID:21638-1623319200-1623322800@noticias.eudel.eus
SUMMARY:[:es]Reunión EUDEL-Consejero Aspiazu. Fondos Europeos[:eu]Bilera EUDEL-Sailburu Aspiazu. Europako Funtsak[:]
DESCRIPTION:Tema: El presidente de EUDEL\, Gorka Urtaran\, se reunirá con el consejero Pedro Azpiazu sobre la situación de los Fondos Europeos y la reciente actualización del Programa EUSKADI NEXT. \nEn el encuentro participan\, además: \nNagore Alkorta\, Vicepresidenta de EUDEL y Alcaldesa de Azpeitia. Jose Antonio Santano Vicepresidente EUDEL y Alcalde de Irun. Mar Zabala\,  Directora de EUDEL. Jordi Campàs\, Viceconsejero de Economía y Fondos Europeos. Yurdana Burgoa\, Directora de Gabinete.
URL:https://noticias.eudel.eus/evento/reunion-eudel-consejero-aspiazu-fondos-europeos/
LOCATION:Gobierno Vasco (Lakua 2)\, Donostia-San Sebastian 1\, VITORIA-GASTEIZ
END:VEVENT
BEGIN:VEVENT
DTSTART;TZID=Europe/Madrid:20210610T113000
DTEND;TZID=Europe/Madrid:20210610T133000
DTSTAMP:20260422T104004
CREATED:20210604T120817Z
LAST-MODIFIED:20210604T120817Z
UID:21610-1623324600-1623331800@noticias.eudel.eus
SUMMARY:[:es]Comisión Ejecutiva de EUDEL[:eu]EUDELeko Batzorde Eragilea[:]
DESCRIPTION:
URL:https://noticias.eudel.eus/evento/comision-ejecutiva-de-eudel-14/
LOCATION:Reunión por viodeoconferencia
END:VEVENT
BEGIN:VEVENT
DTSTART;TZID=Europe/Madrid:20210611T100000
DTEND;TZID=Europe/Madrid:20210611T113000
DTSTAMP:20260422T104004
CREATED:20210603T113429Z
LAST-MODIFIED:20210603T113429Z
UID:21608-1623405600-1623411000@noticias.eudel.eus
SUMMARY:[:es]Webinar URA: aportación municipal Plan Hidrologico/Ciclo integral Agua[:eu]URAko webinarra: Hidrologiko plana/Ziklo integralari udal ekarpenak[:]
DESCRIPTION:
URL:https://noticias.eudel.eus/evento/webinar-ura-aportacion-municipal-plan-hidrologico-ciclo-integral-agua/
LOCATION:Reunión por viodeoconferencia
END:VEVENT
BEGIN:VEVENT
DTSTART;TZID=Europe/Madrid:20210614T123000
DTEND;TZID=Europe/Madrid:20210614T143000
DTSTAMP:20260422T104004
CREATED:20210614T071513Z
LAST-MODIFIED:20210614T071513Z
UID:21915-1623673800-1623681000@noticias.eudel.eus
SUMMARY:[:es]Consejo de Dirección de Emakunde-Instituto Vasco de la Mujer[:eu]Emakunde-Emakumearen Euskal Erakundearen Zuzendaritza Kontseilua[:]
DESCRIPTION:
URL:https://noticias.eudel.eus/evento/consejo-de-direccion-de-emakunde-instituto-vasco-de-la-mujer-2/
LOCATION:Reunión por viodeoconferencia
END:VEVENT
BEGIN:VEVENT
DTSTART;TZID=Europe/Madrid:20210615T100000
DTEND;TZID=Europe/Madrid:20210615T120000
DTSTAMP:20260422T104004
CREATED:20210614T073011Z
LAST-MODIFIED:20210614T073011Z
UID:21918-1623751200-1623758400@noticias.eudel.eus
SUMMARY:[:es]Sesión Plenaria Congreso de Poderes Locales y Regionales del Consejo de Europa (CPLRE)[:eu]Europako Kontseiluaren Tokiko eta Eskualdeko Botereen Biltzarraren osoko bilkura (CPLRE)[:]
DESCRIPTION:
URL:https://noticias.eudel.eus/evento/sesion-plenaria-congreso-de-poderes-locales-y-regionales-del-consejo-de-europa-cplre-3/
LOCATION:Reunión por viodeoconferencia
END:VEVENT
BEGIN:VEVENT
DTSTART;TZID=Europe/Madrid:20210615T140000
DTEND;TZID=Europe/Madrid:20210615T163000
DTSTAMP:20260422T104004
CREATED:20210614T073305Z
LAST-MODIFIED:20210614T073305Z
UID:21922-1623765600-1623774600@noticias.eudel.eus
SUMMARY:[:es]Sesión Plenaria Congreso de Poderes Locales y Regionales del Consejo de Europa (CPLRE)[:eu]Europako Kontseiluaren Tokiko eta Eskualdeko Botereen Biltzarraren osoko bilkura (CPLRE)[:]
DESCRIPTION:
URL:https://noticias.eudel.eus/evento/sesion-plenaria-congreso-de-poderes-locales-y-regionales-del-consejo-de-europa-cplre-4/
LOCATION:Reunión por viodeoconferencia
END:VEVENT
BEGIN:VEVENT
DTSTART;TZID=Europe/Madrid:20210616T090000
DTEND;TZID=Europe/Madrid:20210616T103000
DTSTAMP:20260422T104004
CREATED:20210614T073502Z
LAST-MODIFIED:20210614T073502Z
UID:21924-1623834000-1623839400@noticias.eudel.eus
SUMMARY:[:es]Asamblea General Innobasque 2021[:eu]Innobasqueko Batzar Nagusiko deialdia 2021[:]
DESCRIPTION:
URL:https://noticias.eudel.eus/evento/asamblea-general-innobasque-2021/
LOCATION:Reunión por viodeoconferencia
END:VEVENT
BEGIN:VEVENT
DTSTART;TZID=Europe/Madrid:20210616T093000
DTEND;TZID=Europe/Madrid:20210616T110000
DTSTAMP:20260422T104004
CREATED:20210614T073756Z
LAST-MODIFIED:20210614T073756Z
UID:21926-1623835800-1623841200@noticias.eudel.eus
SUMMARY:[:es]Comisión de seguimiento del Brexit[:eu]Brexit Jarraipen Batzordearen bilera[:]
DESCRIPTION:
URL:https://noticias.eudel.eus/evento/comision-de-seguimiento-del-brexit-2/
LOCATION:Reunión por viodeoconferencia
END:VEVENT
BEGIN:VEVENT
DTSTART;TZID=Europe/Madrid:20210616T140000
DTEND;TZID=Europe/Madrid:20210616T163000
DTSTAMP:20260422T104004
CREATED:20210614T074002Z
LAST-MODIFIED:20210614T074130Z
UID:21928-1623852000-1623861000@noticias.eudel.eus
SUMMARY:[:es]Sesión Plenaria Congreso de Poderes Locales y Regionales del Consejo de Europa (CPLRE)[:eu]Europako Kontseiluaren Tokiko eta Eskualdeko Botereen Biltzarraren osoko bilkura (CPLRE)[:]
DESCRIPTION:
URL:https://noticias.eudel.eus/evento/sesion-plenaria-congreso-de-poderes-locales-y-regionales-del-consejo-de-europa-cplre-5/
LOCATION:Reunión por viodeoconferencia
END:VEVENT
BEGIN:VEVENT
DTSTART;TZID=Europe/Madrid:20210617T090000
DTEND;TZID=Europe/Madrid:20210617T103000
DTSTAMP:20260422T104004
CREATED:20210614T081208Z
LAST-MODIFIED:20210614T081208Z
UID:21942-1623920400-1623925800@noticias.eudel.eus
SUMMARY:[:es]Comisión Territorial de Bizkaia de EUDEL[:eu]EUDELeko Bizkaiko Lurralde Batzordea[:]
DESCRIPTION:
URL:https://noticias.eudel.eus/evento/comision-territorial-de-bizkaia-de-eudel-14/
LOCATION:Reunión por viodeoconferencia
END:VEVENT
BEGIN:VEVENT
DTSTART;TZID=Europe/Madrid:20210617T130000
DTEND;TZID=Europe/Madrid:20210617T143000
DTSTAMP:20260422T104004
CREATED:20210614T080957Z
LAST-MODIFIED:20210614T081110Z
UID:21939-1623934800-1623940200@noticias.eudel.eus
SUMMARY:[:es]Comisión Territorial de Álava de EUDEL[:eu]EUDELen Arabako Lurralde Batzordea[:]
DESCRIPTION:
URL:https://noticias.eudel.eus/evento/comision-territorial-de-alava-de-eudel-7/
LOCATION:Reunión por viodeoconferencia
END:VEVENT
BEGIN:VEVENT
DTSTART;TZID=Europe/Madrid:20210617T140000
DTEND;TZID=Europe/Madrid:20210617T163000
DTSTAMP:20260422T104004
CREATED:20210614T074615Z
LAST-MODIFIED:20210614T074615Z
UID:21932-1623938400-1623947400@noticias.eudel.eus
SUMMARY:[:es]Sesión Plenaria Congreso de Poderes Locales y Regionales del Consejo de Europa (CPLRE)[:eu]Europako Kontseiluaren Tokiko eta Eskualdeko Botereen Biltzarraren osoko bilkura (CPLRE)[:]
DESCRIPTION:
URL:https://noticias.eudel.eus/evento/sesion-plenaria-congreso-de-poderes-locales-y-regionales-del-consejo-de-europa-cplre-6/
LOCATION:Reunión por viodeoconferencia
END:VEVENT
BEGIN:VEVENT
DTSTART;TZID=Europe/Madrid:20210618T100000
DTEND;TZID=Europe/Madrid:20210618T120000
DTSTAMP:20260422T104004
CREATED:20210614T081509Z
LAST-MODIFIED:20210614T081509Z
UID:21945-1624010400-1624017600@noticias.eudel.eus
SUMMARY:[:es]Junta de Gobierno de Elkarkidetza[:eu]ElkarkidetzakoGobernu Batzordea[:]
DESCRIPTION:
URL:https://noticias.eudel.eus/evento/junta-de-gobierno-de-elkarkidetza-3/
LOCATION:Reunión por viodeoconferencia
END:VEVENT
BEGIN:VEVENT
DTSTART;TZID=Europe/Madrid:20210618T103000
DTEND;TZID=Europe/Madrid:20210618T130000
DTSTAMP:20260422T104004
CREATED:20210614T075740Z
LAST-MODIFIED:20210614T075740Z
UID:21935-1624012200-1624021200@noticias.eudel.eus
SUMMARY:[:es]Sesión Plenaria Congreso de Poderes Locales y Regionales del Consejo de Europa (CPLRE)[:eu]Europako Kontseiluaren Tokiko eta Eskualdeko Botereen Biltzarraren osoko bilkura (CPLRE)[:]
DESCRIPTION:
URL:https://noticias.eudel.eus/evento/sesion-plenaria-congreso-de-poderes-locales-y-regionales-del-consejo-de-europa-cplre-7/
END:VEVENT
BEGIN:VEVENT
DTSTART;TZID=Europe/Madrid:20210618T140000
DTEND;TZID=Europe/Madrid:20210618T173000
DTSTAMP:20260422T104004
CREATED:20210614T075859Z
LAST-MODIFIED:20210614T075859Z
UID:21937-1624024800-1624037400@noticias.eudel.eus
SUMMARY:[:es]Sesión Plenaria Congreso de Poderes Locales y Regionales del Consejo de Europa (CPLRE)[:eu]Europako Kontseiluaren Tokiko eta Eskualdeko Botereen Biltzarraren osoko bilkura (CPLRE)[:]
DESCRIPTION:
URL:https://noticias.eudel.eus/evento/sesion-plenaria-congreso-de-poderes-locales-y-regionales-del-consejo-de-europa-cplre-8/
LOCATION:Reunión por viodeoconferencia
END:VEVENT
BEGIN:VEVENT
DTSTART;TZID=Europe/Madrid:20210621T180000
DTEND;TZID=Europe/Madrid:20210621T193000
DTSTAMP:20260422T104004
CREATED:20210618T100233Z
LAST-MODIFIED:20210618T100233Z
UID:21980-1624298400-1624303800@noticias.eudel.eus
SUMMARY:[:es]Consejo Territorial de Deporte Escolar de Álava[:eu]Eskola Kirolaren Araba Lurraldeko Kontseilua[:]
DESCRIPTION:
URL:https://noticias.eudel.eus/evento/consejo-territorial-de-deporte-escolar-de-alava-2/
LOCATION:Reunión por viodeoconferencia
END:VEVENT
BEGIN:VEVENT
DTSTART;TZID=Europe/Madrid:20210624T113000
DTEND;TZID=Europe/Madrid:20210624T120000
DTSTAMP:20260422T104004
CREATED:20210618T094652Z
LAST-MODIFIED:20210618T094652Z
UID:21962-1624534200-1624536000@noticias.eudel.eus
SUMMARY:[:es]Junta Patronato BILBAO METRÓPOLI-30[:eu]BILBAO METRÓPOLI-30\, Patronatuko Batzordea[:]
DESCRIPTION:
URL:https://noticias.eudel.eus/evento/junta-patronato-bilbao-metropoli-30/
LOCATION:Reunión por viodeoconferencia
END:VEVENT
BEGIN:VEVENT
DTSTART;TZID=Europe/Madrid:20210624T120000
DTEND;TZID=Europe/Madrid:20210624T130000
DTSTAMP:20260422T104004
CREATED:20210618T094513Z
LAST-MODIFIED:20210618T094513Z
UID:21960-1624536000-1624539600@noticias.eudel.eus
SUMMARY:[:es]Asamblea General BILBAO METRÓPOLI-30[:eu]BILBAO METROPOLI-30\, Batzar Orokorra[:]
DESCRIPTION:
URL:https://noticias.eudel.eus/evento/asamblea-general-bilbao-metropoli-30/
LOCATION:Reunión por viodeoconferencia
END:VEVENT
BEGIN:VEVENT
DTSTART;TZID=Europe/Madrid:20210624T160000
DTEND;TZID=Europe/Madrid:20210624T173000
DTSTAMP:20260422T104004
CREATED:20210618T094822Z
LAST-MODIFIED:20210618T094822Z
UID:21964-1624550400-1624555800@noticias.eudel.eus
SUMMARY:[:es]Consejo Vasco de la Cultura[:eu]Kulturaren Euskal  Kontseilua[:]
DESCRIPTION:
URL:https://noticias.eudel.eus/evento/consejo-vasco-de-la-cultura-2/
LOCATION:Reunión por viodeoconferencia
END:VEVENT
BEGIN:VEVENT
DTSTART;TZID=Europe/Madrid:20210625T093000
DTEND;TZID=Europe/Madrid:20210625T110000
DTSTAMP:20260422T104004
CREATED:20210618T095039Z
LAST-MODIFIED:20210618T095039Z
UID:21966-1624613400-1624618800@noticias.eudel.eus
SUMMARY:[:es]Consejo Vasco para la Inclusión Social[:eu]Gizarteratzeko Euskal Kontseilua[:]
DESCRIPTION:
URL:https://noticias.eudel.eus/evento/consejo-vasco-para-la-inclusion-social/
LOCATION:Reunión por viodeoconferencia
END:VEVENT
BEGIN:VEVENT
DTSTART;TZID=Europe/Madrid:20210629T093000
DTEND;TZID=Europe/Madrid:20210629T110000
DTSTAMP:20260422T104004
CREATED:20210625T095803Z
LAST-MODIFIED:20210625T095803Z
UID:21998-1624959000-1624964400@noticias.eudel.eus
SUMMARY:[:es]Comisión de Garantías de Admisión de alumnos para el curso 2020-2021[:eu]2021/2022 ikasturteko ikasleen Onarpena Bermatzeko Batzordea.[:]
DESCRIPTION:
URL:https://noticias.eudel.eus/evento/comision-de-garantias-de-admision-de-alumnos-para-el-curso-2020-2021/
LOCATION:Reunión por viodeoconferencia
END:VEVENT
BEGIN:VEVENT
DTSTART;TZID=Europe/Madrid:20210629T123000
DTEND;TZID=Europe/Madrid:20210629T143000
DTSTAMP:20260422T104004
CREATED:20210618T095247Z
LAST-MODIFIED:20210618T095247Z
UID:21970-1624969800-1624977000@noticias.eudel.eus
SUMMARY:[:es]Consejo Vasco de Cooperación para el Desarrollo[:eu]Garapenerako Lankidetzaren Euskal Kontseilua.[:]
DESCRIPTION:
URL:https://noticias.eudel.eus/evento/consejo-vasco-de-cooperacion-para-el-desarrollo-2/
LOCATION:Reunión por viodeoconferencia
END:VEVENT
BEGIN:VEVENT
DTSTART;TZID=Europe/Madrid:20210630T103000
DTEND;TZID=Europe/Madrid:20210630T113000
DTSTAMP:20260422T104004
CREATED:20210623T084705Z
LAST-MODIFIED:20210623T084755Z
UID:21986-1625049000-1625052600@noticias.eudel.eus
SUMMARY:[:es]Lantegi Batuak acto VALOR SOCIAL INTEGRADO[:eu]Lantegi Batuak GIZARTE BALIO INTEGRATUA [:]
DESCRIPTION:En nombre de EUDEL acude al acto Aitziber Oliban\, alcaldesa de Erandio y miembro de la Comisión Ejecutiva.
URL:https://noticias.eudel.eus/evento/lantegi-batuak-acto-valor-social-integrado/
LOCATION:Edificio Ensanche (Bilbao)\, Plaza del Ensanche\, BILBAO
END:VEVENT
BEGIN:VEVENT
DTSTART;TZID=Europe/Madrid:20210630T120000
DTEND;TZID=Europe/Madrid:20210630T130000
DTSTAMP:20260422T104004
CREATED:20210618T095410Z
LAST-MODIFIED:20210618T095410Z
UID:21974-1625054400-1625058000@noticias.eudel.eus
SUMMARY:[:es]Consejo Territorial de Finanzas de Gipuzkoa[:eu]Gipuzkoako Finantzen Kontseilua[:]
DESCRIPTION:
URL:https://noticias.eudel.eus/evento/consejo-territorial-de-finanzas-de-gipuzkoa-5/
LOCATION:Reunión por viodeoconferencia
END:VEVENT
BEGIN:VEVENT
DTSTART;TZID=Europe/Madrid:20210630T130000
DTEND;TZID=Europe/Madrid:20210630T150000
DTSTAMP:20260422T104004
CREATED:20210625T100048Z
LAST-MODIFIED:20210625T100048Z
UID:22000-1625058000-1625065200@noticias.eudel.eus
SUMMARY:[:es]Comisión Territorial de Gipuzkoa de EUDEL[:eu]EUDELeko Gipuzkoako Lurralde Batzorde a[:]
DESCRIPTION:
URL:https://noticias.eudel.eus/evento/comision-territorial-de-gipuzkoa-de-eudel-10/
LOCATION:Reunión por viodeoconferencia
END:VEVENT
BEGIN:VEVENT
DTSTART;TZID=Europe/Madrid:20210630T160000
DTEND;TZID=Europe/Madrid:20210630T173000
DTSTAMP:20260422T104004
CREATED:20210618T095558Z
LAST-MODIFIED:20210618T095558Z
UID:21976-1625068800-1625074200@noticias.eudel.eus
SUMMARY:[:es]Órgano Interinstitucional de Servicios Sociales[:eu]Gizarte Zerbitzuen Erakunde arteko Organoa[:]
DESCRIPTION:
URL:https://noticias.eudel.eus/evento/organo-interinstitucional-de-servicios-sociales-3/
LOCATION:Reunión por viodeoconferencia
END:VEVENT
END:VCALENDAR