BEGIN:VCALENDAR
VERSION:2.0
PRODID:-//EUDEL Noticias | Asociación de Municipios Vascos - ECPv6.5.1.3//NONSGML v1.0//EN
CALSCALE:GREGORIAN
METHOD:PUBLISH
X-ORIGINAL-URL:https://noticias.eudel.eus/en
X-WR-CALDESC:Events for EUDEL Noticias | Asociación de Municipios Vascos
REFRESH-INTERVAL;VALUE=DURATION:PT1H
X-Robots-Tag:noindex
X-PUBLISHED-TTL:PT1H
BEGIN:VTIMEZONE
TZID:Europe/Madrid
BEGIN:DAYLIGHT
TZOFFSETFROM:+0100
TZOFFSETTO:+0200
TZNAME:CEST
DTSTART:20210328T010000
END:DAYLIGHT
BEGIN:STANDARD
TZOFFSETFROM:+0200
TZOFFSETTO:+0100
TZNAME:CET
DTSTART:20211031T010000
END:STANDARD
END:VTIMEZONE
BEGIN:VEVENT
DTSTART;TZID=Europe/Madrid:20210902T090000
DTEND;TZID=Europe/Madrid:20210902T110000
DTSTAMP:20260422T055134
CREATED:20210901T082456Z
LAST-MODIFIED:20210901T082456Z
UID:22118-1630573200-1630580400@noticias.eudel.eus
SUMMARY:[:es]Consejo Asesor de Medio Ambiente de la CAPV[:eu]EAEko Ingurumenerako Aholku Batzordea[:]
DESCRIPTION:
URL:https://noticias.eudel.eus/en/evento/consejo-asesor-de-medio-ambiente-de-la-capv/
LOCATION:Vitoria-Gasteiz\, ARABA
END:VEVENT
BEGIN:VEVENT
DTSTART;TZID=Europe/Madrid:20210909T120000
DTEND;TZID=Europe/Madrid:20210909T133000
DTSTAMP:20260422T055134
CREATED:20210901T102853Z
LAST-MODIFIED:20210906T121240Z
UID:22120-1631188800-1631194200@noticias.eudel.eus
SUMMARY:[:es]Pleno de la Comisión de Seguridad Vial de la CAPV[:eu]EAEko Bide Segurtasun Osoko Bilkura[:]
DESCRIPTION:
URL:https://noticias.eudel.eus/en/evento/pleno-de-la-comision-de-seguridad-vial-de-la-capv/
LOCATION:Bideokonferentzia bitartez egiten da / Se celebra a través de viodeoconferencia
END:VEVENT
BEGIN:VEVENT
DTSTART;TZID=Europe/Madrid:20210915T120000
DTEND;TZID=Europe/Madrid:20210915T140000
DTSTAMP:20260422T055134
CREATED:20210910T110744Z
LAST-MODIFIED:20210910T110744Z
UID:22161-1631707200-1631714400@noticias.eudel.eus
SUMMARY:[:es]Ponencia Pte EUDEL curso Federpen (Centros de Mayores)[:eu]EUDELen txostenaren Federpen ikastaroari buruzko EUDELeko elkarteburuaren ponentzia (adinekoen zentroak)[:]
DESCRIPTION:
URL:https://noticias.eudel.eus/en/evento/ponencia-pte-eudel-curso-federpen-centros-de-mayores/
LOCATION:Miramar Jauregia / Palacio Miramar\, DONOSTIA/SAN SEBASTIÁN
END:VEVENT
BEGIN:VEVENT
DTSTART;TZID=Europe/Madrid:20210916T103000
DTEND;TZID=Europe/Madrid:20210916T130000
DTSTAMP:20260422T055134
CREATED:20210910T080308Z
LAST-MODIFIED:20210910T080308Z
UID:22157-1631788200-1631797200@noticias.eudel.eus
SUMMARY:[:es]Comisión Ejecutiva de EUDEL[:eu]EUDELeko Batzorde Eragilea[:]
DESCRIPTION:
URL:https://noticias.eudel.eus/en/evento/comision-ejecutiva-de-eudel-17/
LOCATION:Bideokonferentzia bitartez egiten da / Se celebra a través de viodeoconferencia
END:VEVENT
BEGIN:VEVENT
DTSTART;TZID=Europe/Madrid:20210917T100000
DTEND;TZID=Europe/Madrid:20210917T110000
DTSTAMP:20260422T055134
CREATED:20210910T110920Z
LAST-MODIFIED:20210910T111142Z
UID:22163-1631872800-1631876400@noticias.eudel.eus
SUMMARY:[:es]Presentación Sello ELoGE 4 (Buena Gobernanza)[:eu]ELOGE Zigillua 4 aurkezpena (Gobernantza ona)[:]
DESCRIPTION:
URL:https://noticias.eudel.eus/en/evento/presentacion-sello-eloge-4-buena-gobernanza/
LOCATION:EUDEL Bilbao\, Ertzilla kalea 13 / c/ Ercilla\, nº 13\, BILBAO\, 48009
END:VEVENT
BEGIN:VEVENT
DTSTART;TZID=Europe/Madrid:20210923T090000
DTEND;TZID=Europe/Madrid:20210923T110000
DTSTAMP:20260422T055134
CREATED:20210916T113033Z
LAST-MODIFIED:20210916T113033Z
UID:22172-1632387600-1632394800@noticias.eudel.eus
SUMMARY:[:es]Órgano de Coordinación Tributaria de Euskadi[:eu]Euskadiko ZergaKoordinaziorako Organoa[:]
DESCRIPTION:
URL:https://noticias.eudel.eus/en/evento/organo-de-coordinacion-tributaria-de-euskadi/
LOCATION:Bideokonferentzia bitartez egiten da / Se celebra a través de viodeoconferencia
END:VEVENT
BEGIN:VEVENT
DTSTART;TZID=Europe/Madrid:20210923T090000
DTEND;TZID=Europe/Madrid:20210923T120000
DTSTAMP:20260422T055134
CREATED:20210916T112749Z
LAST-MODIFIED:20210916T112749Z
UID:22170-1632387600-1632398400@noticias.eudel.eus
SUMMARY:[:es]Bilbao Bizkaia Action Group[:eu]Bilbao Bizkaia Action Group[:]
DESCRIPTION:
URL:https://noticias.eudel.eus/en/evento/bilbao-bizkaia-action-group-5/
LOCATION:Bideokonferentzia bitartez egiten da / Se celebra a través de viodeoconferencia
END:VEVENT
BEGIN:VEVENT
DTSTART;TZID=Europe/Madrid:20210923T160000
DTEND;TZID=Europe/Madrid:20210923T180000
DTSTAMP:20260422T055134
CREATED:20210920T081612Z
LAST-MODIFIED:20210920T081612Z
UID:22175-1632412800-1632420000@noticias.eudel.eus
SUMMARY:[:es]Mesa de Coordinación Interinstitucional de la Estrategia Euskarri[:eu]Euskarri Estrategiaren Erakundearteko Koordinazio Mahaia[:]
DESCRIPTION:
URL:https://noticias.eudel.eus/en/evento/mesa-de-coordinacion-interinstitucional-de-la-estrategia-euskarri/
LOCATION:Vitoria-Gasteiz\, ARABA
END:VEVENT
BEGIN:VEVENT
DTSTART;TZID=Europe/Madrid:20210927T110000
DTEND;TZID=Europe/Madrid:20210927T130000
DTSTAMP:20260422T055134
CREATED:20210924T105322Z
LAST-MODIFIED:20210924T105322Z
UID:22180-1632740400-1632747600@noticias.eudel.eus
SUMMARY:[:es]Consejo Vasco del Voluntariado[:eu]Boluntariotzaren Euskal Kontseilua[:]
DESCRIPTION:
URL:https://noticias.eudel.eus/en/evento/consejo-vasco-del-voluntariado-2/
LOCATION:Bideokonferentzia bitartez egiten da / Se celebra a través de viodeoconferencia
END:VEVENT
BEGIN:VEVENT
DTSTART;TZID=Europe/Madrid:20210929T103000
DTEND;TZID=Europe/Madrid:20210929T123000
DTSTAMP:20260422T055134
CREATED:20210924T105623Z
LAST-MODIFIED:20210924T105623Z
UID:22182-1632911400-1632918600@noticias.eudel.eus
SUMMARY:[:es]Asamblea General Extraordinaria de Eurobasque[:eu]Eurobasquen Ez-Ohiko Bilkura Nagusia[:]
DESCRIPTION:
URL:https://noticias.eudel.eus/en/evento/asamblea-general-extraordinaria-de-eurobasque/
LOCATION:Gernika
END:VEVENT
END:VCALENDAR