BEGIN:VCALENDAR
VERSION:2.0
PRODID:-//EUDEL Noticias | Asociación de Municipios Vascos - ECPv6.5.1.3//NONSGML v1.0//EN
CALSCALE:GREGORIAN
METHOD:PUBLISH
X-ORIGINAL-URL:https://noticias.eudel.eus/en
X-WR-CALDESC:Events for EUDEL Noticias | Asociación de Municipios Vascos
REFRESH-INTERVAL;VALUE=DURATION:PT1H
X-Robots-Tag:noindex
X-PUBLISHED-TTL:PT1H
BEGIN:VTIMEZONE
TZID:Europe/Madrid
BEGIN:DAYLIGHT
TZOFFSETFROM:+0100
TZOFFSETTO:+0200
TZNAME:CEST
DTSTART:20210328T010000
END:DAYLIGHT
BEGIN:STANDARD
TZOFFSETFROM:+0200
TZOFFSETTO:+0100
TZNAME:CET
DTSTART:20211031T010000
END:STANDARD
END:VTIMEZONE
BEGIN:VEVENT
DTSTART;TZID=Europe/Madrid:20211001T093000
DTEND;TZID=Europe/Madrid:20211001T173000
DTSTAMP:20260422T020906
CREATED:20210311T121556Z
LAST-MODIFIED:20210415T115246Z
UID:21348-1633080600-1633109400@noticias.eudel.eus
SUMMARY:[:es]XIV edición Seminario Vasco de Derecho Local. Cuarta sesión: La gestión de los procedimientos selectivos en un entorno digital -- ...[:eu]XIV edizioa Tokiko Zuzenbidearen Euskal Mintegia. Laugarren saioa: La gestión de los procedimientos selectivos en un entorno digital -- ...[:]
DESCRIPTION:Sorry\, this entry is only available in ES and EU.
URL:https://noticias.eudel.eus/en/evento/xiv-edicion-seminario-vasco-de-derecho-local-cuarta-sesion-la-gestion-de-los-procedimientos-selectivos-en-un-entorno-digital/
LOCATION:A través de la Plataforma Zoom
END:VEVENT
BEGIN:VEVENT
DTSTART;TZID=Europe/Madrid:20211005T113000
DTEND;TZID=Europe/Madrid:20211005T130000
DTSTAMP:20260422T020906
CREATED:20211004T063321Z
LAST-MODIFIED:20211004T063321Z
UID:22198-1633433400-1633438800@noticias.eudel.eus
SUMMARY:[:es]Consejo de Sanidad de Euskadi[:eu]Euskadiko Osasun Kontseilua[:]
DESCRIPTION:
URL:https://noticias.eudel.eus/en/evento/consejo-de-sanidad-de-euskadi-2/
LOCATION:Vitoria-Gasteiz\, ARABA
END:VEVENT
BEGIN:VEVENT
DTSTART;VALUE=DATE:20211006
DTEND;VALUE=DATE:20211008
DTSTAMP:20260422T020906
CREATED:20210629T071926Z
LAST-MODIFIED:20210629T072239Z
UID:22009-1633478400-1633651199@noticias.eudel.eus
SUMMARY:[:es]SUM 2021 - Congreso de Movilidad Urbana Sostenible.[:eu]SUM Bilbao 2021 - Hiri Mugikortasun Iraunkorrari buruzko Biltzarra[:]
DESCRIPTION:Sorry\, this entry is only available in ES and EU.
URL:https://noticias.eudel.eus/en/evento/sum-2021-congreso-de-movilidad-urbana-sostenible/
LOCATION:Euskalduna Jauregia / Palacio Euskalduna\, BILBAO
END:VEVENT
BEGIN:VEVENT
DTSTART;TZID=Europe/Madrid:20211008T090000
DTEND;TZID=Europe/Madrid:20211008T140000
DTSTAMP:20260422T020906
CREATED:20210906T064043Z
LAST-MODIFIED:20210906T064043Z
UID:22122-1633683600-1633701600@noticias.eudel.eus
SUMMARY:[:es]Programa de Dirección Pública Local 2021-2022 Ayuntamientos vascos 2030: desarrollo sostenible\, recuperación y transformación. Módulo Introductorio.[:eu]Tokiko Zuzendaritza Publikoko Programa 2021-2022 Ayuntamientos vascos 2030: desarrollo sostenible\, recuperación y transformación. Sarrerako Modulua[:]
DESCRIPTION:
URL:https://noticias.eudel.eus/en/evento/programa-de-direccion-publica-local-2021-2022-ayuntamientos-vascos-2030-desarrollo-sostenible-recuperacion-y-transformacion-modulo-introductorio/
LOCATION:EUDEL Bilbao\, Ertzilla kalea 13 / c/ Ercilla\, nº 13\, BILBAO\, 48009
END:VEVENT
BEGIN:VEVENT
DTSTART;TZID=Europe/Madrid:20211008T123000
DTEND;TZID=Europe/Madrid:20211008T143000
DTSTAMP:20260422T020906
CREATED:20211008T101436Z
LAST-MODIFIED:20211008T101436Z
UID:22218-1633696200-1633703400@noticias.eudel.eus
SUMMARY:[:es]Consejo Vasco de Finanzas Públicas[:eu]Herri-Dirubideen Euskal Kontseilua [:]
DESCRIPTION:
URL:https://noticias.eudel.eus/en/evento/consejo-vasco-de-finanzas-publicas/
LOCATION:Vitoria-Gasteiz\, ARABA
END:VEVENT
BEGIN:VEVENT
DTSTART;TZID=Europe/Madrid:20211013T100000
DTEND;TZID=Europe/Madrid:20211013T120000
DTSTAMP:20260422T020906
CREATED:20211004T073814Z
LAST-MODIFIED:20211004T073814Z
UID:22206-1634119200-1634126400@noticias.eudel.eus
SUMMARY:[:es]Comisión Permanente Sectorial para la Atención a la Infancia y a la Adolescencia[:eu]Haurrak eta Nerabeak zaintzeko Batzorde Iraunkor Sektorialaren Bilera [:]
DESCRIPTION:
URL:https://noticias.eudel.eus/en/evento/comision-permanente-sectorial-para-la-atencion-a-la-infancia-y-a-la-adolescencia-2/
LOCATION:Vitoria-Gasteiz\, ARABA
END:VEVENT
BEGIN:VEVENT
DTSTART;TZID=Europe/Madrid:20211013T103000
DTEND;TZID=Europe/Madrid:20211013T110000
DTSTAMP:20260422T020906
CREATED:20211004T073347Z
LAST-MODIFIED:20211004T073347Z
UID:22202-1634121000-1634122800@noticias.eudel.eus
SUMMARY:[:es]Comisión de Ordenación del Territorio del País Vasco (Álava)[:eu]Euskal Autonomia Erkidegoko Lurralde Antolamendurako Batzordea (Araba)[:]
DESCRIPTION:
URL:https://noticias.eudel.eus/en/evento/comision-de-ordenacion-del-territorio-del-pais-vasco-alava-3/
LOCATION:Vitoria-Gasteiz\, ARABA
END:VEVENT
BEGIN:VEVENT
DTSTART;TZID=Europe/Madrid:20211013T103000
DTEND;TZID=Europe/Madrid:20211013T110000
DTSTAMP:20260422T020906
CREATED:20211004T073448Z
LAST-MODIFIED:20211004T073448Z
UID:22204-1634121000-1634122800@noticias.eudel.eus
SUMMARY:[:es]Comisión de Ordenación del Territorio del País Vasco (Bizkaia)[:eu]Euskal Autonomia Erkidegoko Lurralde Antolamendurako Batzordea (Bizkaia)[:]
DESCRIPTION:
URL:https://noticias.eudel.eus/en/evento/comision-de-ordenacion-del-territorio-del-pais-vasco-bizkaia-6/
LOCATION:Vitoria-Gasteiz\, ARABA
END:VEVENT
BEGIN:VEVENT
DTSTART;TZID=Europe/Madrid:20211014T090000
DTEND;TZID=Europe/Madrid:20211014T110000
DTSTAMP:20260422T020906
CREATED:20211008T105009Z
LAST-MODIFIED:20211008T105009Z
UID:22220-1634202000-1634209200@noticias.eudel.eus
SUMMARY:[:es]Comisión Ejecutiva de EUDEL[:eu]EUDELeko Batzorde Eragilea[:]
DESCRIPTION:
URL:https://noticias.eudel.eus/en/evento/comision-ejecutiva-de-eudel-18/
LOCATION:Bideokonferentzia bitartez egiten da / Se celebra a través de viodeoconferencia
END:VEVENT
BEGIN:VEVENT
DTSTART;TZID=Europe/Madrid:20211018T103000
DTEND;TZID=Europe/Madrid:20211018T123000
DTSTAMP:20260422T020906
CREATED:20211015T124441Z
LAST-MODIFIED:20211015T124441Z
UID:22235-1634553000-1634560200@noticias.eudel.eus
SUMMARY:[:es]Consejo Vasco de Cooperación para el Desarrollo[:eu]Garapenerako Lankidetzaren Euskal Kontseilua[:]
DESCRIPTION:
URL:https://noticias.eudel.eus/en/evento/consejo-vasco-de-cooperacion-para-el-desarrollo-3/
LOCATION:Bideokonferentzia bitartez egiten da / Se celebra a través de viodeoconferencia
END:VEVENT
BEGIN:VEVENT
DTSTART;TZID=Europe/Madrid:20211018T163000
DTEND;TZID=Europe/Madrid:20211018T180000
DTSTAMP:20260422T020906
CREATED:20211015T130216Z
LAST-MODIFIED:20211015T130216Z
UID:22263-1634574600-1634580000@noticias.eudel.eus
SUMMARY:[:es]Consejo Territorial de Finanzas de Gipuzkoa[:eu]Gipuzkoako Finantzen Kontseilua[:]
DESCRIPTION:
URL:https://noticias.eudel.eus/en/evento/consejo-territorial-de-finanzas-de-gipuzkoa-6/
LOCATION:Bideokonferentzia bitartez egiten da / Se celebra a través de viodeoconferencia
END:VEVENT
BEGIN:VEVENT
DTSTART;TZID=Europe/Madrid:20211019T100000
DTEND;TZID=Europe/Madrid:20211019T113000
DTSTAMP:20260422T020906
CREATED:20211015T124612Z
LAST-MODIFIED:20211015T125051Z
UID:22237-1634637600-1634643000@noticias.eudel.eus
SUMMARY:[:es]Comisión Territorial de Gipuzkoa de EUDEL[:eu]EUDELeko Gipuzkoako Lurralde Batzordea[:]
DESCRIPTION:
URL:https://noticias.eudel.eus/en/evento/comision-territorial-de-gipuzkoa-de-eudel-12/
LOCATION:Bideokonferentzia bitartez egiten da / Se celebra a través de viodeoconferencia
END:VEVENT
BEGIN:VEVENT
DTSTART;TZID=Europe/Madrid:20211020T090000
DTEND;TZID=Europe/Madrid:20211020T110000
DTSTAMP:20260422T020906
CREATED:20211015T124717Z
LAST-MODIFIED:20211015T125029Z
UID:22242-1634720400-1634727600@noticias.eudel.eus
SUMMARY:[:es]Comisión Territorial de Bizkaia de EUDEL[:eu]EUDELeko Bizkaiko Lurralde Batzordea[:]
DESCRIPTION:
URL:https://noticias.eudel.eus/en/evento/comision-territorial-de-bizkaia-de-eudel-16/
LOCATION:Bideokonferentzia bitartez egiten da / Se celebra a través de viodeoconferencia
END:VEVENT
BEGIN:VEVENT
DTSTART;TZID=Europe/Madrid:20211021T090000
DTEND;TZID=Europe/Madrid:20211021T113000
DTSTAMP:20260422T020906
CREATED:20211015T125333Z
LAST-MODIFIED:20211015T125333Z
UID:22252-1634806800-1634815800@noticias.eudel.eus
SUMMARY:[:es]Comisión de Garantías de Admisión de Alumnos de Bizkaia[:eu]Bizkaiko Ikasleen Onarpen Bermerako Batzordea[:]
DESCRIPTION:
URL:https://noticias.eudel.eus/en/evento/comision-de-garantias-de-admision-de-alumnos-de-bizkaia-5/
LOCATION:Bilbao
END:VEVENT
BEGIN:VEVENT
DTSTART;TZID=Europe/Madrid:20211021T130000
DTEND;TZID=Europe/Madrid:20211021T143000
DTSTAMP:20260422T020906
CREATED:20211015T124904Z
LAST-MODIFIED:20211015T124904Z
UID:22245-1634821200-1634826600@noticias.eudel.eus
SUMMARY:[:es]Comisión Territorial de Finanzas de Bizkaia[:eu]Bizkaiko Finantzen Lurralde Kontseilua[:]
DESCRIPTION:
URL:https://noticias.eudel.eus/en/evento/comision-territorial-de-finanzas-de-bizkaia/
LOCATION:Bilbao
END:VEVENT
BEGIN:VEVENT
DTSTART;TZID=Europe/Madrid:20211021T163000
DTEND;TZID=Europe/Madrid:20211021T183000
DTSTAMP:20260422T020906
CREATED:20211015T124957Z
LAST-MODIFIED:20211015T124957Z
UID:22247-1634833800-1634841000@noticias.eudel.eus
SUMMARY:[:es]Comisión Territorial de Álava[:eu]Arabako Lurralde Batzordea[:]
DESCRIPTION:
URL:https://noticias.eudel.eus/en/evento/comision-territorial-de-alava-6/
LOCATION:Bideokonferentzia bitartez egiten da / Se celebra a través de viodeoconferencia
END:VEVENT
BEGIN:VEVENT
DTSTART;TZID=Europe/Madrid:20211022T090000
DTEND;TZID=Europe/Madrid:20211022T140000
DTSTAMP:20260422T020906
CREATED:20210906T064234Z
LAST-MODIFIED:20210906T082720Z
UID:22124-1634893200-1634911200@noticias.eudel.eus
SUMMARY:[:es]Programa de Dirección Pública Local 2021-2022 Ayuntamientos vascos 2030: desarrollo sostenible\, recuperación y transformación. MÓDULO 1: Agenda 2030 e impactos locales[:eu]Tokiko Zuzendaritza Publikoko Programa 2021-2022 Ayuntamientos vascos 2030: desarrollo sostenible\, recuperación y transformación. 1. MODULUA: 2030 Agenda eta tokiko eraginak[:]
DESCRIPTION:
URL:https://noticias.eudel.eus/en/evento/programa-de-direccion-publica-local-2021-2022-ayuntamientos-vascos-2030-desarrollo-sostenible-recuperacion-y-transformacion-modulo-1/
LOCATION:EUDEL Bilbao\, Ertzilla kalea 13 / c/ Ercilla\, nº 13\, BILBAO\, 48009
END:VEVENT
BEGIN:VEVENT
DTSTART;TZID=Europe/Madrid:20211022T100000
DTEND;TZID=Europe/Madrid:20211022T110000
DTSTAMP:20260422T020906
CREATED:20211015T125800Z
LAST-MODIFIED:20211015T125800Z
UID:22256-1634896800-1634900400@noticias.eudel.eus
SUMMARY:[:es]Junta Directiva Bilbao Metropolitano-30[:eu]Bilbao Metropolitano-30ren Zuzendaritza Batzordea[:]
DESCRIPTION:
URL:https://noticias.eudel.eus/en/evento/junta-directiva-bilbao-metropolitano-30/
LOCATION:Bilbao
END:VEVENT
BEGIN:VEVENT
DTSTART;TZID=Europe/Madrid:20211022T100000
DTEND;TZID=Europe/Madrid:20211022T120000
DTSTAMP:20260422T020906
CREATED:20211015T125510Z
LAST-MODIFIED:20211015T125510Z
UID:22254-1634896800-1634904000@noticias.eudel.eus
SUMMARY:[:es]Junta de Gobierno de Elkarkidetza[:eu]Elkarkidetzako Gobernu Batzordea[:]
DESCRIPTION:
URL:https://noticias.eudel.eus/en/evento/junta-de-gobierno-de-elkarkidetza-4/
LOCATION:Bideokonferentzia bitartez egiten da / Se celebra a través de viodeoconferencia
END:VEVENT
BEGIN:VEVENT
DTSTART;TZID=Europe/Madrid:20211022T100000
DTEND;TZID=Europe/Madrid:20211022T120000
DTSTAMP:20260422T020906
CREATED:20211015T125940Z
LAST-MODIFIED:20211015T125940Z
UID:22258-1634896800-1634904000@noticias.eudel.eus
SUMMARY:[:es]Consejo Rector del Organismo Autónomo Academia Vasca de Policía y Emergencia[:eu]Polizia eta Larrialdetako Euskal Akademia Erakunde Autonomoaren Kontseilua[:]
DESCRIPTION:
URL:https://noticias.eudel.eus/en/evento/consejo-rector-del-organismo-autonomo-academia-vasca-de-policia-y-emergencia/
LOCATION:Bideokonferentzia bitartez egiten da / Se celebra a través de viodeoconferencia
END:VEVENT
BEGIN:VEVENT
DTSTART;TZID=Europe/Madrid:20211026T093000
DTEND;TZID=Europe/Madrid:20211026T113000
DTSTAMP:20260422T020906
CREATED:20211022T122823Z
LAST-MODIFIED:20211022T122823Z
UID:22295-1635240600-1635247800@noticias.eudel.eus
SUMMARY:[:es]Comisión de Garantías de Admisión de  alumnos de Gipuzkoa[:eu]Gipuzkoako ikasleen Onarpena  Bermatzeko Batzordea[:]
DESCRIPTION:
URL:https://noticias.eudel.eus/en/evento/comision-de-garantias-de-admision-de-alumnos-de-gipuzkoa-3/
LOCATION:Bideokonferentzia bitartez egiten da / Se celebra a través de viodeoconferencia
END:VEVENT
BEGIN:VEVENT
DTSTART;TZID=Europe/Madrid:20211026T100000
DTEND;TZID=Europe/Madrid:20211026T130000
DTSTAMP:20260422T020906
CREATED:20211022T120930Z
LAST-MODIFIED:20211022T120930Z
UID:22285-1635242400-1635253200@noticias.eudel.eus
SUMMARY:[:es]10:00 h. Estrasburgo. Sesión Plenaria del CPLRE (Consejo de Poderes Locales y Regionales de Europa).[:eu]10:00 h. ETEBKaren osoko bilkura (Europako Toki eta Eskualde Botereen Kontseilua).[:]
DESCRIPTION:
URL:https://noticias.eudel.eus/en/evento/1000-h-estrasburgo-sesion-plenaria-del-cplre-consejo-de-poderes-locales-y-regionales-de-europa/
LOCATION:Bideokonferentzia bitartez egiten da / Se celebra a través de viodeoconferencia
END:VEVENT
BEGIN:VEVENT
DTSTART;TZID=Europe/Madrid:20211026T143000
DTEND;TZID=Europe/Madrid:20211026T183000
DTSTAMP:20260422T020906
CREATED:20211022T122027Z
LAST-MODIFIED:20211022T122027Z
UID:22287-1635258600-1635273000@noticias.eudel.eus
SUMMARY:[:es]14:30 h. Estrasburgo. Sesión Plenaria del CPLRE (Consejo de Poderes Locales y Regionales de Europa).[:eu]14:30. Estrasburgo. ETEBKaren osoko bilkura (Europako Toki eta Eskualde Botereen Kontseilua).[:]
DESCRIPTION:
URL:https://noticias.eudel.eus/en/evento/1430-h-estrasburgo-sesion-plenaria-del-cplre-consejo-de-poderes-locales-y-regionales-de-europa/
LOCATION:Bideokonferentzia bitartez egiten da / Se celebra a través de viodeoconferencia
END:VEVENT
BEGIN:VEVENT
DTSTART;TZID=Europe/Madrid:20211027T093000
DTEND;TZID=Europe/Madrid:20211027T120000
DTSTAMP:20260422T020906
CREATED:20211022T122239Z
LAST-MODIFIED:20211022T122239Z
UID:22289-1635327000-1635336000@noticias.eudel.eus
SUMMARY:[:es]09:30 h. Estrasburgo. Sesión Plenaria del CPLRE (Consejo de Poderes Locales y Regionales de Europa).[:eu]09:30. Estrasburgo. ETEBKaren osoko bilkura (Europako Toki eta Eskualde Botereen Kontseilua).[:]
DESCRIPTION:
URL:https://noticias.eudel.eus/en/evento/0930-h-estrasburgo-sesion-plenaria-del-cplre-consejo-de-poderes-locales-y-regionales-de-europa/
LOCATION:Bideokonferentzia bitartez egiten da / Se celebra a través de viodeoconferencia
END:VEVENT
BEGIN:VEVENT
DTSTART;TZID=Europe/Madrid:20211027T113000
DTEND;TZID=Europe/Madrid:20211027T123000
DTSTAMP:20260422T020906
CREATED:20211022T122947Z
LAST-MODIFIED:20211022T123620Z
UID:22297-1635334200-1635337800@noticias.eudel.eus
SUMMARY:[:es]Comisión Vasca de  Estadistica[:eu]Euskal Estatistika Batzordea[:]
DESCRIPTION:
URL:https://noticias.eudel.eus/en/evento/comision-vasca-de-estadistica-2/
LOCATION:Vitoria-Gasteiz\, ARABA
END:VEVENT
BEGIN:VEVENT
DTSTART;TZID=Europe/Madrid:20211027T120000
DTEND;TZID=Europe/Madrid:20211027T133000
DTSTAMP:20260422T020906
CREATED:20211022T123111Z
LAST-MODIFIED:20211022T123129Z
UID:22299-1635336000-1635341400@noticias.eudel.eus
SUMMARY:[:es]Consejo Vasco de Estadística[:eu]Euskal Estatistika Kontseilua[:]
DESCRIPTION:
URL:https://noticias.eudel.eus/en/evento/consejo-vasco-de-estadistica-2/
LOCATION:Vitoria-Gasteiz\, ARABA
END:VEVENT
BEGIN:VEVENT
DTSTART;TZID=Europe/Madrid:20211027T140000
DTEND;TZID=Europe/Madrid:20211027T173000
DTSTAMP:20260422T020906
CREATED:20211022T122415Z
LAST-MODIFIED:20220627T103842Z
UID:22291-1635343200-1635355800@noticias.eudel.eus
SUMMARY:[:es]Estrasburgo. Sesión Plenaria del CPLRE (Consejo de Poderes Locales y Regionales de Europa).[:eu] Estrasburgo. ETEBKaren osoko bilkura (Europako Toki eta Eskualde Botereen Kontseilua).[:]
DESCRIPTION:
URL:https://noticias.eudel.eus/en/evento/1400-h-estrasburgo-sesion-plenaria-del-cplre-consejo-de-poderes-locales-y-regionales-de-europa/
LOCATION:Bideokonferentzia bitartez egiten da / Se celebra a través de viodeoconferencia
END:VEVENT
BEGIN:VEVENT
DTSTART;TZID=Europe/Madrid:20211028T090000
DTEND;TZID=Europe/Madrid:20211028T110000
DTSTAMP:20260422T020906
CREATED:20211027T091727Z
LAST-MODIFIED:20211027T091727Z
UID:22303-1635411600-1635418800@noticias.eudel.eus
SUMMARY:[:es]Consejo  Territorial de Administración Local y Finanzas de  Álava[:eu]Arabako Toki Administrazioko eta  Finantzetako Lurralde Kontseilua[:]
DESCRIPTION:
URL:https://noticias.eudel.eus/en/evento/consejo-territorial-de-administracion-local-y-finanzas-de-alava-5/
LOCATION:Bideokonferentzia bitartez egiten da / Se celebra a través de viodeoconferencia
END:VEVENT
BEGIN:VEVENT
DTSTART;TZID=Europe/Madrid:20211028T100000
DTEND;TZID=Europe/Madrid:20211028T120000
DTSTAMP:20260422T020906
CREATED:20211022T122603Z
LAST-MODIFIED:20211022T122603Z
UID:22293-1635415200-1635422400@noticias.eudel.eus
SUMMARY:[:es]10:00 h. Estrasburgo. Sesión Plenaria del CPLRE (Consejo de Poderes Locales y Regionales de Europa).[:eu]10:00. Estrasburgo. ETEBKaren osoko bilkura (Europako Toki eta Eskualde Botereen Kontseilua).[:]
DESCRIPTION:
URL:https://noticias.eudel.eus/en/evento/1000-h-estrasburgo-sesion-plenaria-del-cplre-consejo-de-poderes-locales-y-regionales-de-europa-2/
LOCATION:Bideokonferentzia bitartez egiten da / Se celebra a través de viodeoconferencia
END:VEVENT
END:VCALENDAR