BEGIN:VCALENDAR
VERSION:2.0
PRODID:-//EUDEL Noticias | Asociación de Municipios Vascos - ECPv6.5.1.3//NONSGML v1.0//EN
CALSCALE:GREGORIAN
METHOD:PUBLISH
X-ORIGINAL-URL:https://noticias.eudel.eus
X-WR-CALDESC:Eventos para EUDEL Noticias | Asociación de Municipios Vascos
REFRESH-INTERVAL;VALUE=DURATION:PT1H
X-Robots-Tag:noindex
X-PUBLISHED-TTL:PT1H
BEGIN:VTIMEZONE
TZID:Europe/Madrid
BEGIN:DAYLIGHT
TZOFFSETFROM:+0100
TZOFFSETTO:+0200
TZNAME:CEST
DTSTART:20210328T010000
END:DAYLIGHT
BEGIN:STANDARD
TZOFFSETFROM:+0200
TZOFFSETTO:+0100
TZNAME:CET
DTSTART:20211031T010000
END:STANDARD
END:VTIMEZONE
BEGIN:VEVENT
DTSTART;TZID=Europe/Madrid:20211103T100000
DTEND;TZID=Europe/Madrid:20211103T120000
DTSTAMP:20260422T003154
CREATED:20211028T130259Z
LAST-MODIFIED:20211028T130259Z
UID:22305-1635933600-1635940800@noticias.eudel.eus
SUMMARY:[:es]Consejo Vasco de Participación de las Víctimas del Terrorismo[:eu]Terrorismoaren Biktimen Partadetzarako Euskal Kontseilua[:]
DESCRIPTION:
URL:https://noticias.eudel.eus/evento/consejo-vasco-de-participacion-de-las-victimas-del-terrorismo-3/
LOCATION:Vitoria-Gasteiz\, ARABA
END:VEVENT
BEGIN:VEVENT
DTSTART;TZID=Europe/Madrid:20211103T160000
DTEND;TZID=Europe/Madrid:20211103T180000
DTSTAMP:20260422T003154
CREATED:20211028T130414Z
LAST-MODIFIED:20211028T130414Z
UID:22307-1635955200-1635962400@noticias.eudel.eus
SUMMARY:[:es]Consejo Vasco de la Cultura[:eu]Kulturaren Euskal Kontseilua[:]
DESCRIPTION:
URL:https://noticias.eudel.eus/evento/consejo-vasco-de-la-cultura-3/
LOCATION:Bilbao
END:VEVENT
BEGIN:VEVENT
DTSTART;TZID=Europe/Madrid:20211105T093000
DTEND;TZID=Europe/Madrid:20211105T173000
DTSTAMP:20260422T003154
CREATED:20210311T121717Z
LAST-MODIFIED:20220610T113125Z
UID:21350-1636104600-1636133400@noticias.eudel.eus
SUMMARY:[:es]XIV edición Seminario Vasco de Derecho Local. Quinta sesión: Las claves jurídicas de la transformación digital del sector público. -- ...[:eu]XIV edizioa Tokiko Zuzenbidearen Euskal Mintegia. Bostgarren saioa: Las claves jurídicas de la transformación digital del sector público -- ...[:]
DESCRIPTION:Quinta sesión: Las claves jurídicas de la transformación digital del sector público. — Administración Pública e Inteligencia artificial: conceptos y garantías. — Observatorio Vasco de Derecho Local.
URL:https://noticias.eudel.eus/evento/xiv-edicion-seminario-vasco-de-derecho-local-quinta-sesion-las-claves-juridicas-de-la-transformacion-digital-del-sector-publico/
LOCATION:A través de la Plataforma Zoom
END:VEVENT
BEGIN:VEVENT
DTSTART;TZID=Europe/Madrid:20211109T160000
DTEND;TZID=Europe/Madrid:20211109T173000
DTSTAMP:20260422T003154
CREATED:20211108T091220Z
LAST-MODIFIED:20211108T091220Z
UID:22328-1636473600-1636479000@noticias.eudel.eus
SUMMARY:[:es]Foro Multiagente de Transición Social y  Agenda 2030 en Euskadi[:eu]Euskadin Trantsizio Sozialaren eta 2030  Agendaren Eragile Anitzeko Foroa[:]
DESCRIPTION:
URL:https://noticias.eudel.eus/evento/foro-multiagente-de-transicion-social-y-agenda-2030-en-euskadi/
LOCATION:Vitoria-Gasteiz\, ARABA
END:VEVENT
BEGIN:VEVENT
DTSTART;TZID=Europe/Madrid:20211110T180000
DTEND;TZID=Europe/Madrid:20211110T193000
DTSTAMP:20260422T003154
CREATED:20211108T091422Z
LAST-MODIFIED:20211108T091422Z
UID:22330-1636567200-1636572600@noticias.eudel.eus
SUMMARY:[:es]Comité Asesor del Voluntariado de Protección Civil [:eu]Babes Zibileko Boluntariotzako Aholku Batzordea[:]
DESCRIPTION:
URL:https://noticias.eudel.eus/evento/comite-asesor-del-voluntariado-de-proteccion-civil/
LOCATION:Bilbao
END:VEVENT
BEGIN:VEVENT
DTSTART;TZID=Europe/Madrid:20211111T090000
DTEND;TZID=Europe/Madrid:20211111T103000
DTSTAMP:20260422T003154
CREATED:20211108T091638Z
LAST-MODIFIED:20211108T091638Z
UID:22334-1636621200-1636626600@noticias.eudel.eus
SUMMARY:[:es]Comisión Ejecutiva de EUDEL[:eu]EUDELen Batzorde Eragilea[:]
DESCRIPTION:
URL:https://noticias.eudel.eus/evento/comision-ejecutiva-de-eudel-19/
LOCATION:Mungia
END:VEVENT
BEGIN:VEVENT
DTSTART;TZID=Europe/Madrid:20211111T110000
DTEND;TZID=Europe/Madrid:20211111T130000
DTSTAMP:20260422T003154
CREATED:20211028T130530Z
LAST-MODIFIED:20211028T130644Z
UID:22309-1636628400-1636635600@noticias.eudel.eus
SUMMARY:[:es]Asamblea General Ordinaria de EUDEL[:eu]EUDELeko Ohiko Batzar Orokorra[:]
DESCRIPTION:
URL:https://noticias.eudel.eus/evento/asamblea-general-de-eudel/
LOCATION:Mungia
END:VEVENT
BEGIN:VEVENT
DTSTART;TZID=Europe/Madrid:20211112T090000
DTEND;TZID=Europe/Madrid:20211112T140000
DTSTAMP:20260422T003154
CREATED:20210906T064430Z
LAST-MODIFIED:20210906T083216Z
UID:22126-1636707600-1636725600@noticias.eudel.eus
SUMMARY:[:es]Programa de Dirección Pública Local 2021-2022 Ayuntamientos vascos 2030: desarrollo sostenible\, recuperación y transformación. MÓDULO 1: Agenda 2030 e impactos locales[:eu]Tokiko Zuzendaritza Publikoko Programa 2021-2022 Ayuntamientos vascos 2030: desarrollo sostenible\, recuperación y transformación. 1.	MODULUA: 2030 Agenda eta tokiko eraginak[:]
DESCRIPTION:
URL:https://noticias.eudel.eus/evento/programa-de-direccion-publica-local-2021-2022-ayuntamientos-vascos-2030-desarrollo-sostenible-recuperacion-y-transformacion-modulo-1-2/
LOCATION:Sede EUDEL. Bilbao\, Ertzilla kalea 13 / c/ Ercilla\, nº 13\, BILBAO\, 48009
END:VEVENT
BEGIN:VEVENT
DTSTART;TZID=Europe/Madrid:20211112T110000
DTEND;TZID=Europe/Madrid:20211112T130000
DTSTAMP:20260422T003154
CREATED:20211108T091543Z
LAST-MODIFIED:20211108T091543Z
UID:22332-1636714800-1636722000@noticias.eudel.eus
SUMMARY:[:es]Consejo Asesor de Conservación de la Naturaleza del País Vasco-Naturzaintza [:eu]Naturzaintza-Euskal Autonomia Erkidegoko Natura Kontserbatzeko Aholku Batzordea[:]
DESCRIPTION:
URL:https://noticias.eudel.eus/evento/consejo-asesor-de-conservacion-de-la-naturaleza-del-pais-vasco-naturzaintza/
LOCATION:Vitoria-Gasteiz\, ARABA
END:VEVENT
BEGIN:VEVENT
DTSTART;TZID=Europe/Madrid:20211115T090000
DTEND;TZID=Europe/Madrid:20211115T103000
DTSTAMP:20260422T003154
CREATED:20211115T072939Z
LAST-MODIFIED:20211115T072939Z
UID:22378-1636966800-1636972200@noticias.eudel.eus
SUMMARY:[:es]Órgano de Coordinación  Tributaria de Euskadi[:eu]Euskadiko ZergaKoordinaziorako Organoa[:]
DESCRIPTION:
URL:https://noticias.eudel.eus/evento/organo-de-coordinacion-tributaria-de-euskadi-2/
LOCATION:Reunión por viodeoconferencia
END:VEVENT
BEGIN:VEVENT
DTSTART;TZID=Europe/Madrid:20211116T083000
DTEND;TZID=Europe/Madrid:20211116T100000
DTSTAMP:20260422T003154
CREATED:20211115T091456Z
LAST-MODIFIED:20211115T091456Z
UID:22380-1637051400-1637056800@noticias.eudel.eus
SUMMARY:[:es]Consejo Vasco de Universidades[:eu]Euskadiko Unibertsitate Kontseilua[:]
DESCRIPTION:
URL:https://noticias.eudel.eus/evento/consejo-vasco-de-universidades-5/
LOCATION:Reunión por viodeoconferencia
END:VEVENT
BEGIN:VEVENT
DTSTART;TZID=Europe/Madrid:20211116T160000
DTEND;TZID=Europe/Madrid:20211116T173000
DTSTAMP:20260422T003154
CREATED:20211115T091735Z
LAST-MODIFIED:20211115T091735Z
UID:22382-1637078400-1637083800@noticias.eudel.eus
SUMMARY:[:es]Consejo Asesor del Euskera[:eu]Euskararen Aholku Batzordea[:]
DESCRIPTION:
URL:https://noticias.eudel.eus/evento/consejo-asesor-del-euskera-2/
LOCATION:Vitoria-Gasteiz\, ARABA
END:VEVENT
BEGIN:VEVENT
DTSTART;TZID=Europe/Madrid:20211117T160000
DTEND;TZID=Europe/Madrid:20211117T170000
DTSTAMP:20260422T003154
CREATED:20211115T092031Z
LAST-MODIFIED:20211115T092031Z
UID:22384-1637164800-1637168400@noticias.eudel.eus
SUMMARY:[:es]Comisión de Seguimiento del II Acuerdo Interinstitucional para la mejora en la atención a mujeres víctimas de maltrato en el ámbito doméstico y de violencia sexual en la CAE[:eu]EAEn etxean tratu txarrak eta sexu-erasoak jasaten dituzten emakumeei harrera hobea egiteko Erakundeen arteko II. Akordioaren Jarraipen Batzordea[:]
DESCRIPTION:
URL:https://noticias.eudel.eus/evento/comision-de-seguimiento-del-ii-acuerdo-interinstitucional-para-la-mejora-en-la-atencion-a-mujeres-victimas-de-maltrato-en-el-ambito-domestico-y-de-violencia-sexual-en-la-cae/
LOCATION:Vitoria-Gasteiz\, ARABA
END:VEVENT
BEGIN:VEVENT
DTSTART;TZID=Europe/Madrid:20211118T143000
DTEND;TZID=Europe/Madrid:20211118T170000
DTSTAMP:20260422T003154
CREATED:20211115T093130Z
LAST-MODIFIED:20211115T093130Z
UID:22388-1637245800-1637254800@noticias.eudel.eus
SUMMARY:[:es]Secretarios Generales del Consejo de Municipios y Regiones de Europa (CMRE)[:eu]Europako Udal eta Eskualdeen Kontseiluaren Idazkari nagusiak.[:]
DESCRIPTION:
URL:https://noticias.eudel.eus/evento/secretarios-generales-del-consejo-de-municipios-y-regiones-de-europa-cmre-6/
LOCATION:Reunión por viodeoconferencia
END:VEVENT
BEGIN:VEVENT
DTSTART;TZID=Europe/Madrid:20211119T103000
DTEND;TZID=Europe/Madrid:20211119T123000
DTSTAMP:20260422T003154
CREATED:20211115T093224Z
LAST-MODIFIED:20211115T093224Z
UID:22390-1637317800-1637325000@noticias.eudel.eus
SUMMARY:[:es]Secretarios Generales del Consejo de Municipios y Regiones de Europa (CMRE)[:eu]Europako Udal eta Eskualdeen Kontseiluaren Idazkari nagusiak.[:]
DESCRIPTION:
URL:https://noticias.eudel.eus/evento/secretarios-generales-del-consejo-de-municipios-y-regiones-de-europa-cmre-7/
LOCATION:Reunión por viodeoconferencia
END:VEVENT
BEGIN:VEVENT
DTSTART;TZID=Europe/Madrid:20211122T120000
DTEND;TZID=Europe/Madrid:20211122T133000
DTSTAMP:20260422T003154
CREATED:20211115T093417Z
LAST-MODIFIED:20211115T163927Z
UID:22392-1637582400-1637587800@noticias.eudel.eus
SUMMARY:[:es]Comisión Territorial de Gipuzkoa de EUDEL[:eu]EUDELeko Gipuzkoako Lurralde Batzordea[:]
DESCRIPTION:
URL:https://noticias.eudel.eus/evento/comision-territorial-de-gipuzkoa-de-eudel-13/
LOCATION:Reunión por viodeoconferencia
END:VEVENT
BEGIN:VEVENT
DTSTART;TZID=Europe/Madrid:20211123T093000
DTEND;TZID=Europe/Madrid:20211123T110000
DTSTAMP:20260422T003154
CREATED:20211119T092007Z
LAST-MODIFIED:20211119T092007Z
UID:22413-1637659800-1637665200@noticias.eudel.eus
SUMMARY:[:es]Comisión de Garantías de Admisión de  alumnos para el curso 2022/2023[:eu]2022/2023 ikasturteko ikasleen Onarpena  Bermatzeko Batzordea[:]
DESCRIPTION:
URL:https://noticias.eudel.eus/evento/comision-de-garantias-de-admision-de-alumnos-para-el-curso-2022-2023/
LOCATION:Donostia/San Sebastián
END:VEVENT
BEGIN:VEVENT
DTSTART;TZID=Europe/Madrid:20211124T100000
DTEND;TZID=Europe/Madrid:20211124T110000
DTSTAMP:20260422T003154
CREATED:20211123T110747Z
LAST-MODIFIED:20211123T110921Z
UID:22434-1637748000-1637751600@noticias.eudel.eus
SUMMARY:[:es]Reunión informativa sobre nuevas aplicaciones en la pasarela de pagos[:eu]Ordainketa-pasabidearen aplikazio berriei buruzko informazio-bilera [:]
DESCRIPTION:Organizan: EUDEL-GOBIERNO VASCO- EJIE\n\n\nAsistentes: Responsables de los servicios de Tesorería y recaudación y personal asesor técnico o de servicios municipales.
URL:https://noticias.eudel.eus/evento/reunion-informativa-sobre-nuevas-aplicaciones-en-la-pasarela-de-pagos/
LOCATION:Zoom bilera / Reunión Zoom
END:VEVENT
BEGIN:VEVENT
DTSTART;TZID=Europe/Madrid:20211124T100000
DTEND;TZID=Europe/Madrid:20211124T113000
DTSTAMP:20260422T003154
CREATED:20211119T092127Z
LAST-MODIFIED:20211119T092127Z
UID:22415-1637748000-1637753400@noticias.eudel.eus
SUMMARY:[:es]Comisión Interinstitucional para los  Servicios de Prevención\, Extinción de Incendios y  Salvamento[:eu]Suteen  Prebentzio eta Itzalketako eta Salbamenduko  Zerbitzuetarako Erakundeen arteko Batzordea[:]
DESCRIPTION:
URL:https://noticias.eudel.eus/evento/comision-interinstitucional-para-los-servicios-de-prevencion-extincion-de-incendios-y-salvamento-3/
LOCATION:Bilbao
END:VEVENT
BEGIN:VEVENT
DTSTART;TZID=Europe/Madrid:20211124T100000
DTEND;TZID=Europe/Madrid:20211124T123000
DTSTAMP:20260422T003154
CREATED:20211119T092614Z
LAST-MODIFIED:20211203T133655Z
UID:22417-1637748000-1637757000@noticias.eudel.eus
SUMMARY:[:es]Comisión de Coordinación Interinstitucional sobre Adicciones [:eu]Adikzioen Erakundearteko Koordinazio Batzordea[:]
DESCRIPTION:
URL:https://noticias.eudel.eus/evento/comision-de-coordinacion-interinstitucional-sosbre-adicciones/
LOCATION:Vitoria-Gasteiz\, ARABA
END:VEVENT
BEGIN:VEVENT
DTSTART;TZID=Europe/Madrid:20211124T180000
DTEND;TZID=Europe/Madrid:20211124T190000
DTSTAMP:20260422T003154
CREATED:20211119T092924Z
LAST-MODIFIED:20211119T092924Z
UID:22419-1637776800-1637780400@noticias.eudel.eus
SUMMARY:[:es]Comité Interinstitucional del Plan de Ciencia\, Tecnología e Innovación (PCTI 2030)[:eu]Zientzia\, Teknologia eta Berrikuntzako Planaren Erakunde Arteko Batzordea (ZTBP 2030)[:]
DESCRIPTION:
URL:https://noticias.eudel.eus/evento/comite-interinstitucional-del-plan-de-ciencia-tecnologia-e-innovacion-pcti-2030/
LOCATION:Donostia/San Sebastián
END:VEVENT
BEGIN:VEVENT
DTSTART;TZID=Europe/Madrid:20211125T123000
DTEND;TZID=Europe/Madrid:20211125T143000
DTSTAMP:20260422T003154
CREATED:20211116T101715Z
LAST-MODIFIED:20211116T101715Z
UID:22408-1637843400-1637850600@noticias.eudel.eus
SUMMARY:[:es]Comisión Territorial de Álava[:eu]Arabako Lurralde Batzordea[:]
DESCRIPTION:
URL:https://noticias.eudel.eus/evento/comision-territorial-de-alava-7/
LOCATION:Reunión por viodeoconferencia
END:VEVENT
BEGIN:VEVENT
DTSTART;TZID=Europe/Madrid:20211126T090000
DTEND;TZID=Europe/Madrid:20211126T140000
DTSTAMP:20260422T003154
CREATED:20210906T064536Z
LAST-MODIFIED:20210906T082808Z
UID:22129-1637917200-1637935200@noticias.eudel.eus
SUMMARY:[:es]Programa de Dirección Pública Local 2021-2022 Ayuntamientos vascos 2030: desarrollo sostenible\, recuperación y transformación. MÓDULO 1: Agenda 2030 e impactos locales[:eu]Tokiko Zuzendaritza Publikoko Programa 2021-2022 Ayuntamientos vascos 2030: desarrollo sostenible\, recuperación y transformación. 1. MODULUA: 2030 Agenda eta tokiko eraginak[:]
DESCRIPTION:
URL:https://noticias.eudel.eus/evento/programa-de-direccion-publica-local-2021-2022-ayuntamientos-vascos-2030-desarrollo-sostenible-recuperacion-y-transformacion-modulo-i/
LOCATION:Sede EUDEL. Bilbao\, Ertzilla kalea 13 / c/ Ercilla\, nº 13\, BILBAO\, 48009
END:VEVENT
BEGIN:VEVENT
DTSTART;TZID=Europe/Madrid:20211129T160000
DTEND;TZID=Europe/Madrid:20211129T163000
DTSTAMP:20260422T003154
CREATED:20211119T100752Z
LAST-MODIFIED:20211126T100126Z
UID:22421-1638201600-1638203400@noticias.eudel.eus
SUMMARY:[:es]Comisión  Permanente del Foro Multiagente de Transición Social y Agenda 2030[:eu]Trantsizio Sozialaren eta  2030 Agendaren Eragile Anitzeko Foroaren Batzorde Iraunkorra[:]
DESCRIPTION:
URL:https://noticias.eudel.eus/evento/foro-multiagente-de-transicion-social-y-agenda-2030/
LOCATION:Vitoria-Gasteiz\, ARABA
END:VEVENT
BEGIN:VEVENT
DTSTART;TZID=Europe/Madrid:20211129T163000
DTEND;TZID=Europe/Madrid:20211129T180000
DTSTAMP:20260422T003154
CREATED:20211119T101019Z
LAST-MODIFIED:20211126T095911Z
UID:22423-1638203400-1638208800@noticias.eudel.eus
SUMMARY:[:es] Grupo de Trabajo  de Gobernanza del Foro  Multiagente de Transición Social y Agenda  2030[:eu]Trantsizio Sozialaren eta  2030 Agendaren Eragile Anitzeko Foroaren Gobernantzako Lantaldea[:]
DESCRIPTION:
URL:https://noticias.eudel.eus/evento/grupo-de-trabajo-de-gobernanza-del-foro-multiagente-de-transicion-social-y-agenda-2030/
LOCATION:Vitoria-Gasteiz\, ARABA
END:VEVENT
BEGIN:VEVENT
DTSTART;TZID=Europe/Madrid:20211130T120000
DTEND;TZID=Europe/Madrid:20211130T140000
DTSTAMP:20260422T003154
CREATED:20211126T100336Z
LAST-MODIFIED:20211126T100336Z
UID:22456-1638273600-1638280800@noticias.eudel.eus
SUMMARY:[:es]Consejo Vasco del Voluntariado[:eu]Boluntariotzaren Euskal Kontseilua[:]
DESCRIPTION:
URL:https://noticias.eudel.eus/evento/consejo-vasco-del-voluntariado-4/
LOCATION:Vitoria-Gasteiz\, ARABA
END:VEVENT
BEGIN:VEVENT
DTSTART;TZID=Europe/Madrid:20211130T163000
DTEND;TZID=Europe/Madrid:20211130T183000
DTSTAMP:20260422T003154
CREATED:20211119T101434Z
LAST-MODIFIED:20211119T101434Z
UID:22425-1638289800-1638297000@noticias.eudel.eus
SUMMARY:[:es]Grupo de Trabajo de Agenda Urbana Bultzatu 2050 en el marco del Foro Multiagente de Transición Social y  Agenda 2030[:eu]Bultzatu 2050 - Hiri Agendaren Lantaldea\, Gizarte Trantsizioko eta 2030 Agendako Eragile Anitzeko Foroaren esparruan[:]
DESCRIPTION:
URL:https://noticias.eudel.eus/evento/grupo-de-trabajo-de-agenda-urbana-bultzatu-2050-en-el-marco-del-foro-multiagente-de-transicion-social-y-agenda-2030/
LOCATION:Vitoria-Gasteiz\, ARABA
END:VEVENT
END:VCALENDAR