BEGIN:VCALENDAR
VERSION:2.0
PRODID:-//EUDEL Noticias | Asociación de Municipios Vascos - ECPv6.5.1.3//NONSGML v1.0//EN
CALSCALE:GREGORIAN
METHOD:PUBLISH
X-ORIGINAL-URL:https://noticias.eudel.eus
X-WR-CALDESC:Eventos para EUDEL Noticias | Asociación de Municipios Vascos
REFRESH-INTERVAL;VALUE=DURATION:PT1H
X-Robots-Tag:noindex
X-PUBLISHED-TTL:PT1H
BEGIN:VTIMEZONE
TZID:Europe/Madrid
BEGIN:DAYLIGHT
TZOFFSETFROM:+0100
TZOFFSETTO:+0200
TZNAME:CEST
DTSTART:20210328T010000
END:DAYLIGHT
BEGIN:STANDARD
TZOFFSETFROM:+0200
TZOFFSETTO:+0100
TZNAME:CET
DTSTART:20211031T010000
END:STANDARD
END:VTIMEZONE
BEGIN:VEVENT
DTSTART;TZID=Europe/Madrid:20211201T100000
DTEND;TZID=Europe/Madrid:20211201T110000
DTSTAMP:20260421T210413
CREATED:20211126T100503Z
LAST-MODIFIED:20211126T100503Z
UID:22458-1638352800-1638356400@noticias.eudel.eus
SUMMARY:[:es]Junta de Gobierno de Elkarkidetza[:eu]Elkarkidetzaren Gobernu Batzordea[:]
DESCRIPTION:
URL:https://noticias.eudel.eus/evento/junta-de-gobierno-de-elkarkidetza-5/
LOCATION:Vitoria-Gasteiz\, ARABA
END:VEVENT
BEGIN:VEVENT
DTSTART;TZID=Europe/Madrid:20211201T110000
DTEND;TZID=Europe/Madrid:20211201T130000
DTSTAMP:20260421T210413
CREATED:20211126T100618Z
LAST-MODIFIED:20211126T100618Z
UID:22460-1638356400-1638363600@noticias.eudel.eus
SUMMARY:[:es]Consejo Vasco sobre  Adicciones[:eu]Adikzioen Euskal  Batzordea[:]
DESCRIPTION:
URL:https://noticias.eudel.eus/evento/consejo-vasco-sobre-adicciones/
LOCATION:Vitoria-Gasteiz\, ARABA
END:VEVENT
BEGIN:VEVENT
DTSTART;TZID=Europe/Madrid:20211203T093000
DTEND;TZID=Europe/Madrid:20211203T113000
DTSTAMP:20260421T210413
CREATED:20211126T100809Z
LAST-MODIFIED:20211126T100809Z
UID:22462-1638523800-1638531000@noticias.eudel.eus
SUMMARY:[:es]Órgano Interinstitucional de Servicios Sociales[:eu]Gizarte Zerbitzuen Erakunde arteko  Organoa[:]
DESCRIPTION:
URL:https://noticias.eudel.eus/evento/organo-interinstitucional-de-servicios-sociales-5/
LOCATION:Vitoria-Gasteiz\, ARABA
END:VEVENT
BEGIN:VEVENT
DTSTART;TZID=Europe/Madrid:20211209T093000
DTEND;TZID=Europe/Madrid:20211209T113000
DTSTAMP:20260421T210413
CREATED:20211203T133827Z
LAST-MODIFIED:20211203T133827Z
UID:22483-1639042200-1639049400@noticias.eudel.eus
SUMMARY:[:es]Comisión de Garantías de Admisión de Alumnos de Bizkaia[:eu]Bizkaiko Ikasleen Onarpen Bermerako Batzordea[:]
DESCRIPTION:
URL:https://noticias.eudel.eus/evento/comision-de-garantias-de-admision-de-alumnos-de-bizkaia-6/
LOCATION:Bilbao
END:VEVENT
BEGIN:VEVENT
DTSTART;TZID=Europe/Madrid:20211209T100000
DTEND;TZID=Europe/Madrid:20211209T120000
DTSTAMP:20260421T210413
CREATED:20211203T133032Z
LAST-MODIFIED:20211203T133032Z
UID:22479-1639044000-1639051200@noticias.eudel.eus
SUMMARY:[:es]Consejo Vasco de Servicios Sociales[:eu]Gizarte Zerbitzuen Euskal Kontseilua[:]
DESCRIPTION:
URL:https://noticias.eudel.eus/evento/consejo-vasco-de-servicios-sociales-2/
LOCATION:Vitoria-Gasteiz\, ARABA
END:VEVENT
BEGIN:VEVENT
DTSTART;TZID=Europe/Madrid:20211209T100000
DTEND;TZID=Europe/Madrid:20211209T130000
DTSTAMP:20260421T210413
CREATED:20211203T140026Z
LAST-MODIFIED:20211203T140026Z
UID:22499-1639044000-1639054800@noticias.eudel.eus
SUMMARY:[:es]Comisión Ejecutiva de EUDEL[:eu]EUDELeko Batzorde Eragilea[:]
DESCRIPTION:
URL:https://noticias.eudel.eus/evento/comision-ejecutiva-de-eudel-20/
LOCATION:Reunión por viodeoconferencia
END:VEVENT
BEGIN:VEVENT
DTSTART;TZID=Europe/Madrid:20211209T113000
DTEND;TZID=Europe/Madrid:20211209T123000
DTSTAMP:20260421T210413
CREATED:20211203T135852Z
LAST-MODIFIED:20211203T135852Z
UID:22497-1639049400-1639053000@noticias.eudel.eus
SUMMARY:[:es]Comisión Interinstitucional de Cooperación para el Desarrollo[:eu]Garapenerako Lankidetzarako Erakunde Arteko Batzordea.[:]
DESCRIPTION:
URL:https://noticias.eudel.eus/evento/comision-interinstitucional-de-cooperacion-para-el-desarrollo/
LOCATION:Vitoria-Gasteiz\, ARABA
END:VEVENT
BEGIN:VEVENT
DTSTART;TZID=Europe/Madrid:20211210T093000
DTEND;TZID=Europe/Madrid:20211210T113000
DTSTAMP:20260421T210413
CREATED:20211203T134305Z
LAST-MODIFIED:20211203T134305Z
UID:22485-1639128600-1639135800@noticias.eudel.eus
SUMMARY:[:es]Consejo Vasco de Familia[:eu]Familiaren Euskal Kontseilua[:]
DESCRIPTION:
URL:https://noticias.eudel.eus/evento/consejo-vasco-de-familia-2/
LOCATION:Araba/Álava
END:VEVENT
BEGIN:VEVENT
DTSTART;TZID=Europe/Madrid:20211210T100000
DTEND;TZID=Europe/Madrid:20211210T120000
DTSTAMP:20260421T210413
CREATED:20211203T134527Z
LAST-MODIFIED:20211203T134527Z
UID:22490-1639130400-1639137600@noticias.eudel.eus
SUMMARY:[:es]Junta Directiva Innobasque[:eu]Innobasqueko Zuzendaritza Batzordea[:]
DESCRIPTION:
URL:https://noticias.eudel.eus/evento/junta-directiva-innobasque-2/
LOCATION:Zamudio (Bizkaia)
END:VEVENT
BEGIN:VEVENT
DTSTART;TZID=Europe/Madrid:20211210T103000
DTEND;TZID=Europe/Madrid:20211210T123000
DTSTAMP:20260421T210413
CREATED:20211203T134416Z
LAST-MODIFIED:20211203T134416Z
UID:22487-1639132200-1639139400@noticias.eudel.eus
SUMMARY:[:es]Consejo Rector de la Academía Vasca de Policía y Emergencias[:eu]Euskal Herriko Polizi Ikastegiaren Artezkaritza eta larrialdietako Kontseilua.[:]
DESCRIPTION:
URL:https://noticias.eudel.eus/evento/consejo-rector-de-la-academia-vasca-de-policia-y-emergencias-3/
LOCATION:Arkaute (Vitoria-Gasteiz)
END:VEVENT
BEGIN:VEVENT
DTSTART;TZID=Europe/Madrid:20211210T113000
DTEND;TZID=Europe/Madrid:20211210T130000
DTSTAMP:20260421T210413
CREATED:20211203T134710Z
LAST-MODIFIED:20211203T134710Z
UID:22493-1639135800-1639141200@noticias.eudel.eus
SUMMARY:[:es]Consejo Asesor de la Mediación Familiar[:eu]Familia Bitartekaritzako Aholku Kontseilua[:]
DESCRIPTION:
URL:https://noticias.eudel.eus/evento/consejo-asesor-de-la-mediacion-familiar/
LOCATION:Araba/Álava
END:VEVENT
BEGIN:VEVENT
DTSTART;TZID=Europe/Madrid:20211213T113000
DTEND;TZID=Europe/Madrid:20211213T133000
DTSTAMP:20260421T210413
CREATED:20211210T111422Z
LAST-MODIFIED:20211210T111422Z
UID:22502-1639395000-1639402200@noticias.eudel.eus
SUMMARY:[:es]Consejo Vasco de Cooperación para el Desarrollo[:eu]Garapenerako Lankidetzaren Euskal Kontseilua[:]
DESCRIPTION:
URL:https://noticias.eudel.eus/evento/consejo-vasco-de-cooperacion-para-el-desarrollo-4/
LOCATION:Vitoria-Gasteiz\, ARABA
END:VEVENT
BEGIN:VEVENT
DTSTART;TZID=Europe/Madrid:20211213T120000
DTEND;TZID=Europe/Madrid:20211213T140000
DTSTAMP:20260421T210413
CREATED:20211210T111628Z
LAST-MODIFIED:20211210T111628Z
UID:22504-1639396800-1639404000@noticias.eudel.eus
SUMMARY:[:es]Consejo de Seguridad Pública de Euskadi[:eu]Euskadiko Segurtasun Publikoaren Kontseilua[:]
DESCRIPTION:
URL:https://noticias.eudel.eus/evento/consejo-de-seguridad-publica-de-euskadi-3/
LOCATION:Erandio
END:VEVENT
BEGIN:VEVENT
DTSTART;TZID=Europe/Madrid:20211214T090000
DTEND;TZID=Europe/Madrid:20211214T103000
DTSTAMP:20260421T210413
CREATED:20211210T111853Z
LAST-MODIFIED:20211210T111853Z
UID:22507-1639472400-1639477800@noticias.eudel.eus
SUMMARY:[:es]Foro para la Integración y Participación Social de las Ciudadanas y Ciudadanos Inmigrantes en el País Vasco[:eu]Euskal Autonomia Erkidegoko Herritar Etorkinen Integrazio eta Partaidetza Sozialerako Foroaren Osoko Bilkura[:]
DESCRIPTION:
URL:https://noticias.eudel.eus/evento/foro-para-la-integracion-y-participacion-social-de-las-ciudadanas-y-ciudadanos-inmigrantes-en-el-pais-vasco-2/
LOCATION:Vitoria-Gasteiz\, ARABA
END:VEVENT
BEGIN:VEVENT
DTSTART;TZID=Europe/Madrid:20211214T100000
DTEND;TZID=Europe/Madrid:20211214T120000
DTSTAMP:20260421T210413
CREATED:20211210T112018Z
LAST-MODIFIED:20211210T112110Z
UID:22509-1639476000-1639483200@noticias.eudel.eus
SUMMARY:[:es]Comisión de  Protección Civil de Euskadi[:eu]Euskadiko Babes Zibilerako Batzordea[:]
DESCRIPTION:
URL:https://noticias.eudel.eus/evento/comision-de-proteccion-civil-de-euskadi-2/
LOCATION:Arkaute (Vitoria-Gasteiz)
END:VEVENT
BEGIN:VEVENT
DTSTART;TZID=Europe/Madrid:20211214T170000
DTEND;TZID=Europe/Madrid:20211214T193000
DTSTAMP:20260421T210413
CREATED:20211210T140251Z
LAST-MODIFIED:20211210T140251Z
UID:22533-1639501200-1639510200@noticias.eudel.eus
SUMMARY:[:es]Foro Contraste Generation Basquequality[:eu]Foro Contraste Generation Basquequality[:]
DESCRIPTION:
URL:https://noticias.eudel.eus/evento/foro-contraste-generation-basquequality/
LOCATION:Bilbao
END:VEVENT
BEGIN:VEVENT
DTSTART;TZID=Europe/Madrid:20211215T093000
DTEND;TZID=Europe/Madrid:20211215T103000
DTSTAMP:20260421T210413
CREATED:20211210T114132Z
LAST-MODIFIED:20211210T114132Z
UID:22513-1639560600-1639564200@noticias.eudel.eus
SUMMARY:[:es]Comisión Interinstitucional de Acción Exterior[:eu]Kanpo Harremanetarako Erakunde Arteko Batzordea[:]
DESCRIPTION:
URL:https://noticias.eudel.eus/evento/comision-interinstitucional-de-accion-exterior-2/
LOCATION:Vitoria-Gasteiz\, ARABA
END:VEVENT
BEGIN:VEVENT
DTSTART;TZID=Europe/Madrid:20211215T093000
DTEND;TZID=Europe/Madrid:20211215T120000
DTSTAMP:20260421T210413
CREATED:20211210T113916Z
LAST-MODIFIED:20211210T113916Z
UID:22511-1639560600-1639569600@noticias.eudel.eus
SUMMARY:[:es]Bilbao Bizkaia Action Group[:eu]Bilbao Bizkaia Action Group[:]
DESCRIPTION:
URL:https://noticias.eudel.eus/evento/bilbao-bizkaia-action-group-6/
LOCATION:Bilbao
END:VEVENT
BEGIN:VEVENT
DTSTART;TZID=Europe/Madrid:20211215T103000
DTEND;TZID=Europe/Madrid:20211215T123000
DTSTAMP:20260421T210413
CREATED:20211210T120303Z
LAST-MODIFIED:20211210T120303Z
UID:22531-1639564200-1639571400@noticias.eudel.eus
SUMMARY:[:es]Comisión de Coordinación de Policías Locales del País Vasco[:eu]Euskadiko Udaltzaingoen Koordinaziorako Batzordea[:]
DESCRIPTION:
URL:https://noticias.eudel.eus/evento/comision-de-coordinacion-de-policias-locales-del-pais-vasco/
LOCATION:Arkaute (Vitoria-Gasteiz)
END:VEVENT
BEGIN:VEVENT
DTSTART;TZID=Europe/Madrid:20211216T090000
DTEND;TZID=Europe/Madrid:20211216T103000
DTSTAMP:20260421T210413
CREATED:20211210T114329Z
LAST-MODIFIED:20211210T114329Z
UID:22515-1639645200-1639650600@noticias.eudel.eus
SUMMARY:[:es]Comisión Territorial de Bizkaia de EUDEL[:eu]EUDELeko Bizkaiako Lurralde Batzordea [:]
DESCRIPTION:
URL:https://noticias.eudel.eus/evento/comision-territorial-de-bizkaia-de-eudel-17/
LOCATION:Reunión por viodeoconferencia
END:VEVENT
BEGIN:VEVENT
DTSTART;TZID=Europe/Madrid:20211216T090000
DTEND;TZID=Europe/Madrid:20211216T140000
DTSTAMP:20260421T210413
CREATED:20210906T071000Z
LAST-MODIFIED:20211210T122356Z
UID:22135-1639645200-1639663200@noticias.eudel.eus
SUMMARY:[:es]Programa de Dirección Pública Local 2021-2022 Ayuntamientos vascos 2030: desarrollo sostenible\, recuperación y transformación. MÓDULO 2: Recuperación Económica y papel de los ayuntamientos vascos[:eu]Tokiko Zuzendaritza Publikoko Programa 2021-2022 Ayuntamientos vascos 2030: desarrollo sostenible\, recuperación y transformación. 2. MODULUA: Suspertze ekonomikoa eta EAEko udalen papera[:]
DESCRIPTION:
URL:https://noticias.eudel.eus/evento/programa-de-direccion-publica-local-2021-2022-ayuntamientos-vascos-2030-desarrollo-sostenible-recuperacion-y-transformacion-modulo-2-3/
LOCATION:Sede EUDEL. Bilbao\, Ertzilla kalea 13 / c/ Ercilla\, nº 13\, BILBAO\, 48009
END:VEVENT
BEGIN:VEVENT
DTSTART;TZID=Europe/Madrid:20211216T100000
DTEND;TZID=Europe/Madrid:20211216T113000
DTSTAMP:20260421T210413
CREATED:20211210T114608Z
LAST-MODIFIED:20211210T114608Z
UID:22517-1639648800-1639654200@noticias.eudel.eus
SUMMARY:[:es]Comisión Interinstitucional para la Inclusión Social[:eu]Gizarteratzeko Erakundeen arteko Batzordea[:]
DESCRIPTION:
URL:https://noticias.eudel.eus/evento/comision-interinstitucional-para-la-inclusion-social-2/
LOCATION:Reunión por viodeoconferencia
END:VEVENT
BEGIN:VEVENT
DTSTART;TZID=Europe/Madrid:20211216T120000
DTEND;TZID=Europe/Madrid:20211216T130000
DTSTAMP:20260421T210413
CREATED:20211210T114758Z
LAST-MODIFIED:20211210T114758Z
UID:22519-1639656000-1639659600@noticias.eudel.eus
SUMMARY:[:es]Junta Directiva BM-30[:eu]BM-30 Zuzendaritza Batzordea[:]
DESCRIPTION:
URL:https://noticias.eudel.eus/evento/junta-directiva-bm-30-2/
LOCATION:Bilbao
END:VEVENT
BEGIN:VEVENT
DTSTART;TZID=Europe/Madrid:20211216T120000
DTEND;TZID=Europe/Madrid:20211216T130000
DTSTAMP:20260421T210413
CREATED:20211210T115011Z
LAST-MODIFIED:20211210T115011Z
UID:22521-1639656000-1639659600@noticias.eudel.eus
SUMMARY:[:es]Consejo Vasco para la Inclusión Social[:eu]Gizarteratzeko Euskal Kontseilua Batzordea[:]
DESCRIPTION:
URL:https://noticias.eudel.eus/evento/consejo-vasco-para-la-inclusion-social-2/
LOCATION:Reunión por viodeoconferencia
END:VEVENT
BEGIN:VEVENT
DTSTART;TZID=Europe/Madrid:20211216T130000
DTEND;TZID=Europe/Madrid:20211216T150000
DTSTAMP:20260421T210413
CREATED:20211213T093124Z
LAST-MODIFIED:20211213T093124Z
UID:22535-1639659600-1639666800@noticias.eudel.eus
SUMMARY:[:es]Comisión Territorial de Álava de EUDEL[:eu]EUDELeko Arabako Lurralde Batzordea[:]
DESCRIPTION:
URL:https://noticias.eudel.eus/evento/comision-territorial-de-alava-de-eudel-9/
LOCATION:Reunión por viodeoconferencia
END:VEVENT
BEGIN:VEVENT
DTSTART;TZID=Europe/Madrid:20211216T153000
DTEND;TZID=Europe/Madrid:20211216T170000
DTSTAMP:20260421T210413
CREATED:20211210T115118Z
LAST-MODIFIED:20211210T115118Z
UID:22523-1639668600-1639674000@noticias.eudel.eus
SUMMARY:[:es]HAKOBA[:eu]HAKOBA[:]
DESCRIPTION:
URL:https://noticias.eudel.eus/evento/hakoba-3/
LOCATION:Vitoria-Gasteiz\, ARABA
END:VEVENT
BEGIN:VEVENT
DTSTART;TZID=Europe/Madrid:20211217T093000
DTEND;TZID=Europe/Madrid:20211217T113000
DTSTAMP:20260421T210413
CREATED:20211210T115840Z
LAST-MODIFIED:20211210T115840Z
UID:22529-1639733400-1639740600@noticias.eudel.eus
SUMMARY:[:es]HABEren Zuzendaritza Batzordea[:eu]HABEren Zuzendaritza Batzordea[:]
DESCRIPTION:
URL:https://noticias.eudel.eus/evento/haberen-zuzendaritza-batzordea/
LOCATION:Vitoria-Gasteiz\, ARABA
END:VEVENT
BEGIN:VEVENT
DTSTART;TZID=Europe/Madrid:20211217T093000
DTEND;TZID=Europe/Madrid:20211217T120000
DTSTAMP:20260421T210413
CREATED:20211210T115509Z
LAST-MODIFIED:20211210T115509Z
UID:22525-1639733400-1639742400@noticias.eudel.eus
SUMMARY:[:es]Comité de Seguimiento PDR Euskadi 2015-2020[:eu]Euskadiko LGP 2015-2020 Jarraipen Batzordea[:]
DESCRIPTION:
URL:https://noticias.eudel.eus/evento/comite-de-seguimiento-pdr-euskadi-2015-2020-2/
LOCATION:Reunión por viodeoconferencia
END:VEVENT
BEGIN:VEVENT
DTSTART;TZID=Europe/Madrid:20211217T120000
DTEND;TZID=Europe/Madrid:20211217T140000
DTSTAMP:20260421T210413
CREATED:20211210T115646Z
LAST-MODIFIED:20211210T115646Z
UID:22527-1639742400-1639749600@noticias.eudel.eus
SUMMARY:[:es]Comisión Territorial de Gipuzkoa de EUDEL[:eu]EUDELeko Gipuzkoako Lurralde Batzordea[:]
DESCRIPTION:
URL:https://noticias.eudel.eus/evento/comision-territorial-de-gipuzkoa-de-eudel-14/
LOCATION:Reunión por viodeoconferencia
END:VEVENT
BEGIN:VEVENT
DTSTART;TZID=Europe/Madrid:20211221T093000
DTEND;TZID=Europe/Madrid:20211221T103000
DTSTAMP:20260421T210413
CREATED:20211217T135101Z
LAST-MODIFIED:20211217T135101Z
UID:22548-1640079000-1640082600@noticias.eudel.eus
SUMMARY:[:es]Comisión de Ordenación del Territorio del País Vasco[:eu]Euskal Autonomia Erkidegoko Lurralde Antolamendurako Batzordea[:]
DESCRIPTION:
URL:https://noticias.eudel.eus/evento/comision-de-ordenacion-del-territorio-del-pais-vasco-5/
LOCATION:Vitoria-Gasteiz\, ARABA
END:VEVENT
END:VCALENDAR