BEGIN:VCALENDAR
VERSION:2.0
PRODID:-//EUDEL Noticias | Asociación de Municipios Vascos - ECPv6.5.1.3//NONSGML v1.0//EN
CALSCALE:GREGORIAN
METHOD:PUBLISH
X-ORIGINAL-URL:https://noticias.eudel.eus
X-WR-CALDESC:Eventos para EUDEL Noticias | Asociación de Municipios Vascos
REFRESH-INTERVAL;VALUE=DURATION:PT1H
X-Robots-Tag:noindex
X-PUBLISHED-TTL:PT1H
BEGIN:VTIMEZONE
TZID:Europe/Madrid
BEGIN:DAYLIGHT
TZOFFSETFROM:+0100
TZOFFSETTO:+0200
TZNAME:CEST
DTSTART:20220327T010000
END:DAYLIGHT
BEGIN:STANDARD
TZOFFSETFROM:+0200
TZOFFSETTO:+0100
TZNAME:CET
DTSTART:20221030T010000
END:STANDARD
END:VTIMEZONE
BEGIN:VEVENT
DTSTART;TZID=Europe/Madrid:20220203T093000
DTEND;TZID=Europe/Madrid:20220203T103000
DTSTAMP:20260421T162637
CREATED:20220202T100701Z
LAST-MODIFIED:20220202T102119Z
UID:22671-1643880600-1643884200@noticias.eudel.eus
SUMMARY:[:es]Berjantzi VITORIA-GASTEIZ. Firma Convenio Penas Trabajos para la Comunidad.[:eu]Berjantzi VITORIA-GASTEIZ. Hitzarmenaren sinadura: Gizartearentzat lan egiteko zigorrak betetzeko[:]
DESCRIPTION:FIRMA DEL ACUERDO-MARCO ENTRE EUDEL Y EL GOBIERNO VASCO PARA EL CUMPLIMIENTO DE PENAS DE TRABAJOS EN BENEFICIO DE LA COMUNIDAD.\n \nJueves 3 de febrero de 2022 en Berjantzi. Portal de Gamarra\, 9A pab.35-36 Vitoria-Gasteiz a las 09:30 horas. INTERVIENEN: Gorka Urtaran\, presidente de EUDEL y alcalde de Vitoria-Gasteiz y Beatriz Artolazabal\, consejera de Igualdad\, Justicia y Políticas Sociales. \n  \nEl presidente de EUDEL y alcalde de Vitoria-Gasteiz\, Gorka Urtaran\, y la consejera de Igualdad\, Justicia y Políticas Sociales del Gobierno Vasco\, Beatriz Artolazabal\,  firman el JUEVES 3 DE FEBRERO\, un acuerdo-marco para que los ayuntamientos vascos oferten plazas en sus servicios municipales que permitan el cumplimiento de penas de Trabajos en Beneficio de la Comunidad. \nArtolazabal y Urtaran realizarán el acto protocolario en las instalaciones de Berjantzi\, una de las entidades del tercer sector que también participan de manera activa en la ejecución de esta medida judicial alternativa a la privación de libertad.
URL:https://noticias.eudel.eus/evento/berjantzi-vitoria-gasteiz-firma-convenio-penas-trabajos-para-la-comunidad/
LOCATION:Vitoria-Gasteiz\, ARABA
END:VEVENT
BEGIN:VEVENT
DTSTART;TZID=Europe/Madrid:20220204T100000
DTEND;TZID=Europe/Madrid:20220204T120000
DTSTAMP:20260421T162637
CREATED:20220128T115015Z
LAST-MODIFIED:20220128T115015Z
UID:22667-1643968800-1643976000@noticias.eudel.eus
SUMMARY:[:es]Comisión Interinstitucional de Cooperación para el Desarrollo[:eu]Garapenerako Lankidetzarako Erakunde Arteko Batzordea.[:]
DESCRIPTION:
URL:https://noticias.eudel.eus/evento/comision-interinstitucional-de-cooperacion-para-el-desarrollo-2/
LOCATION:Donostia/San Sebastián
END:VEVENT
BEGIN:VEVENT
DTSTART;TZID=Europe/Madrid:20220209T093000
DTEND;TZID=Europe/Madrid:20220209T103000
DTSTAMP:20260421T162637
CREATED:20220204T132333Z
LAST-MODIFIED:20220204T132333Z
UID:22695-1644399000-1644402600@noticias.eudel.eus
SUMMARY:[:es]Comisión de Ordenación del Territorio del País Vasco [:eu]Euskal Autonomia Erkidegoko Lurralde Antolamendurako Batzordea[:]
DESCRIPTION:
URL:https://noticias.eudel.eus/evento/comision-de-ordenacion-del-territorio-del-pais-vasco-6/
LOCATION:Vitoria-Gasteiz\, ARABA
END:VEVENT
BEGIN:VEVENT
DTSTART;TZID=Europe/Madrid:20220209T103000
DTEND;TZID=Europe/Madrid:20220209T110000
DTSTAMP:20260421T162637
CREATED:20220204T132501Z
LAST-MODIFIED:20220204T132501Z
UID:22698-1644402600-1644404400@noticias.eudel.eus
SUMMARY:[:es]Comisión de Ordenación del Territorio del País Vasco. Álava.[:eu]Euskal Autonomia Erkidegoko Lurralde Antolamendurako Batzordea. Araba.[:]
DESCRIPTION:
URL:https://noticias.eudel.eus/evento/comision-de-ordenacion-del-territorio-del-pais-vasco-alava-4/
LOCATION:Vitoria-Gasteiz\, ARABA
END:VEVENT
BEGIN:VEVENT
DTSTART;TZID=Europe/Madrid:20220209T103000
DTEND;TZID=Europe/Madrid:20220209T110000
DTSTAMP:20260421T162637
CREATED:20220204T132619Z
LAST-MODIFIED:20220204T132619Z
UID:22700-1644402600-1644404400@noticias.eudel.eus
SUMMARY:[:es]Comisión de Ordenación del Territorio del País Vasco. Bizkaia.[:eu]Euskal Autonomia Erkidegoko Lurralde Antolamendurako Batzordea. Bizkaia.[:]
DESCRIPTION:
URL:https://noticias.eudel.eus/evento/comision-de-ordenacion-del-territorio-del-pais-vasco-bizkaia-7/
LOCATION:Vitoria-Gasteiz\, ARABA
END:VEVENT
BEGIN:VEVENT
DTSTART;TZID=Europe/Madrid:20220209T110000
DTEND;TZID=Europe/Madrid:20220209T113000
DTSTAMP:20260421T162637
CREATED:20220204T132720Z
LAST-MODIFIED:20220204T132732Z
UID:22702-1644404400-1644406200@noticias.eudel.eus
SUMMARY:[:es]Comisión de Ordenación del Territorio del País Vasco. Gipuzkoa.[:eu]Euskal Autonomia Erkidegoko Lurralde Antolamendurako Batzordea. Gipuzkoa.[:]
DESCRIPTION:
URL:https://noticias.eudel.eus/evento/comision-de-ordenacion-del-territorio-del-pais-vasco-gipuzkoa-4/
LOCATION:Vitoria-Gasteiz\, ARABA
END:VEVENT
BEGIN:VEVENT
DTSTART;TZID=Europe/Madrid:20220209T150000
DTEND;TZID=Europe/Madrid:20220209T170000
DTSTAMP:20260421T162637
CREATED:20220204T132912Z
LAST-MODIFIED:20220204T132912Z
UID:22704-1644418800-1644426000@noticias.eudel.eus
SUMMARY:[:es]Consejo Vasco de Universidades [:eu]Euskadiko Unibertsitate Kontseilua[:]
DESCRIPTION:
URL:https://noticias.eudel.eus/evento/consejo-vasco-de-universidades-6/
LOCATION:Reunión por viodeoconferencia
END:VEVENT
BEGIN:VEVENT
DTSTART;TZID=Europe/Madrid:20220210T100000
DTEND;TZID=Europe/Madrid:20220210T130000
DTSTAMP:20260421T162637
CREATED:20220204T133029Z
LAST-MODIFIED:20220204T133029Z
UID:22707-1644487200-1644498000@noticias.eudel.eus
SUMMARY:[:es]Comisión Ejecutiva de EUDEL[:eu]EUDELeko Batzorde Eragilea[:]
DESCRIPTION:
URL:https://noticias.eudel.eus/evento/comision-ejecutiva-de-eudel-21/
LOCATION:Reunión por viodeoconferencia
END:VEVENT
BEGIN:VEVENT
DTSTART;TZID=Europe/Madrid:20220211T090000
DTEND;TZID=Europe/Madrid:20220211T140000
DTSTAMP:20260421T162637
CREATED:20210906T071113Z
LAST-MODIFIED:20210906T082246Z
UID:22137-1644570000-1644588000@noticias.eudel.eus
SUMMARY:[:es]Programa de Dirección Pública Local 2021-2022 Ayuntamientos vascos 2030: desarrollo sostenible\, recuperación y transformación. MÓDULO 3: Desafíos en la transformación de las Administraciones locales[:eu]Tokiko Zuzendaritza Publikoko Programa 2021-2022 Ayuntamientos vascos 2030: desarrollo sostenible\, recuperación y transformación. 3. MODULUA: Toki-administrazioak eraldatzeko erronkak[:]
DESCRIPTION:
URL:https://noticias.eudel.eus/evento/programa-de-direccion-publica-local-2021-2022-ayuntamientos-vascos-2030-desarrollo-sostenible-recuperacion-y-transformacion-modulo-3/
LOCATION:Sede EUDEL. Bilbao\, Ertzilla kalea 13 / c/ Ercilla\, nº 13\, BILBAO\, 48009
END:VEVENT
BEGIN:VEVENT
DTSTART;TZID=Europe/Madrid:20220214T120000
DTEND;TZID=Europe/Madrid:20220214T140000
DTSTAMP:20260421T162637
CREATED:20220211T102455Z
LAST-MODIFIED:20220211T102455Z
UID:22721-1644840000-1644847200@noticias.eudel.eus
SUMMARY:[:es]Consejo Vasco Finanzas Públicas[:eu]Herri dirudieen Euskal Kontseilua[:]
DESCRIPTION:
URL:https://noticias.eudel.eus/evento/consejo-vasco-finanzas-publicas-2/
LOCATION:Gobierno Vasco (Lakua 2)\, Donostia-San Sebastian 1\, VITORIA-GASTEIZ
END:VEVENT
BEGIN:VEVENT
DTSTART;TZID=Europe/Madrid:20220214T150000
DTEND;TZID=Europe/Madrid:20220214T160000
DTSTAMP:20260421T162637
CREATED:20220204T133418Z
LAST-MODIFIED:20220204T133418Z
UID:22710-1644850800-1644854400@noticias.eudel.eus
SUMMARY:[:es]Grupo de Trabajo: Transformación Económico-Digital del Foro Multiagente de Transición Social y Agenda 2030[:eu]Eraldaketa Ekonomiko-digitaleko Lantaldea - Trantsizio Sozialaren eta 2030 Agendaren Eragile Anitzeko Foroa[:]
DESCRIPTION:
URL:https://noticias.eudel.eus/evento/grupo-de-trabajo-transformacion-economico-digital-del-foro-multiagente-de-transicion-social-y-agenda-2030-2/
LOCATION:Vitoria-Gasteiz\, ARABA
END:VEVENT
BEGIN:VEVENT
DTSTART;TZID=Europe/Madrid:20220214T160000
DTEND;TZID=Europe/Madrid:20220214T170000
DTSTAMP:20260421T162637
CREATED:20220204T133714Z
LAST-MODIFIED:20220204T133714Z
UID:22713-1644854400-1644858000@noticias.eudel.eus
SUMMARY:[:es]Comisión Permanente del Foro Multiagente de Transición Social y Agenda 2030[:eu]Trantsizio Sozialaren eta 2030 Agendaren Eragile Anitzeko Foroaren Batzorde Iraukorra[:]
DESCRIPTION:
URL:https://noticias.eudel.eus/evento/comision-permanente-del-foro-multiagente-de-transicion-social-y-agenda-2030/
LOCATION:Vitoria-Gasteiz\, ARABA
END:VEVENT
BEGIN:VEVENT
DTSTART;TZID=Europe/Madrid:20220215T130000
DTEND;TZID=Europe/Madrid:20220215T140000
DTSTAMP:20260421T162637
CREATED:20220211T135335Z
LAST-MODIFIED:20220211T135415Z
UID:22756-1644930000-1644933600@noticias.eudel.eus
SUMMARY:[:es]Consejo Territorial de Finanzas de Gipuzkoa[:eu]Gipuzkoako Finantzen Kontseilua[:]
DESCRIPTION:
URL:https://noticias.eudel.eus/evento/consejo-territorial-de-finanzas-de-gipuzkoa-7/
LOCATION:Donostia/San Sebastián
END:VEVENT
BEGIN:VEVENT
DTSTART;TZID=Europe/Madrid:20220215T140000
DTEND;TZID=Europe/Madrid:20220215T150000
DTSTAMP:20260421T162637
CREATED:20220210T080928Z
LAST-MODIFIED:20220210T080928Z
UID:22719-1644933600-1644937200@noticias.eudel.eus
SUMMARY:[:es]Comisión Territorial de Gipuzkoa de EUDEL[:eu]EUDELeko Gipuzkoako Lurralde Batzordea[:]
DESCRIPTION:
URL:https://noticias.eudel.eus/evento/comision-territorial-de-gipuzkoa-de-eudel-15/
LOCATION:Reunión por viodeoconferencia
END:VEVENT
BEGIN:VEVENT
DTSTART;TZID=Europe/Madrid:20220216T100000
DTEND;TZID=Europe/Madrid:20220216T120000
DTSTAMP:20260421T162637
CREATED:20220211T102655Z
LAST-MODIFIED:20220211T102655Z
UID:22723-1645005600-1645012800@noticias.eudel.eus
SUMMARY:[:es] Consejo Asesor para la lnclusión Social de Gipuzkoa[:eu]Gipuzkoako Gizarteratze Gaietako Aholku Kontseilua[:]
DESCRIPTION:
URL:https://noticias.eudel.eus/evento/consejo-asesor-para-la-lnclusion-social-de-gipuzkoa/
LOCATION:videoconferencia
END:VEVENT
BEGIN:VEVENT
DTSTART;TZID=Europe/Madrid:20220216T123000
DTEND;TZID=Europe/Madrid:20220216T143000
DTSTAMP:20260421T162637
CREATED:20220211T103414Z
LAST-MODIFIED:20220211T103414Z
UID:22726-1645014600-1645021800@noticias.eudel.eus
SUMMARY:[:es]Comisión Territorial de Bizkaia de EUDEL[:eu]EUDELeko Bizkaiko Lurralde Batzordea[:]
DESCRIPTION:
URL:https://noticias.eudel.eus/evento/comision-territorial-de-bizkaia-de-eudel-18/
LOCATION:Sede EUDEL. Bilbao\, Ertzilla kalea 13 / c/ Ercilla\, nº 13\, BILBAO\, 48009
END:VEVENT
BEGIN:VEVENT
DTSTART;TZID=Europe/Madrid:20220217T100000
DTEND;TZID=Europe/Madrid:20220217T113000
DTSTAMP:20260421T162637
CREATED:20220215T082600Z
LAST-MODIFIED:20220215T082600Z
UID:22770-1645092000-1645097400@noticias.eudel.eus
SUMMARY:[:es]Consejo Territorial de  Finanzas de Bizkaia[:eu]Bizkaiko Finantzen Lurralde Kontseilua[:]
DESCRIPTION:
URL:https://noticias.eudel.eus/evento/consejo-territorial-de-finanzas-de-bizkaia-9/
LOCATION:Bilbao
END:VEVENT
BEGIN:VEVENT
DTSTART;TZID=Europe/Madrid:20220217T153000
DTEND;TZID=Europe/Madrid:20220217T170000
DTSTAMP:20260421T162637
CREATED:20220211T104158Z
LAST-MODIFIED:20220211T104158Z
UID:22730-1645111800-1645117200@noticias.eudel.eus
SUMMARY:[:es]Comisión Permanente del  Consejo Escolar de Euskadi[:eu]Euskadiko Eskola Kontseiluaren Batzordea[:]
DESCRIPTION:
URL:https://noticias.eudel.eus/evento/comision-permanente-del-consejo-escolar-de-euskadi/
LOCATION:Bilbao
END:VEVENT
BEGIN:VEVENT
DTSTART;TZID=Europe/Madrid:20220217T160000
DTEND;TZID=Europe/Madrid:20220217T170000
DTSTAMP:20260421T162637
CREATED:20220214T141026Z
LAST-MODIFIED:20220214T141026Z
UID:22760-1645113600-1645117200@noticias.eudel.eus
SUMMARY:[:es]Consejo Territorial de Administración Local y Finanzas de Álava[:eu]Arabako Toki Administrazioko eta Finantzetako Lurralde Kontseilua[:]
DESCRIPTION:
URL:https://noticias.eudel.eus/evento/consejo-territorial-de-administracion-local-y-finanzas-de-alava-6/
LOCATION:videoconferencia
END:VEVENT
BEGIN:VEVENT
DTSTART;TZID=Europe/Madrid:20220218T090000
DTEND;TZID=Europe/Madrid:20220218T103000
DTSTAMP:20260421T162637
CREATED:20220211T104021Z
LAST-MODIFIED:20220214T140751Z
UID:22728-1645174800-1645180200@noticias.eudel.eus
SUMMARY:[:es]Comisión Territorial de Álava de EUDEL[:eu]EUDELeko Arabako Lurralde Batzordea[:]
DESCRIPTION:
URL:https://noticias.eudel.eus/evento/comision-territorial-de-alava-de-eudel-11/
LOCATION:videoconferencia
END:VEVENT
BEGIN:VEVENT
DTSTART;TZID=Europe/Madrid:20220224T093000
DTEND;TZID=Europe/Madrid:20220224T110000
DTSTAMP:20260421T162637
CREATED:20220218T111545Z
LAST-MODIFIED:20220218T111545Z
UID:22782-1645695000-1645700400@noticias.eudel.eus
SUMMARY:[:es]Consejo Vasco del Deporte[:eu]Kirolaren Euskal Kontseilua[:]
DESCRIPTION:
URL:https://noticias.eudel.eus/evento/consejo-vasco-del-deporte/
LOCATION:videoconferencia
END:VEVENT
BEGIN:VEVENT
DTSTART;TZID=Europe/Madrid:20220225T090000
DTEND;TZID=Europe/Madrid:20220225T140000
DTSTAMP:20260421T162637
CREATED:20210906T071203Z
LAST-MODIFIED:20210906T082202Z
UID:22139-1645779600-1645797600@noticias.eudel.eus
SUMMARY:[:es]Programa de Dirección Pública Local 2021-2022 Ayuntamientos vascos 2030: desarrollo sostenible\, recuperación y transformación. MÓDULO 3: Desafíos en la transformación de las Administraciones locales[:eu]Tokiko Zuzendaritza Publikoko Programa 2021-2022 Ayuntamientos vascos 2030: desarrollo sostenible\, recuperación y transformación. 3. MODULUA: Toki-administrazioak eraldatzeko erronkak[:]
DESCRIPTION:
URL:https://noticias.eudel.eus/evento/programa-de-direccion-publica-local-2021-2022-ayuntamientos-vascos-2030-desarrollo-sostenible-recuperacion-y-transformacion-modulo-3-2/
LOCATION:Sede EUDEL. Bilbao\, Ertzilla kalea 13 / c/ Ercilla\, nº 13\, BILBAO\, 48009
END:VEVENT
BEGIN:VEVENT
DTSTART;TZID=Europe/Madrid:20220228T100000
DTEND;TZID=Europe/Madrid:20220228T103000
DTSTAMP:20260421T162637
CREATED:20220225T122911Z
LAST-MODIFIED:20220225T122911Z
UID:22784-1646042400-1646044200@noticias.eudel.eus
SUMMARY:[:es]Consejo Vasco de Participación de las Víctimas del Terrorismo[:eu]Terrorismoaren Biktimen Partaideratzeko Euskal Kontseilua[:]
DESCRIPTION:
URL:https://noticias.eudel.eus/evento/consejo-vasco-de-participacion-de-las-victimas-del-terrorismo-4/
LOCATION:videoconferencia
END:VEVENT
END:VCALENDAR