BEGIN:VCALENDAR
VERSION:2.0
PRODID:-//EUDEL Noticias | Asociación de Municipios Vascos - ECPv6.5.1.3//NONSGML v1.0//EN
CALSCALE:GREGORIAN
METHOD:PUBLISH
X-WR-CALNAME:EUDEL Noticias | Asociación de Municipios Vascos
X-ORIGINAL-URL:https://noticias.eudel.eus
X-WR-CALDESC:Eventos para EUDEL Noticias | Asociación de Municipios Vascos
REFRESH-INTERVAL;VALUE=DURATION:PT1H
X-Robots-Tag:noindex
X-PUBLISHED-TTL:PT1H
BEGIN:VTIMEZONE
TZID:Europe/Madrid
BEGIN:DAYLIGHT
TZOFFSETFROM:+0100
TZOFFSETTO:+0200
TZNAME:CEST
DTSTART:20220327T010000
END:DAYLIGHT
BEGIN:STANDARD
TZOFFSETFROM:+0200
TZOFFSETTO:+0100
TZNAME:CET
DTSTART:20221030T010000
END:STANDARD
END:VTIMEZONE
BEGIN:VEVENT
DTSTART;TZID=Europe/Madrid:20220301T180000
DTEND;TZID=Europe/Madrid:20220301T193000
DTSTAMP:20260421T145512
CREATED:20220225T123149Z
LAST-MODIFIED:20220225T123149Z
UID:22786-1646157600-1646163000@noticias.eudel.eus
SUMMARY:[:es]Consejo Territorial de Deporte Escolar de Álava[:eu]Arabako Eskola Kirolaren Lurraldeko Kontseilua [:]
DESCRIPTION:
URL:https://noticias.eudel.eus/evento/consejo-territorial-de-deporte-escolar-de-alava-3/
LOCATION:Vitoria-Gasteiz\, ARABA
END:VEVENT
BEGIN:VEVENT
DTSTART;TZID=Europe/Madrid:20220302T100000
DTEND;TZID=Europe/Madrid:20220302T120000
DTSTAMP:20260421T145512
CREATED:20220225T123345Z
LAST-MODIFIED:20220225T123345Z
UID:22788-1646215200-1646222400@noticias.eudel.eus
SUMMARY:[:es]Comisión de Seguimiento del Estatuto de las Mujeres Agricultoras[:eu]Emakume Nekazarien Estatutuaren Jarraipen Batzordea[:]
DESCRIPTION:
URL:https://noticias.eudel.eus/evento/comision-de-seguimiento-del-estatuto-de-las-mujeres-agricultoras/
LOCATION:videoconferencia
END:VEVENT
BEGIN:VEVENT
DTSTART;TZID=Europe/Madrid:20220303T110000
DTEND;TZID=Europe/Madrid:20220303T120000
DTSTAMP:20260421T145512
CREATED:20220225T131152Z
LAST-MODIFIED:20220225T131152Z
UID:22792-1646305200-1646308800@noticias.eudel.eus
SUMMARY:[:es]Comisión  de Seguridad Vial de la Comunidad  Autónoma del País Vasco[:eu]Euskal Autonomia Erkidegoko Bide Segurtasun Osoko Bilkura[:]
DESCRIPTION:
URL:https://noticias.eudel.eus/evento/comision-de-seguridad-vial-de-la-comunidad-autonoma-del-pais-vasco/
LOCATION:Bilbao
END:VEVENT
BEGIN:VEVENT
DTSTART;TZID=Europe/Madrid:20220310T100000
DTEND;TZID=Europe/Madrid:20220310T123000
DTSTAMP:20260421T145512
CREATED:20220304T135027Z
LAST-MODIFIED:20220304T135027Z
UID:22822-1646906400-1646915400@noticias.eudel.eus
SUMMARY:[:es]Comisión Ejecutiva de EUDEL[:eu]EUDELeko Batzorde Eragilea[:]
DESCRIPTION:
URL:https://noticias.eudel.eus/evento/comision-ejecutiva-de-eudel-22/
LOCATION:Reunión por viodeoconferencia
END:VEVENT
BEGIN:VEVENT
DTSTART;TZID=Europe/Madrid:20220311T090000
DTEND;TZID=Europe/Madrid:20220311T140000
DTSTAMP:20260421T145512
CREATED:20210906T071249Z
LAST-MODIFIED:20210906T082042Z
UID:22141-1646989200-1647007200@noticias.eudel.eus
SUMMARY:[:es]Programa de Dirección Pública Local 2021-2022 Ayuntamientos vascos 2030: desarrollo sostenible\, recuperación y transformación. MÓDULO 3: Desafíos en la transformación de las Administraciones locales[:eu]Tokiko Zuzendaritza Publikoko Programa 2021-2022 Ayuntamientos vascos 2030: desarrollo sostenible\, recuperación y transformación. 3. MODULUA: Toki-administrazioak eraldatzeko erronkak[:]
DESCRIPTION:
URL:https://noticias.eudel.eus/evento/programa-de-direccion-publica-local-2021-2022-ayuntamientos-vascos-2030-desarrollo-sostenible-recuperacion-y-transformacion-modulo-3-3/
LOCATION:Sede EUDEL. Bilbao\, Ertzilla kalea 13 / c/ Ercilla\, nº 13\, BILBAO\, 48009
END:VEVENT
BEGIN:VEVENT
DTSTART;TZID=Europe/Madrid:20220314T160000
DTEND;TZID=Europe/Madrid:20220314T173000
DTSTAMP:20260421T145512
CREATED:20220311T140023Z
LAST-MODIFIED:20220311T140023Z
UID:22858-1647273600-1647279000@noticias.eudel.eus
SUMMARY:[:es]Grupo de Trabajo de la Agenda Urbana de Euskadi Bultzatu 2050[:eu]Bultzatu 2050 Hiri Agendaren lantaldea[:]
DESCRIPTION:
URL:https://noticias.eudel.eus/evento/grupo-de-trabajo-de-la-agenda-urbana-de-euskadi-bultzatu-2050/
LOCATION:Vitoria-Gasteiz\, ARABA
END:VEVENT
BEGIN:VEVENT
DTSTART;TZID=Europe/Madrid:20220315T123000
DTEND;TZID=Europe/Madrid:20220315T143000
DTSTAMP:20260421T145512
CREATED:20220311T140207Z
LAST-MODIFIED:20220311T140207Z
UID:22860-1647347400-1647354600@noticias.eudel.eus
SUMMARY:[:es]Consejo Asesor de Conservación de la Naturaleza del País Vasco-Naturzaintza[:eu]Naturzaintza-Euskal Autonomia Erkidegoko Natura Kontserbatzeko Aholku Batzordea[:]
DESCRIPTION:
URL:https://noticias.eudel.eus/evento/consejo-asesor-de-conservacion-de-la-naturaleza-del-pais-vasco-naturzaintza-2/
LOCATION:Vitoria-Gasteiz\, ARABA
END:VEVENT
BEGIN:VEVENT
DTSTART;TZID=Europe/Madrid:20220315T153000
DTEND;TZID=Europe/Madrid:20220315T170000
DTSTAMP:20260421T145512
CREATED:20220311T140314Z
LAST-MODIFIED:20220311T140314Z
UID:22862-1647358200-1647363600@noticias.eudel.eus
SUMMARY:[:es]HAKOBA[:eu]HAKOBA[:]
DESCRIPTION:
URL:https://noticias.eudel.eus/evento/hakoba-5/
LOCATION:Vitoria-Gasteiz\, ARABA
END:VEVENT
BEGIN:VEVENT
DTSTART;TZID=Europe/Madrid:20220315T163000
DTEND;TZID=Europe/Madrid:20220315T183000
DTSTAMP:20260421T145512
CREATED:20220329T064001Z
LAST-MODIFIED:20230310T125803Z
UID:22924-1647361800-1647369000@noticias.eudel.eus
SUMMARY:[:es]Plenario del Foro Multiagente de Transición Social y Agenda 2030 en Euskadi[:eu]Euskadin Trantsizio Sozialaren eta 2030  Agendaren Eragile Anitzeko Foroaren  Osoko Bilkura[:]
DESCRIPTION:Representante de EUDEL: \n\nGorka Urtaran Agirre. Presidente de EUDEL y Alcalde de Vitoria-Gasteiz
URL:https://noticias.eudel.eus/evento/plenario-del-foro-multiagente-de-transicion-social-y-agenda-2030-en-euskadi/
LOCATION:Vitoria-Gasteiz\, ARABA
END:VEVENT
BEGIN:VEVENT
DTSTART;TZID=Europe/Madrid:20220316T093000
DTEND;TZID=Europe/Madrid:20220316T103000
DTSTAMP:20260421T145512
CREATED:20220314T104311Z
LAST-MODIFIED:20220314T104311Z
UID:22865-1647423000-1647426600@noticias.eudel.eus
SUMMARY:[:es]Reunión del Grupo de Trabajo de  Transformación Social del Foro Multiagente  de Transición Social y Agenda 2030[:eu]Trantsizio Sozialaren eta 2030 Agendaren Eragile Anitzeko Foroaren Eraldaketa Sozialaren lantaldearen bilera[:]
DESCRIPTION:
URL:https://noticias.eudel.eus/evento/reunion-del-grupo-de-trabajo-de-transformacion-social-del-foro-multiagente-de-transicion-social-y-agenda-2030/
LOCATION:Vitoria-Gasteiz\, ARABA
END:VEVENT
BEGIN:VEVENT
DTSTART;TZID=Europe/Madrid:20220316T093000
DTEND;TZID=Europe/Madrid:20220316T110000
DTSTAMP:20260421T145512
CREATED:20220315T134814Z
LAST-MODIFIED:20220315T134814Z
UID:22882-1647423000-1647428400@noticias.eudel.eus
SUMMARY:[:es]Comisión Mixta Financiación Municipal Bizkaia[:eu]Bizkaiko Udal Finantziazio Batzorde Mistoa[:]
DESCRIPTION:
URL:https://noticias.eudel.eus/evento/comision-mixta-financiacion-municipal-bizkaia/
LOCATION:Bilbao
END:VEVENT
BEGIN:VEVENT
DTSTART;TZID=Europe/Madrid:20220316T103000
DTEND;TZID=Europe/Madrid:20220316T113000
DTSTAMP:20260421T145512
CREATED:20220314T104441Z
LAST-MODIFIED:20220314T104441Z
UID:22867-1647426600-1647430200@noticias.eudel.eus
SUMMARY:[:es]Reunión del Grupo de Trabajo de Transformación Energetico-climatico del Foro Multiagente de Transición Social yAgenda 2030[:eu]Trantsizio Sozialaren eta 2030 Agendaren Eragile Anitzeko Foroaren Eraldaketa Energetiko-klimatikoaren lantaldearen bilera[:]
DESCRIPTION:
URL:https://noticias.eudel.eus/evento/reunion-del-grupo-de-trabajo-de-transformacion-energetico-climatico-del-foro-multiagente-de-transicion-social-yagenda-2030/
LOCATION:Vitoria-Gasteiz\, ARABA
END:VEVENT
BEGIN:VEVENT
DTSTART;TZID=Europe/Madrid:20220316T113000
DTEND;TZID=Europe/Madrid:20220316T123000
DTSTAMP:20260421T145512
CREATED:20220314T104608Z
LAST-MODIFIED:20220314T104608Z
UID:22869-1647430200-1647433800@noticias.eudel.eus
SUMMARY:[:es]Reunión del Grupo de Trabajo de Transformación Económico-digital del  Foro Multiagente de Transición Social y  Agenda 2030[:eu]Trantsizio Sozialaren eta 2030 Agendaren Eragile Anitzeko Foroaren  Eraldaketa Ekonomiko-digitalaren lantaldearen bilera[:]
DESCRIPTION:
URL:https://noticias.eudel.eus/evento/reunion-del-grupo-de-trabajo-de-transformacion-economico-digital-del-foro-multiagente-de-transicion-social-y-agenda-2030/
LOCATION:Vitoria-Gasteiz\, ARABA
END:VEVENT
BEGIN:VEVENT
DTSTART;TZID=Europe/Madrid:20220317T090000
DTEND;TZID=Europe/Madrid:20220317T103000
DTSTAMP:20260421T145512
CREATED:20220314T104734Z
LAST-MODIFIED:20220314T104734Z
UID:22871-1647507600-1647513000@noticias.eudel.eus
SUMMARY:[:es]Comisión Territorial de Bizkaia de EUDEL[:eu]EUDELeko Bizkaiko Lurraldeko Batzordea[:]
DESCRIPTION:
URL:https://noticias.eudel.eus/evento/comision-territorial-de-bizkaia-de-eudel-19/
LOCATION:Reunión por viodeoconferencia
END:VEVENT
BEGIN:VEVENT
DTSTART;TZID=Europe/Madrid:20220317T100000
DTEND;TZID=Europe/Madrid:20220317T120000
DTSTAMP:20260421T145512
CREATED:20220314T115820Z
LAST-MODIFIED:20220314T115820Z
UID:22877-1647511200-1647518400@noticias.eudel.eus
SUMMARY:[:es]Junta de Gobierno Elkarkidetza[:eu]Elkarkidetzaren Gobernu Batzordea[:]
DESCRIPTION:
URL:https://noticias.eudel.eus/evento/junta-de-gobierno-elkarkidetza-3/
LOCATION:videoconferencia
END:VEVENT
BEGIN:VEVENT
DTSTART;TZID=Europe/Madrid:20220317T120000
DTEND;TZID=Europe/Madrid:20220317T133000
DTSTAMP:20260421T145512
CREATED:20220314T104846Z
LAST-MODIFIED:20220314T104846Z
UID:22873-1647518400-1647523800@noticias.eudel.eus
SUMMARY:[:es]Comisión Territorial de Álava de EUDEL[:eu]EUDELeko Araba Lurraldeko Batzorde[:]
DESCRIPTION:
URL:https://noticias.eudel.eus/evento/comision-territorial-de-alava-de-eudel-12/
LOCATION:Reunión por viodeoconferencia
END:VEVENT
BEGIN:VEVENT
DTSTART;TZID=Europe/Madrid:20220318T120000
DTEND;TZID=Europe/Madrid:20220318T133000
DTSTAMP:20260421T145512
CREATED:20220314T105024Z
LAST-MODIFIED:20220314T105024Z
UID:22875-1647604800-1647610200@noticias.eudel.eus
SUMMARY:[:es]Comisión Territorial de Gipuzkoa de EUDEL[:eu]EUDELeko Gipuzkoa Lurraldeko Batzordea[:]
DESCRIPTION:
URL:https://noticias.eudel.eus/evento/comision-territorial-de-gipuzkoa-de-eudel-16/
LOCATION:videoconferencia
END:VEVENT
BEGIN:VEVENT
DTSTART;TZID=Europe/Madrid:20220324T100000
DTEND;TZID=Europe/Madrid:20220324T113000
DTSTAMP:20260421T145512
CREATED:20220323T073755Z
LAST-MODIFIED:20220323T073755Z
UID:22893-1648116000-1648121400@noticias.eudel.eus
SUMMARY:[:es]Grupo de Trabajo de  Gobernanza del Foro Multiagente de  Transición Social y Agenda 2030[:eu]Trantsizio Sozialaren eta 2030 Agendaren Eragile Anitzeko Foroaren Gobernantza lantaldea[:]
DESCRIPTION:
URL:https://noticias.eudel.eus/evento/grupo-de-trabajo-de-gobernanza-del-foro-multiagente-de-transicion-social-y-agenda-2030-2/
LOCATION:Vitoria-Gasteiz\, ARABA
END:VEVENT
BEGIN:VEVENT
DTSTART;TZID=Europe/Madrid:20220324T123000
DTEND;TZID=Europe/Madrid:20220324T140000
DTSTAMP:20260421T145512
CREATED:20220323T073642Z
LAST-MODIFIED:20220323T073642Z
UID:22891-1648125000-1648130400@noticias.eudel.eus
SUMMARY:[:es]Comisión  Interinstitucional para la Inclusión Social[:eu]Gizarteratzeko  Erakundeen arteko Batzordea[:]
DESCRIPTION:
URL:https://noticias.eudel.eus/evento/comision-interinstitucional-para-la-inclusion-social-3/
LOCATION:Reunión por viodeoconferencia
END:VEVENT
BEGIN:VEVENT
DTSTART;TZID=Europe/Madrid:20220324T154500
DTEND;TZID=Europe/Madrid:20220324T171500
DTSTAMP:20260421T145512
CREATED:20220323T073534Z
LAST-MODIFIED:20220323T073534Z
UID:22889-1648136700-1648142100@noticias.eudel.eus
SUMMARY:[:es]Comisión Permanente del Consejo Escolar de Euskadi[:eu]Euskadiko Eskola Kontseiluaren Batzorde  Iraunkorra[:]
DESCRIPTION:
URL:https://noticias.eudel.eus/evento/comision-permanente-del-consejo-escolar-de-euskadi-2/
LOCATION:Bilbao
END:VEVENT
BEGIN:VEVENT
DTSTART;TZID=Europe/Madrid:20220325T093000
DTEND;TZID=Europe/Madrid:20220325T133000
DTSTAMP:20260421T145512
CREATED:20220621T123747Z
LAST-MODIFIED:20220627T103705Z
UID:23250-1648200600-1648215000@noticias.eudel.eus
SUMMARY:[:es]Bilbao. XVI edición • Seminario Vasco de Derecho Local. Primera sesión.[:eu]Bilbao. XVI. edizioa • Toki Zuzenbidearen Euskal Mintegia. Lehenengo saioa.[:]
DESCRIPTION:9:30 – 10:45.  “El IIVTNU: Análisis de la declaración de inconstitucionalidad del impuesto\, por la STC 182/2021\, y de su nuevo régimen jurídico”. Diego Marin-Barnuevo Fabo. Catedrático en la Universidad Autónoma de Madrid. Of counsel en Pérez-Llorca.\n10:45 – 11:15. Atsedena.\n11:15 – 12:30. “El IIVTNU: Acciones municipales tras la reforma de las Normas Forales reguladoras del impuesto”. Maria Jose Cano Cueli. Tesorera del Ayuntamiento de Getxo.\n12:30 – 13:30. Tokiko Zuzenbidearen Euskal Behatokia.
URL:https://noticias.eudel.eus/evento/0930-h-bilbao-xvi-edicion-%e2%80%a2-seminario-vasco-de-derecho-local-primera-sesion/
LOCATION:Bilbao. Universidad de Deusto.\, calle Ramón Rubial\,1 kalea.
END:VEVENT
BEGIN:VEVENT
DTSTART;TZID=Europe/Madrid:20220328T120000
DTEND;TZID=Europe/Madrid:20220328T140000
DTSTAMP:20260421T145512
CREATED:20220325T100327Z
LAST-MODIFIED:20220325T100840Z
UID:22912-1648468800-1648476000@noticias.eudel.eus
SUMMARY:[:es]Jornada: Avance ODS en los Municipios [:eu]Jardunaldia: GHIen Aurrerapena Euskal Udalerrietan[:]
DESCRIPTION:El Palacio Villasuso de Vitoria-Gasteiz acogerá\, el próximo 28 de marzo\, la jornada “El avance de los ODS en los municipios de Euskadi”\, que organizan la Red Española para el Desarrollo Sostenible (REDS) y la Universidad del País Vasco (UPV/EHU)\, en colaboración con la Secretaría General de Transición Social y Agenda 2030 del Gobierno Vasco\, el Ayuntamiento de Vitoria-Gasteiz y Ecoembes. \n 
URL:https://noticias.eudel.eus/evento/jornada-avance-ods-en-los-municipios/
LOCATION:Palacio Villasuso (Vitoria-Gasteiz)
END:VEVENT
BEGIN:VEVENT
DTSTART;TZID=Europe/Madrid:20220329T163000
DTEND;TZID=Europe/Madrid:20220329T173000
DTSTAMP:20260421T145512
CREATED:20220329T063811Z
LAST-MODIFIED:20220329T063811Z
UID:22922-1648571400-1648575000@noticias.eudel.eus
SUMMARY:[:es]Asamblea General Ordinaria de Eurobasque[:eu]Eurobasquen Ohiko Bilkura Nagusia [:]
DESCRIPTION:
URL:https://noticias.eudel.eus/evento/asamblea-general-ordinaria-de-eurobasque-2/
LOCATION:Bilbao
END:VEVENT
BEGIN:VEVENT
DTSTART;TZID=Europe/Madrid:20220330T100000
DTEND;TZID=Europe/Madrid:20220330T120000
DTSTAMP:20260421T145512
CREATED:20220329T064241Z
LAST-MODIFIED:20220329T064241Z
UID:22926-1648634400-1648641600@noticias.eudel.eus
SUMMARY:[:es]Pleno del Consejo Vasco para la Promoción de la Accesibilidad [:eu]Irisgarritasuna Sustatzeko Euskal Kontseiluaren Osoko Bilkura [:]
DESCRIPTION:
URL:https://noticias.eudel.eus/evento/pleno-del-consejo-vasco-para-la-promocion-de-la-accesibilidad/
LOCATION:Vitoria-Gasteiz\, ARABA
END:VEVENT
BEGIN:VEVENT
DTSTART;TZID=Europe/Madrid:20220330T120000
DTEND;TZID=Europe/Madrid:20220330T140000
DTSTAMP:20260421T145512
CREATED:20220329T092448Z
LAST-MODIFIED:20220329T092448Z
UID:22933-1648641600-1648648800@noticias.eudel.eus
SUMMARY:[:es]Consejo Vasco de Espectáculos Públicos y Actividades Recreativas[:eu]Jendaurreko Ikuskizunen eta Jolas Jardueren Euskal Kontseilua[:]
DESCRIPTION:
URL:https://noticias.eudel.eus/evento/consejo-vasco-de-espectaculos-publicos-y-actividades-recreativas-2/
LOCATION:Vitoria-Gasteiz\, ARABA
END:VEVENT
BEGIN:VEVENT
DTSTART;TZID=Europe/Madrid:20220331T130000
DTEND;TZID=Europe/Madrid:20220331T150000
DTSTAMP:20260421T145512
CREATED:20220329T064525Z
LAST-MODIFIED:20220329T064525Z
UID:22928-1648731600-1648738800@noticias.eudel.eus
SUMMARY:[:es]Consejo Asesor de Atención Primaria en Euskadi[:eu]Euskadiko Lehen Mailako Arretarako Aholku Batzordea[:]
DESCRIPTION:
URL:https://noticias.eudel.eus/evento/consejo-asesor-de-atencion-primaria-en-euskadi/
LOCATION:Bilbao
END:VEVENT
BEGIN:VEVENT
DTSTART;TZID=Europe/Madrid:20220331T154500
DTEND;TZID=Europe/Madrid:20220331T171500
DTSTAMP:20260421T145512
CREATED:20220329T064645Z
LAST-MODIFIED:20220329T064645Z
UID:22930-1648741500-1648746900@noticias.eudel.eus
SUMMARY:[:es]Comisión Permanente del Consejo Escolar de Euskadi[:eu]Euskadiko Eskola Kontseiluaren Batzorde Iraunkorra[:]
DESCRIPTION:
URL:https://noticias.eudel.eus/evento/comision-permanente-del-consejo-escolar-de-euskadi-3/
LOCATION:Bilbao.
END:VEVENT
END:VCALENDAR