BEGIN:VCALENDAR
VERSION:2.0
PRODID:-//EUDEL Noticias | Asociación de Municipios Vascos - ECPv6.5.1.3//NONSGML v1.0//EN
CALSCALE:GREGORIAN
METHOD:PUBLISH
X-WR-CALNAME:EUDEL Noticias | Asociación de Municipios Vascos
X-ORIGINAL-URL:https://noticias.eudel.eus/eu
X-WR-CALDESC:Events for EUDEL Noticias | Asociación de Municipios Vascos
REFRESH-INTERVAL;VALUE=DURATION:PT1H
X-Robots-Tag:noindex
X-PUBLISHED-TTL:PT1H
BEGIN:VTIMEZONE
TZID:Europe/Madrid
BEGIN:DAYLIGHT
TZOFFSETFROM:+0100
TZOFFSETTO:+0200
TZNAME:CEST
DTSTART:20220327T010000
END:DAYLIGHT
BEGIN:STANDARD
TZOFFSETFROM:+0200
TZOFFSETTO:+0100
TZNAME:CET
DTSTART:20221030T010000
END:STANDARD
END:VTIMEZONE
BEGIN:VEVENT
DTSTART;TZID=Europe/Madrid:20220603T103000
DTEND;TZID=Europe/Madrid:20220603T110000
DTSTAMP:20260421T103938
CREATED:20220603T092719Z
LAST-MODIFIED:20220608T131326Z
UID:23077-1654252200-1654254000@noticias.eudel.eus
SUMMARY:[:es]Comisión de Ordenación del Territorio del País Vasco. Sección de planeamiento urbanístico de Gipuzkoa.[:eu]Euskal Autonomia Erkidegoko Lurralde Antolamendurako Batzordea. Gipuzkoako hirigintza plangintzarako atala.[:]
DESCRIPTION:EUDELen ordezkaria: \n\nAdur Ezenarro Agirre\, Ordiziako alkatea
URL:https://noticias.eudel.eus/eu/evento/comision-de-ordenacion-del-territorio-del-pais-vasco-seccion-de-planeamiento-urbanistico-de-gipuzkoa/
LOCATION:Vitoria-Gasteiz\, ARABA
END:VEVENT
BEGIN:VEVENT
DTSTART;TZID=Europe/Madrid:20220605T120000
DTEND;TZID=Europe/Madrid:20220605T140000
DTSTAMP:20260421T103938
CREATED:20220606T065458Z
LAST-MODIFIED:20220606T080555Z
UID:23101-1654430400-1654437600@noticias.eudel.eus
SUMMARY:[:es]Arkaute (Vitoria-Gasteiz). Acto institucional anual de homenaje a agentes de la Ertzaintza[:eu]Arkaute (Vitoria-Gasteiz). Ertzaintzaren agenteei omenetzeko urteko ekitaldi instituzionala.[:]
DESCRIPTION:Ordezkaritza: EUDELeko elkarteburua. \nMerezimendu bereziko egintzak egin dituzten ertzainen polizia-lana aitortzeko zorion-adierazpenak eta kondekorazioak banatzeko eta zerbitzuan hildako eta ETAk hildako ertzainak omentzeko urteko ekitaldia.  Ekitaldia Lehendakaria buru izango da.
URL:https://noticias.eudel.eus/eu/evento/acto-institucional-anual-de-homenaje-a-agentes-de-la-erzaintza/
LOCATION:Arkaute (Vitoria-Gasteiz)
END:VEVENT
BEGIN:VEVENT
DTSTART;TZID=Europe/Madrid:20220606T093000
DTEND;TZID=Europe/Madrid:20220606T103000
DTSTAMP:20260421T103938
CREATED:20220603T092100Z
LAST-MODIFIED:20220608T131518Z
UID:23073-1654507800-1654511400@noticias.eudel.eus
SUMMARY:[:es]Comisión de Ordenación del Territorio del País Vasco[:eu]Euskal Autonomia Erkidegoko Lurralde Antolamendurako Batzordea[:]
DESCRIPTION:EUDELen ordezkariak: \n\nAna Oregi Bastarrika\, Vitoria-Gasteizko zinegotzia\nAsier Abaunza Robles\, Bilboko zinegotzia\nAdur Ezenarro Agirre\, Ordiziako alkatea
URL:https://noticias.eudel.eus/eu/evento/comision-de-ordenacion-del-territorio-del-pais-vasco-7/
LOCATION:Vitoria-Gasteiz\, ARABA
END:VEVENT
BEGIN:VEVENT
DTSTART;TZID=Europe/Madrid:20220606T103000
DTEND;TZID=Europe/Madrid:20220606T110000
DTSTAMP:20260421T103938
CREATED:20220603T092456Z
LAST-MODIFIED:20220608T131145Z
UID:23075-1654511400-1654513200@noticias.eudel.eus
SUMMARY:[:es]Comisión de Ordenación del Territorio del País Vasco. Sección de planeamiento urbanístico de Álava.[:eu]Euskal Autonomia Erkidegoko Lurralde Antolamendurako Batzordea. Arabako hirigintza plangintzarako atala.[:]
DESCRIPTION:EUDELen ordezkaria: \n\nAna Oregi Bastarrika\, Vitoria-Gasteizko zinegotzia
URL:https://noticias.eudel.eus/eu/evento/comision-de-ordenacion-del-territorio-del-pais-vasco-seccion-de-planeamiento-urbanistico-de-alava/
LOCATION:Vitoria-Gasteiz\, ARABA
END:VEVENT
BEGIN:VEVENT
DTSTART;TZID=Europe/Madrid:20220606T110000
DTEND;TZID=Europe/Madrid:20220606T113000
DTSTAMP:20260421T103938
CREATED:20220603T092818Z
LAST-MODIFIED:20220608T123855Z
UID:23079-1654513200-1654515000@noticias.eudel.eus
SUMMARY:[:es]Comisión de Ordenación del Territorio del País Vasco. Sección de planeamiento urbanístico de Bizkaia.[:eu]Euskal Autonomia Erkidegoko Lurralde Antolamendurako Batzordea. Bizkaiko hirigintza plangintzarako atala.[:]
DESCRIPTION:EUDELen ordezkaria: \n\nAsier Abaunza Robles\, Bilboko zinegotzia
URL:https://noticias.eudel.eus/eu/evento/comision-de-ordenacion-del-territorio-del-pais-vasco-seccion-de-planeamiento-urbanistico-de-bizkaia/
LOCATION:Vitoria-Gasteiz\, ARABA
END:VEVENT
BEGIN:VEVENT
DTSTART;TZID=Europe/Madrid:20220608T093000
DTEND;TZID=Europe/Madrid:20220608T123000
DTSTAMP:20260421T103938
CREATED:20220603T092956Z
LAST-MODIFIED:20221104T142103Z
UID:23082-1654680600-1654691400@noticias.eudel.eus
SUMMARY:[:es]Secretarios Generales del Consejo de Municipios y Regiones de Europa (CMRE)[:eu]Europako Udal eta Eskualdeen Kontseiluaren Idazkari nagusiak.[:]
DESCRIPTION:EUDELeko parte-hartzaileak: \n\nMaría del Mar Zabala\, EUDELeko Zuzendaria
URL:https://noticias.eudel.eus/eu/evento/secretarios-generales-del-consejo-de-municipios-y-regiones-de-europa-cmre-8/
LOCATION:Bideokonferentziaren bitartez bilera
END:VEVENT
BEGIN:VEVENT
DTSTART;TZID=Europe/Madrid:20220608T100000
DTEND;TZID=Europe/Madrid:20220608T120000
DTSTAMP:20260421T103938
CREATED:20220603T093140Z
LAST-MODIFIED:20220617T122347Z
UID:23084-1654682400-1654689600@noticias.eudel.eus
SUMMARY:[:es]Junta Directiva de Innobasque[:eu]Innobasqueren Zuzendaritza Batzordea[:]
DESCRIPTION:EUDELen ordezkaria: \n\nAitziber Oliban Gutierrez\, Erandioko alkatea\, EUDELeko Batzorde Eragileko bocala
URL:https://noticias.eudel.eus/eu/evento/junta-directiva-de-innobasque/
LOCATION:Zamudio (Bizkaia)
END:VEVENT
BEGIN:VEVENT
DTSTART;TZID=Europe/Madrid:20220608T160000
DTEND;TZID=Europe/Madrid:20220608T173000
DTSTAMP:20260421T103938
CREATED:20220603T093411Z
LAST-MODIFIED:20220608T123824Z
UID:23086-1654704000-1654709400@noticias.eudel.eus
SUMMARY:[:es]Consejo de Dirección de Emakunde-Instituto  Vasco de la Mujer[:eu]Emakunde-Emakumearen Euskal  Erakundearen Zuzendaritza Kontseilua[:]
DESCRIPTION:EUDELen ordezkariak: \n\nAne Beitia Arriola\, Elgoibarko alkatea\nAne Legarretaetxebarria Aurtenetxe\, Fruizko alkatea\nIraide Kareaga Martínez\, Barakaldoko zinegotzia
URL:https://noticias.eudel.eus/eu/evento/consejo-de-direccion-de-emakunde-instituto-vasco-de-la-mujer-3/
LOCATION:Vitoria-Gasteiz\, ARABA
END:VEVENT
BEGIN:VEVENT
DTSTART;TZID=Europe/Madrid:20220609T103000
DTEND;TZID=Europe/Madrid:20220609T113000
DTSTAMP:20260421T103938
CREATED:20220608T142436Z
LAST-MODIFIED:20220608T143302Z
UID:23152-1654770600-1654774200@noticias.eudel.eus
SUMMARY:[:es]Encuentro institucional sobre Fondos Europeos[:eu]Europako Funtsei buruzko topaketa instituzionala[:]
DESCRIPTION:EUDELen eta Eusko Jaurlaritzaren arteko topaketa\, Next Generation Europako Funtsen arloan udalei ematen zaien zerbitzuari buruz \nParte-hartzaileak: \n\nGorka Urtaran\, EUDELeko elkarteburua.\nJose Antonio Santano\, EUDELeko elkarteburuordea\nIñigo Gaztelu\, EUDELeko Batzorde Eragileko bokala\nMar Zabala\,  EUDELeko zuzendari nagusia\nPedro Azpiazu\, Ekonomia eta Ogasuneko sailburua.\nIñaki Barredo\, Ogasun eta Ekonomia Saileko Kohesio Politikaren eta Europako Funtsen zuzendaria\nYurdana Burgoa\, Ogasun eta Ekonomia Saileko Kabineteko zuzendaria
URL:https://noticias.eudel.eus/eu/evento/eudel-bilbao-encuentro-institucional-sobre-fondos-europeos/
LOCATION:EUDELen egoitza. Bilbao\, Ertzilla kalea 13 / c/ Ercilla\, nº 13\, BILBAO\, 48009
END:VEVENT
BEGIN:VEVENT
DTSTART;TZID=Europe/Madrid:20220609T113000
DTEND;TZID=Europe/Madrid:20220609T123000
DTSTAMP:20260421T103938
CREATED:20220608T143229Z
LAST-MODIFIED:20220608T143229Z
UID:23154-1654774200-1654777800@noticias.eudel.eus
SUMMARY:[:es]Valoración del encuentro sobre Fondos Europeos[:eu]Europako Funtsei buruzko topaketaren balorazioa[:]
DESCRIPTION:EUDELen eta Eusko Jaurlaritzaren arteko topaketa\, Next Generation Europako Funtsen arloan udalei ematen zaien zerbitzuari buruz \nParte-hartzaileak: \n\nGorka Urtaran\, EUDELeko elkarteburua.\nJose Antonio Santano\, EUDELeko elkarteburuordea\nIñigo Gaztelu\, EUDELeko Batzorde Eragileko bokala\nMar Zabala\,  EUDELeko zuzendari nagusia\nPedro Azpiazu\, Ekonomia eta Ogasuneko sailburua.\nIñaki Barredo\,Ogasun eta Ekonomia Saileko Kohesio Politikaren eta Europako Funtsen zuzendaria\nYurdana Burgoa\, Ogasun eta Ekonomia Saileko Kabineteko zuzendaria
URL:https://noticias.eudel.eus/eu/evento/valoracion-del-encuentro-sobre-fondos-europeos/
LOCATION:EUDELen egoitza. Bilbao\, Ertzilla kalea 13 / c/ Ercilla\, nº 13\, BILBAO\, 48009
END:VEVENT
BEGIN:VEVENT
DTSTART;TZID=Europe/Madrid:20220609T123000
DTEND;TZID=Europe/Madrid:20220609T143000
DTSTAMP:20260421T103938
CREATED:20220603T093458Z
LAST-MODIFIED:20220603T093458Z
UID:23088-1654777800-1654785000@noticias.eudel.eus
SUMMARY:[:es]Comisión Ejecutiva de EUDEL[:eu]EUDELen Batzorde Eragilea[:]
DESCRIPTION:
URL:https://noticias.eudel.eus/eu/evento/comision-ejecutiva-de-eudel-24/
LOCATION:EUDELen egoitza. Bilbao\, Ertzilla kalea 13 / c/ Ercilla\, nº 13\, BILBAO\, 48009
END:VEVENT
BEGIN:VEVENT
DTSTART;TZID=Europe/Madrid:20220609T160000
DTEND;TZID=Europe/Madrid:20220609T180000
DTSTAMP:20260421T103938
CREATED:20220607T101405Z
LAST-MODIFIED:20220608T123916Z
UID:23114-1654790400-1654797600@noticias.eudel.eus
SUMMARY:[:es]Consejo Territorial de Administración Local y Finanzas de Álava[:eu]Arabako Toki Administrazioko eta Finantzetako Lurralde Kontseilua[:]
DESCRIPTION:EUDELen Ordezkariak: \n Añanako Kuadrilla:  \n\nTitularra: Juan Muñoz Bartolomé\, Alcalde de Armiñón\nOrdezkoa: Eduardo Fernández de Pinedo González\, Alcalde de Kuartango\n\n Aiarako Kuadrilla:  \n\nTitularra: Txerra Molinuevo Laña\, Alcalde de Amurrio\nOrdezkoa: Jon Eskuza del Campo\, Alcalde de Okondo\n\n Kanpezuko-Arabako Mendialdeko Kuadrilla: \n\nTitularra: Rosa Mª Ibarrondo Manzanos\, Alcaldesa de Valle de Arana\nOrdezkoa: Ruben Martinez Crespo\, Alcalde de Bernedo\n\n Guardia-Arabako Errioxako Kuadrilla: \n\nTitularra: Laura Pérez Borinaga\, Alcaldesa de Labastida\nOrdezkoa: Iñaki Pérez Berrueco\, Alcalde de Villabuena de Álava\n\n Arabako Lautadako Kuadrilla: \n\nTitularra: Joseba Koldo Garitagoitia Odria\, Alcalde de Alegría-Dulantzi\nOrdezkoa:\n\n Vitoria-Gasteizko Kuadrilla:  \n\nTitularra: Iñaki Gurtubai Artetxe\, Concejal de Vitoria-Gasteiz\nOrdezkoa: Ana Isabel Oregi Bastarrika\, Concejala de Vitoria-Gasteiz\n\n Gorbeialdeako Kuadrilla: \n\nTitularra: Unai Gutierrez Urkiza\, Alcalde de Zuia\nOrdezkoa: Xabier Álvarez de Arcaya Fernández de Landa\, Alcalde de Urkabustaiz
URL:https://noticias.eudel.eus/eu/evento/consejo-territorial-de-administracion-local-y-finanzas-de-alava-7/
LOCATION:Vitoria-Gasteiz\, ARABA
END:VEVENT
BEGIN:VEVENT
DTSTART;TZID=Europe/Madrid:20220609T170000
DTEND;TZID=Europe/Madrid:20220609T183000
DTSTAMP:20260421T103938
CREATED:20220603T094029Z
LAST-MODIFIED:20220608T123238Z
UID:23090-1654794000-1654799400@noticias.eudel.eus
SUMMARY:[:es]Comité Interinstitucional del PCTI (Plan de Ciencia\, Tecnología e Innovación)[:eu]Zientzia\, Teknologia eta Berrikuntzako Planaren Erakunde Batzordea[:]
DESCRIPTION:EUDELen ordezkaria: Gorka Urtaran Agirre\, Vitoria-Gasteizko alkatea\, EUDELeko Batzorde Eragileko elkarteburua \n\n\nElkarteburuaren ordez\, joango da: Aitziber Oliban Gutiérrez\, Erandioko alkatea\, EUDELeko Batzorde Eragileko bocala\n\n\n\n 
URL:https://noticias.eudel.eus/eu/evento/comite-interinstitucional-del-pcti-plan-de-ciencia-tecnologia-e-innovacion/
LOCATION:Bilbao
END:VEVENT
BEGIN:VEVENT
DTSTART;TZID=Europe/Madrid:20220610T093000
DTEND;TZID=Europe/Madrid:20220610T133000
DTSTAMP:20260421T103938
CREATED:20220610T114943Z
LAST-MODIFIED:20220621T123848Z
UID:23184-1654853400-1654867800@noticias.eudel.eus
SUMMARY:[:es]09:30 h. Bilbao. XVI edición • Seminario Vasco de Derecho Local. Tercera sesión.[:eu]09:30 h. Bilbao. XVI. edizioa • Toki Zuzenbidearen Euskal Mintegia. Hirugarren saioa.[:]
DESCRIPTION:9:30 – 10:45.  “Formulas prácticas de contratación pública en relación con contratos financiados\ncon el MRR”. Fco. Javier Vázquez Matilla. Abokatua. Zuzenbidean doktorea.\n10:45 – 11:15. Atsedena.\n11:15 – 12:30. El control de los fondos derivados del Plan de Recuperación\, Transformación y\nResiliencia. Alfredo Barrio Gil. Gasteizko udaleko kontuhartzailea.\n12:30 – 13:30. Tokiko Zuzenbidearen Euskal Behatokia.
URL:https://noticias.eudel.eus/eu/evento/bilbao-0930-h-xvi-edicion-seminario-vasco-de-derecho-local-quinta-sesion/
LOCATION:Bilbao. Deustuko Unibertsitatea\, calle Ramón Rubial\,1 kalea.
END:VEVENT
BEGIN:VEVENT
DTSTART;TZID=Europe/Madrid:20220610T100000
DTEND;TZID=Europe/Madrid:20220610T120000
DTSTAMP:20260421T103938
CREATED:20220603T094143Z
LAST-MODIFIED:20220617T122200Z
UID:23092-1654855200-1654862400@noticias.eudel.eus
SUMMARY:[:es]Consejo Vasco de Familia[:eu]Familiaren Euskal Kontseilua[:]
DESCRIPTION:EUDELen ordezkariak: \n\nEkaitz Mentxaka Corral\, Ugao-Miraballesko alkatea\nNekane Arrizabalaga Manterola\, Aiako alkatea\nExabier Arrieta Galarraga\, Basauriko zinegotzia
URL:https://noticias.eudel.eus/eu/evento/consejo-vasco-de-familia-3/
LOCATION:Vitoria-Gasteiz\, ARABA
END:VEVENT
BEGIN:VEVENT
DTSTART;TZID=Europe/Madrid:20220611T120000
DTEND;TZID=Europe/Madrid:20220611T140000
DTSTAMP:20260421T103938
CREATED:20220610T104056Z
LAST-MODIFIED:20220627T104114Z
UID:23174-1654948800-1654956000@noticias.eudel.eus
SUMMARY:[:es]Portugalete. Acto del 700 Aniv. Villa de Portugalete[:eu]Portugalete. Portugalete hiriaren zapigarren 700. urteurrena ospatzeko ekitaldi instituzionala[:]
DESCRIPTION:UDELeko elkarteburua\, Gorka Urtaran\, bertaratuko da Portugalete hiriaren zazpigarren mendeurrena (1322-2022) ospatzeko ekitaldira.
URL:https://noticias.eudel.eus/eu/evento/portugalete-12-00-h-acto-del-700-aniv-villa-de-portugalete/
LOCATION:Portugalete
END:VEVENT
BEGIN:VEVENT
DTSTART;TZID=Europe/Madrid:20220613T093000
DTEND;TZID=Europe/Madrid:20220613T110000
DTSTAMP:20260421T103938
CREATED:20220607T101814Z
LAST-MODIFIED:20220610T095200Z
UID:23116-1655112600-1655118000@noticias.eudel.eus
SUMMARY:[:es]Comparecencia en Parlamento Vasco - Proyecto de ley del sistema vasco de garantía de ingresos y para la inclusión[:eu]Agerraldia Eusko Legebiltzarrean - Gizarteratzeko eta Diru Sarrerak Bermatzeko Euskal Sistemaren Lege Proiektua[:]
DESCRIPTION:Agertuko da: \n\nAnder Añibarro Maestre\, Laudioko alkatea\, EUDELeko Batzorde Eragileko bocala
URL:https://noticias.eudel.eus/eu/evento/comparecencia-en-parlamento-vasco-proyecto-de-ley-del-sistema-vasco-de-garantia-de-ingresos-y-para-la-inclusion/
LOCATION:bideokonferentzia
END:VEVENT
BEGIN:VEVENT
DTSTART;TZID=Europe/Madrid:20220613T113000
DTEND;TZID=Europe/Madrid:20220613T133000
DTSTAMP:20260421T103938
CREATED:20220610T115559Z
LAST-MODIFIED:20220627T103532Z
UID:23189-1655119800-1655127000@noticias.eudel.eus
SUMMARY:[:es]EUDEL Bilbao. Jornada “Proyecto piloto de diseño de procedimientos estándar interoperables”[:eu]EUDEL Bilbao. “Prozedura estandar sinplifikatu elkarreragileak diseinatzeko proiektu-pilotua” jardunaldia [:]
DESCRIPTION:
URL:https://noticias.eudel.eus/eu/evento/1130-h-eudel-bilbao-jornada-proyecto-piloto-de-diseno-de-procedimientos-estandar-interoperables/
LOCATION:EUDELen egoitza. Bilbao\, Ertzilla kalea 13 / c/ Ercilla\, nº 13\, BILBAO\, 48009
END:VEVENT
BEGIN:VEVENT
DTSTART;TZID=Europe/Madrid:20220615T090000
DTEND;TZID=Europe/Madrid:20220615T110000
DTSTAMP:20260421T103938
CREATED:20220603T094448Z
LAST-MODIFIED:20220617T122037Z
UID:23095-1655283600-1655290800@noticias.eudel.eus
SUMMARY:[:es]Asamblea General de INNOBASQUE[:eu]INNOBASQUEko Batzar Nagusia[:]
DESCRIPTION:EUDELen ordezkariak: \n\nTitularra: Gorka Urtaran Agirre\, Vitoria-Gasteizko alkatea\, EUDELeko Batzorde Eragileko elkarteburua\nOrdezkoa: Aitziber Oliban Gutierrez\, Erandioko alkatea\,  EUDELeko Batzorde Eragileko bocala
URL:https://noticias.eudel.eus/eu/evento/asamblea-general-de-innobasque/
LOCATION:BEC (Barakaldo)
END:VEVENT
BEGIN:VEVENT
DTSTART;TZID=Europe/Madrid:20220615T100000
DTEND;TZID=Europe/Madrid:20220615T120000
DTSTAMP:20260421T103938
CREATED:20220603T094630Z
LAST-MODIFIED:20220617T121951Z
UID:23098-1655287200-1655294400@noticias.eudel.eus
SUMMARY:[:es]Consejo de Seguridad Pública de Euskadi[:eu]Euskadiko Segurtasun Publikoaren Kontseilua[:]
DESCRIPTION:EUDELen ordezkaria: \n\nAger Izagirre Loroño\, Mungiako alkatea\, EUDELeko Batzorde Eragileko bocala
URL:https://noticias.eudel.eus/eu/evento/consejo-de-seguridad-publica-de-euskadi-4/
LOCATION:Vitoria-Gasteiz\, ARABA
END:VEVENT
BEGIN:VEVENT
DTSTART;TZID=Europe/Madrid:20220615T160000
DTEND;TZID=Europe/Madrid:20220615T180000
DTSTAMP:20260421T103938
CREATED:20220610T104328Z
LAST-MODIFIED:20220627T103551Z
UID:23178-1655308800-1655316000@noticias.eudel.eus
SUMMARY:[:es]Bilbao (Azkuna Zentroa). Pacto de país por la igualdad.[:eu]Bilbo (Azkuna Zentroa). Berdintasunaren aldeko Herri Itunaren aurkezpena. [:]
DESCRIPTION:Ane Beitia\, EUDELeko Batzorde Eragilearen ordezkaria bertaratuko da Berdintasunaren eta emakumeen aurkako indarkeriarik gabeko bizitzen aldeko Herri Itunaren aurkezpenera.
URL:https://noticias.eudel.eus/eu/evento/16-00-h-bilbao-azkuna-zentroa-pacto-de-pais-por-la-igualdad/
LOCATION:Bilbao
END:VEVENT
BEGIN:VEVENT
DTSTART;TZID=Europe/Madrid:20220616T090000
DTEND;TZID=Europe/Madrid:20220616T110000
DTSTAMP:20260421T103938
CREATED:20220610T081113Z
LAST-MODIFIED:20220610T081113Z
UID:23169-1655370000-1655377200@noticias.eudel.eus
SUMMARY:[:es]Comisión Territorial de Bizkaia de EUDEL[:eu]EUDELen Bizkaiako Lurralde Batzordea[:]
DESCRIPTION:
URL:https://noticias.eudel.eus/eu/evento/comision-territorial-de-bizkaia-de-eudel-21/
LOCATION:EUDELen egoitza. Bilbao\, Ertzilla kalea 13 / c/ Ercilla\, nº 13\, BILBAO\, 48009
END:VEVENT
BEGIN:VEVENT
DTSTART;TZID=Europe/Madrid:20220616T090000
DTEND;TZID=Europe/Madrid:20220616T110000
DTSTAMP:20260421T103938
CREATED:20220610T111441Z
LAST-MODIFIED:20220627T103413Z
UID:23180-1655370000-1655377200@noticias.eudel.eus
SUMMARY:[:es]Telemática. Comisión de Liderazgo Agenda 2030 Euskadi [:eu]Telematikoa. 2030 Euskadi Agendaren lidergo-batzordea[:]
DESCRIPTION:
URL:https://noticias.eudel.eus/eu/evento/900-h-telematica-comision-de-liderazgo-agenda-2030-euskadi/
LOCATION:Bideokonferentziaren bitartez bilera
END:VEVENT
BEGIN:VEVENT
DTSTART;TZID=Europe/Madrid:20220616T130000
DTEND;TZID=Europe/Madrid:20220616T150000
DTSTAMP:20260421T103938
CREATED:20220610T081228Z
LAST-MODIFIED:20220610T081228Z
UID:23171-1655384400-1655391600@noticias.eudel.eus
SUMMARY:[:es]Comisión Territorial de Álava de EUDEL[:eu]EUDELeko Arabako Lurralde Batzordea[:]
DESCRIPTION:
URL:https://noticias.eudel.eus/eu/evento/comision-territorial-de-alava-de-eudel-14/
LOCATION:Bideokonferentziaren bitartez bilera
END:VEVENT
BEGIN:VEVENT
DTSTART;TZID=Europe/Madrid:20220617T100000
DTEND;TZID=Europe/Madrid:20220617T120000
DTSTAMP:20260421T103938
CREATED:20220610T130455Z
LAST-MODIFIED:20220617T121838Z
UID:23196-1655460000-1655467200@noticias.eudel.eus
SUMMARY:[:es]Junta de Gobierno Elkarkidetza[:eu]Elkarkidetzako Gobernu Batzordea[:]
DESCRIPTION:EUDELen ordezkariak: \n\nAger Izagirre Loroño\, Mungiako alkatea\nGonzalo Olabarria Villota\, Bilboko zinegotzia\nRoberto Muñoz García\, Barrikako alkatea\nExabier Arrieta Galarraga\, Basauriko zinegotzia
URL:https://noticias.eudel.eus/eu/evento/junta-de-gobierno-elkarkidetza-4/
LOCATION:Bilbao
END:VEVENT
BEGIN:VEVENT
DTSTART;TZID=Europe/Madrid:20220617T120000
DTEND;TZID=Europe/Madrid:20220617T140000
DTSTAMP:20260421T103938
CREATED:20220613T094806Z
LAST-MODIFIED:20220613T094855Z
UID:23198-1655467200-1655474400@noticias.eudel.eus
SUMMARY:[:es]Comisión Territorial de Gipuzkoa de EUDEL[:eu]EUDELeko Gipuzkoako Lurralde Batzordea.[:]
DESCRIPTION:
URL:https://noticias.eudel.eus/eu/evento/1200-h-comision-territorial-de-gipuzkoa-de-eudel/
LOCATION:Bideokonferentziaren bitartez bilera
END:VEVENT
BEGIN:VEVENT
DTSTART;TZID=Europe/Madrid:20220620T120000
DTEND;TZID=Europe/Madrid:20220620T140000
DTSTAMP:20260421T103938
CREATED:20220615T094506Z
LAST-MODIFIED:20220627T103505Z
UID:23211-1655726400-1655733600@noticias.eudel.eus
SUMMARY:[:es]Reunión informativa: Recuento conjunto exclusión residencial grave.[:eu]Informazio-saioa: Bizitegi-bazterketa larriaren zenbaketa bateratua.[:]
DESCRIPTION:(barne-bilera eta telematikoa) \nGaia: Informazio-saioa: EAEko muturreko egoitza-bazterkeriako egoeran dauden biztanleak kuantifikatzeko eta horien ezaugarriak zehazteko V. zenbaketa bateratua \nDeialdia: Eusko Jaurlaritza. \nParte-hartzaileak: EUDEL-Udal eta mankomunitateak\, Eusko Jaurlaritzako Enplegu eta Gizarte Politiketako Saila eta hiru foru-aldundiak)
URL:https://noticias.eudel.eus/eu/evento/1200-reunion-informativa-recuento-conjunto-exclusion-residencial-grave/
LOCATION:Bideokonferentziaren bitartez bilera
END:VEVENT
BEGIN:VEVENT
DTSTART;TZID=Europe/Madrid:20220621T093000
DTEND;TZID=Europe/Madrid:20220621T113000
DTSTAMP:20260421T103938
CREATED:20220615T095326Z
LAST-MODIFIED:20220627T103358Z
UID:23215-1655803800-1655811000@noticias.eudel.eus
SUMMARY:[:es]EUDEL\, EJ-GV. Webinar: Plan de Medidas Antifraude (Fondos Next[:eu]EUDEL\, EJ-GV. Webinarra: Iruzurraren aurkako neurrien Plana (Next Funtsak)[:]
DESCRIPTION:Antolatzaileak: EUDEL eta Eusko Jaurlaritza (Ekonomia eta Ogasun Saila) \nGaia: Eusko Jaurlaritzaren Iruzurraren aurkako neurrien Plana aurkezpena\, EAEko toki-erakundeentzako eredu gisa \nGorka Urtaranek\, EUDELeko elkarteburuak\, hasiera emango dio saioari. \nPlanaren azalpena Iñaki Barredok\, Eusko Jaurlaritzako Ekonomia eta Europako Funtsen sailburuordeak\, emango du. \nEudel Next EU! Informazio/orientazio zerbitzuan eskuragarri dauden dokumentuak: https://next.eudel.eus/eus/prest.php
URL:https://noticias.eudel.eus/eu/evento/eu-930-eudel-ej-gv-webinarra-iruzurraren-aurkako-neurrien-plana-next-funtsak/
LOCATION:EUDELen egoitza. Bilbao\, Ertzilla kalea 13 / c/ Ercilla\, nº 13\, BILBAO\, 48009
END:VEVENT
BEGIN:VEVENT
DTSTART;TZID=Europe/Madrid:20220621T103000
DTEND;TZID=Europe/Madrid:20220621T120000
DTSTAMP:20260421T103938
CREATED:20220615T094836Z
LAST-MODIFIED:20220627T103337Z
UID:23213-1655807400-1655812800@noticias.eudel.eus
SUMMARY:[:es]EUDEL. Grupo técnico Gipuzkoa servicios sociales.[:eu]EUDEL. Gipuzkoako udaletako gizarte-zerbitzuetako taldea.[:]
DESCRIPTION:Gipuzkoako udaletako gizarte-zerbitzuetako talde teknikoa \nGaia: Bazterkeriaren arloko azterketa- eta hausnarketa-prozesua \n(barne-bilera eta telematikoa) \n 
URL:https://noticias.eudel.eus/eu/evento/10-30-eudel-grupo-tecnico-gipuzkoa-servicios-sociales/
LOCATION:Bideokonferentziaren bitartez bilera
END:VEVENT
BEGIN:VEVENT
DTSTART;TZID=Europe/Madrid:20220622T100000
DTEND;TZID=Europe/Madrid:20220622T120000
DTSTAMP:20260421T103938
CREATED:20220617T115901Z
LAST-MODIFIED:20220617T121415Z
UID:23227-1655892000-1655899200@noticias.eudel.eus
SUMMARY:[:es]Comisión de Protección Civil de Euskadi[:eu]Euskadiko Babes Zibilerako Batzordea[:]
DESCRIPTION:EUDELen ordezkariak: \n\nIban Rodríguez Etxebarria\, Leioako alkatea \nAndoni Agirrebeitia Abendibar\, Amorebieta-Etxanoko alkatea \nGorka Murua Macuso\, Irurako alkatea
URL:https://noticias.eudel.eus/eu/evento/comision-de-proteccion-civil-de-euskadi-3/
LOCATION:Vitoria-Gasteiz\, ARABA
END:VEVENT
END:VCALENDAR